BEGIN:VCALENDAR
VERSION:2.0
PRODID:-//Kino Vrhnika - ECPv6.7.1//NONSGML v1.0//EN
CALSCALE:GREGORIAN
METHOD:PUBLISH
X-WR-CALNAME:Kino Vrhnika
X-ORIGINAL-URL:https://kino-vrhnika.si
X-WR-CALDESC:Dogodki za Kino Vrhnika
REFRESH-INTERVAL;VALUE=DURATION:PT1H
X-Robots-Tag:noindex
X-PUBLISHED-TTL:PT1H
BEGIN:VTIMEZONE
TZID:Europe/Ljubljana
BEGIN:DAYLIGHT
TZOFFSETFROM:+0100
TZOFFSETTO:+0200
TZNAME:CEST
DTSTART:20240331T010000
END:DAYLIGHT
BEGIN:STANDARD
TZOFFSETFROM:+0200
TZOFFSETTO:+0100
TZNAME:CET
DTSTART:20241027T010000
END:STANDARD
END:VTIMEZONE
BEGIN:VEVENT
DTSTART;TZID=Europe/Ljubljana:20241102T170000
DTEND;TZID=Europe/Ljubljana:20241102T190000
DTSTAMP:20260426T023552
CREATED:20241002T150000Z
LAST-MODIFIED:20241031T180111Z
UID:8822-1730566800-1730574000@kino-vrhnika.si
SUMMARY:Divja robotka
DESCRIPTION:“Divja robotka” (2024)\, animirana priredba priljubljene knjige Petra Browna\, spremlja zgodbo Roz\, napredne robotke\, ki po brodolomu pristane na divjem otoku. Roz mora hitro prilagoditi svojo logično naravnanost divjemu okolju in ustvariti nenavadna prijateljstva z lokalnimi živalmi. Ko posvoji osirotelega račjega mladiča\, se nauči čustvene topline in starševske skrbi\, kar jo približa naravi in domačinom. Ko pa podjetje\, ki jo je izdelalo\, želi izkoristiti vire otoka\, Roz sprejme vlogo zaščitnice nove družine in domačega okolja
URL:https://kino-vrhnika.si/predstava/divja-robotka/
ATTACH;FMTTYPE=image/png:https://kino-vrhnika.si/wp-content/uploads/2024/10/Divja-robotka-1.png
END:VEVENT
END:VCALENDAR