BEGIN:VCALENDAR
VERSION:2.0
PRODID:-//Kino Vrhnika - ECPv6.7.1//NONSGML v1.0//EN
CALSCALE:GREGORIAN
METHOD:PUBLISH
X-WR-CALNAME:Kino Vrhnika
X-ORIGINAL-URL:https://kino-vrhnika.si
X-WR-CALDESC:Dogodki za Kino Vrhnika
REFRESH-INTERVAL;VALUE=DURATION:PT1H
X-Robots-Tag:noindex
X-PUBLISHED-TTL:PT1H
BEGIN:VTIMEZONE
TZID:Europe/Ljubljana
BEGIN:DAYLIGHT
TZOFFSETFROM:+0100
TZOFFSETTO:+0200
TZNAME:CEST
DTSTART:20240331T010000
END:DAYLIGHT
BEGIN:STANDARD
TZOFFSETFROM:+0200
TZOFFSETTO:+0100
TZNAME:CET
DTSTART:20241027T010000
END:STANDARD
END:VTIMEZONE
BEGIN:VEVENT
DTSTART;TZID=Europe/Ljubljana:20241130T190000
DTEND;TZID=Europe/Ljubljana:20241130T210000
DTSTAMP:20260424T011655
CREATED:20241029T230000Z
LAST-MODIFIED:20241103T191402Z
UID:8907-1732993200-1733000400@kino-vrhnika.si
SUMMARY:Gladiator 2
DESCRIPTION:“Gladiator 2” je prihajajoči ep o zgodovinski drami\, ki nadaljuje zgodbo prvega filma “Gladiator” (2000). Režiser Ridley Scott se vrača za krmilo\, film pa sledi Luciusu\, sinu Lucille in nekdanjemu občudovalcu Maximusovega junaka. Zgodba je postavljena več let po smrti Maximusovega lika in spremlja Luciusovo pot\, ko mora vstopiti v Kolosej ter se soočiti z novimi izzivi\, vključno s tekmeci in divjimi živalmi\, da bi obnovil čast Rimu​. \nGlavno vlogo Luciusa igra Paul Mescal\, ob njem pa nastopajo Pedro Pascal\, Denzel Washington (v vlogi nekdanjega gladiatorja in prekupčevalca orožja)\, Connie Nielsen kot Lucilla\, ter Joseph Quinn in Fred Hechinger kot rimska so-cesarja​.
URL:https://kino-vrhnika.si/predstava/gladiator-2-2/
ATTACH;FMTTYPE=image/png:https://kino-vrhnika.si/wp-content/uploads/2024/10/gladiator-2-kino.png
END:VEVENT
BEGIN:VEVENT
DTSTART;TZID=Europe/Ljubljana:20241130T170000
DTEND;TZID=Europe/Ljubljana:20241130T190000
DTSTAMP:20260424T011655
CREATED:20241029T230000Z
LAST-MODIFIED:20241103T192511Z
UID:8906-1732986000-1732993200@kino-vrhnika.si
SUMMARY:Vaiana 2
DESCRIPTION:“Vaiana 2” (izvirno “Moana 2”) bo izšel 27. novembra 2024 in prinaša novo pustolovščino polinezijske junakinje Vaiane\, ki ji sledimo tri leta po dogodkih iz prvega filma. Tokrat se Vaiana skupaj z Maui in novo posadko odpravi v daljna\, nevarna morja Oceanije\, potem ko prejme skrivnostni klic svojih prednikov. Režiserji nadaljevanja so David Derrick Jr.\, Jason Hand in Dana Ledoux Miller\, film pa vključuje glasbo Grammyjevih nagrajenk Abigail Barlow in Emily Bear ter ponovno Marka Mancinija​.
URL:https://kino-vrhnika.si/predstava/vaiana-2/
ATTACH;FMTTYPE=image/png:https://kino-vrhnika.si/wp-content/uploads/2024/10/vaiana-2-moana-2-kino.png
END:VEVENT
BEGIN:VEVENT
DTSTART;TZID=Europe/Ljubljana:20241128T100000
DTEND;TZID=Europe/Ljubljana:20241128T120000
DTSTAMP:20260424T011655
CREATED:20241027T230000Z
LAST-MODIFIED:20241103T192249Z
UID:8905-1732788000-1732795200@kino-vrhnika.si
SUMMARY:Tukaj
DESCRIPTION:“Here” je drama iz leta 2024 v režiji Roberta Zemeckisa\, ki ponovno združuje Toma Hanksa in Robin Wright\, sodelavca iz legendarnega filma “Forrest Gump.” Film je nastal po grafičnem romanu Richarda McGuireja in spremlja zgodbo o eni sobi\, ki skozi desetletja postane dom številnim generacijam. Zgodba se odvija v dnevni sobi družinske hiše v Novi Angliji in prek prepletajočih se prizorov prikazuje prelomne trenutke življenja posameznikov\, ki so v njej prebivali. Film sega od prazgodovinskih časov do današnjega dne in razkriva\, kako ljubezen\, izgube in življenjske zmage vplivajo na generacije​.
URL:https://kino-vrhnika.si/predstava/tukaj/
ATTACH;FMTTYPE=image/png:https://kino-vrhnika.si/wp-content/uploads/2024/10/tukaj-here-kino-tom-hanks.png
END:VEVENT
BEGIN:VEVENT
DTSTART;TZID=Europe/Ljubljana:20241124T190000
DTEND;TZID=Europe/Ljubljana:20241124T200000
DTSTAMP:20260424T011655
CREATED:20241023T220000Z
LAST-MODIFIED:20241112T155354Z
UID:8904-1732474800-1732478400@kino-vrhnika.si
SUMMARY:Anora
DESCRIPTION:Film “Anora” (2024) v režiji Seana Bakerja sledi zgodbi mlade delavke Anore iz Brooklyna\, ki se nepričakovano poroči s sinom ruskega oligarha. Ko Ivanovi starši slišijo za poroko\, pošljejo svoje ljudi\, da jo razveljavijo. Med zmedo in nevarnimi srečanji se Anora izkaže za pogumno in neodvisno žensko. Film tematizira družbene razrede in preplet osebnih stisk v modernem okolju New Yorka​.
URL:https://kino-vrhnika.si/predstava/anora/
ATTACH;FMTTYPE=image/png:https://kino-vrhnika.si/wp-content/uploads/2024/10/anora-kino.png
END:VEVENT
BEGIN:VEVENT
DTSTART;TZID=Europe/Ljubljana:20241124T170000
DTEND;TZID=Europe/Ljubljana:20241124T190000
DTSTAMP:20260424T011655
CREATED:20241023T220000Z
LAST-MODIFIED:20241103T191635Z
UID:8903-1732467600-1732474800@kino-vrhnika.si
SUMMARY:Otroci divjega zahoda
DESCRIPTION:Otroci divjega zahoda” je španski animirani film\, ki spremlja zgodbo irskih sirot Mary in Toma\, ki leta 1886 prispeta v New York in se nato podata na dolgo potovanje po ameriških prerijah\, da bi našla svojega strica. Na poti srečata nove prijatelje\, kot je Nick\, ki uporablja voziček. Film prinaša napete dogodivščine\, v katerih trojica premaga številne ovire\, se spopada z banditi in lovci na zlato ter spoznava staroselsko pleme. Njihovo prijateljstvo in iznajdljivost jim pomagata v nevarnostih\, dokler nazadnje ne najdejo pravega doma.
URL:https://kino-vrhnika.si/predstava/otroci-divjega-zahoda/
ATTACH;FMTTYPE=image/png:https://kino-vrhnika.si/wp-content/uploads/2024/10/otroci-divjega-zahoda-2.png
END:VEVENT
BEGIN:VEVENT
DTSTART;TZID=Europe/Ljubljana:20241122T190000
DTEND;TZID=Europe/Ljubljana:20241122T223000
DTSTAMP:20260424T011655
CREATED:20240930T220000Z
LAST-MODIFIED:20241103T191317Z
UID:8908-1732302000-1732314600@kino-vrhnika.si
SUMMARY:Gladiator 2
DESCRIPTION:“Gladiator 2” je prihajajoči ep o zgodovinski drami\, ki nadaljuje zgodbo prvega filma “Gladiator” (2000). Režiser Ridley Scott se vrača za krmilo\, film pa sledi Luciusu\, sinu Lucille in nekdanjemu občudovalcu Maximusovega junaka. Zgodba je postavljena več let po smrti Maximusovega lika in spremlja Luciusovo pot\, ko mora vstopiti v Kolosej ter se soočiti z novimi izzivi\, vključno s tekmeci in divjimi živalmi\, da bi obnovil čast Rimu​. \nGlavno vlogo Luciusa igra Paul Mescal\, ob njem pa nastopajo Pedro Pascal\, Denzel Washington (v vlogi nekdanjega gladiatorja in prekupčevalca orožja)\, Connie Nielsen kot Lucilla\, ter Joseph Quinn in Fred Hechinger kot rimska so-cesarja​.
URL:https://kino-vrhnika.si/predstava/gladiator-2/
ATTACH;FMTTYPE=image/png:https://kino-vrhnika.si/wp-content/uploads/2024/10/gladiator-2-kino.png
END:VEVENT
BEGIN:VEVENT
DTSTART;TZID=Europe/Ljubljana:20241117T200000
DTEND;TZID=Europe/Ljubljana:20241117T210000
DTSTAMP:20260424T011655
CREATED:20241016T220000Z
LAST-MODIFIED:20241112T153241Z
UID:8901-1731873600-1731877200@kino-vrhnika.si
SUMMARY:Jutri je še en dan
DESCRIPTION:“Jutri je še en dan” (C’è ancora domani) je italijanska komična drama iz leta 2023\, ki jo je režirala in v njej igrala Paola Cortellesi. Film je postavljen v povojni Rim in se osredotoča na Delio\, ženo in mamo treh otrok. Sredi težkega življenja v revščini se Delia spopada z nasilnim možem in sitnim tastom\, pri tem pa išče trenutke utehe v družbi prijateljice in skozi hčerino ljubezensko zgodbo. Zgodba doseže prelom\, ko prejme skrivnostno pismo\, kar ji daje nov pogled na življenje in možnosti za osvoboditev​. \nFilm je navdihnjen z italijanskim neorealizmom in izstopa po tem\, da prepleta dramo s humorjem\, s čimer obravnava resne teme\, kot so pravice žensk in nasilje v družini\, na dostopen način. Cortellesi v tej vlogi prinaša iskreno pripoved o opolnomočenju žensk\, ki pritegne gledalce vseh generacij​. \nEVROPSKI ART KINO DAN:\nEvropski art kino dan je dan praznovanja kina in raznovrstnosti evropskega filma\, ki ga organizira kinematografska mreža CICAE v sodelovanju z Eurimages in mrežo Europa Cinemas. \nPromocijska cena (Art kino dan): 4.00€
URL:https://kino-vrhnika.si/predstava/jutri-je-se-en-dan/
ATTACH;FMTTYPE=image/png:https://kino-vrhnika.si/wp-content/uploads/2024/11/Jutri.png
END:VEVENT
BEGIN:VEVENT
DTSTART;TZID=Europe/Ljubljana:20241117T180000
DTEND;TZID=Europe/Ljubljana:20241117T190000
DTSTAMP:20260424T011655
CREATED:20241007T220000Z
LAST-MODIFIED:20241112T153113Z
UID:8891-1731866400-1731870000@kino-vrhnika.si
SUMMARY:Tartinijev ključ
DESCRIPTION:V filmu “Tartinijev ključ” se otroci Mario\, Robert in Barbara spoznajo na Tartinijevem trgu\, kjer prejmejo nenavadno sporočilo\, ki jih usmeri na prvo uganko. Skrivnost vodi trojico po starodavnih piranskih ulicah\, kjer se srečujejo z raznimi liki\, vključno z dvema humoristično upodobljenima banditoma\, ki iščeta isto skrivnost. Ob podpori ekscentričnega brezdomca Ariela se otroci podajo v zapleteno mrežo ugank\, ki jih približa zgodovinskemu bogastvu Pirana in Tartinijevi zapuščini. Film poudarja pomen prijateljstva\, zvestobe in poguma. \nEVROPSKI ART KINO DAN:\nEvropski art kino dan je dan praznovanja kina in raznovrstnosti evropskega filma\, ki ga organizira kinematografska mreža CICAE v sodelovanju z Eurimages in mrežo Europa Cinemas. \nPromocijska cena (Art kino dan): 4.00€
URL:https://kino-vrhnika.si/predstava/tartinijev-kljuc-2/
ATTACH;FMTTYPE=image/jpeg:https://kino-vrhnika.si/wp-content/uploads/2024/10/TARTINIJEV-KLJUC-1080x1080px-OGLASI-20.jpg
END:VEVENT
BEGIN:VEVENT
DTSTART;TZID=Europe/Ljubljana:20241117T170000
DTEND;TZID=Europe/Ljubljana:20241117T180000
DTSTAMP:20260424T011655
CREATED:20241016T220000Z
LAST-MODIFIED:20241114T205748Z
UID:8899-1731862800-1731866400@kino-vrhnika.si
SUMMARY:Muca copatarica in prijatelji
DESCRIPTION:Muca Copatarica in prijatelji” je animirani kratki film\, ki obeležuje 65-letnico legendarne pravljice Ele Peroci o Muci Copatarici\, ki otrokom krade in popravlja copate\, če jih ne pospravijo. Animacija sledi izvirnim ilustracijam Ančke Gošnik Godec in je namenjena najmlajšim gledalcem. Glas Muci posoja igralka Silva Čušin\, glasbo je ustvaril angleški skladatelj Daniel Pemberton. Program “Muca Copatarica in prijatelji” vključuje tudi druge kratke slovenske animacije\, kot so “Hribci – Zajtrk” Marjana Mančka in “Koyaa – Vesele vilice” Kolje Saksida. Skupna dolžina je 30′ in je več kot primerna tudi za mlajše otroke\, tudi kot prvi obisk v kinu. \nEVROPSKI ART KINO DAN:\nEvropski art kino dan je dan praznovanja kina in raznovrstnosti evropskega filma\, ki ga organizira kinematografska mreža CICAE v sodelovanju z Eurimages in mrežo Europa Cinemas. \nPromocijska cena (Art kino dan): 4.00€
URL:https://kino-vrhnika.si/predstava/muca-copatarica-in-prijatelji/
ATTACH;FMTTYPE=image/png:https://kino-vrhnika.si/wp-content/uploads/2024/10/muca-copatarica-kino.png
END:VEVENT
BEGIN:VEVENT
DTSTART;TZID=Europe/Ljubljana:20241116T190000
DTEND;TZID=Europe/Ljubljana:20241116T210000
DTSTAMP:20260424T011655
CREATED:20241015T220000Z
LAST-MODIFIED:20241103T185352Z
UID:8898-1731783600-1731790800@kino-vrhnika.si
SUMMARY:Nikola Tesla: Valovi prihodnosti
DESCRIPTION:Nikola Tesla: Valovi prihodnosti je slovenski dokumentarni film iz leta 2024 v režiji Janje Glogovac. Film raziskuje življenje in delo slavnega izumitelja Nikole Tesle\, čigar prispevki so izjemno vplivali na razvoj sodobne elektrike in brezžične komunikacije. S poudarkom na Teslovi viziji o prihodnosti\, vključno z razvojem izmeničnega toka\, Teslove tuljave in brezžičnega prenosa energije\, film odkriva njegovo zapuščino\, ki še danes vpliva na tehnološki razvoj. Dokumentarec se dotakne tudi napetega odnosa med Teslo in Thomasom Edisonom\, kar je Teslo na koncu potisnilo v osamitev in relativno pozabo.
URL:https://kino-vrhnika.si/predstava/nikola-tesla-valovi-prihodnosti/
ATTACH;FMTTYPE=image/png:https://kino-vrhnika.si/wp-content/uploads/2024/10/nikola-tesla-valovi-prihodnosti-kino.png
END:VEVENT
BEGIN:VEVENT
DTSTART;TZID=Europe/Ljubljana:20241116T170000
DTEND;TZID=Europe/Ljubljana:20241116T180000
DTSTAMP:20260424T011655
CREATED:20241008T220000Z
LAST-MODIFIED:20241103T185057Z
UID:8893-1731776400-1731780000@kino-vrhnika.si
SUMMARY:Jelenček Niko 3
DESCRIPTION:V tretji pustolovščini je jelenček Niko\, že nekoliko starejši in bolj izkušen\, trdno odločen\, da postane član prestižnih Božičkovih letečih sil\, s čimer bi sledil stopinjam svojega očeta. Vendar se mu na poti k tem sanjam pojavi nepričakovana konkurenca – talentirana jelenčica Stela\, ki s svojo energijo in sposobnostmi postavi Nikove ambicije na preizkušnjo. Ko se za to pomembno mesto spopadata v treh preizkusih\, se izkaže\, da je odločilna prav zadnja\, najtežja naloga. Napetost doseže vrhunec\, ko tik pred božičnim večerom skrivnostno izginejo Božičkove sani\, kar ogrozi celoten praznični dogodek. Niko in Stela združita moči v nevarnem iskanju\, polnem humorja in presenetljivih razkritij\, ki neizogibno privede do ključnih spoznanj o zvestobi\, zaupanju in pomembnosti prijateljstva​.
URL:https://kino-vrhnika.si/predstava/jelencek-niko-3-3/
ATTACH;FMTTYPE=image/jpeg:https://kino-vrhnika.si/wp-content/uploads/2024/10/NIKO-3-1080x1080px-OGLASI-20.jpg
END:VEVENT
BEGIN:VEVENT
DTSTART;TZID=Europe/Ljubljana:20241110T190000
DTEND;TZID=Europe/Ljubljana:20241110T200000
DTSTAMP:20260424T011655
CREATED:20241009T220000Z
LAST-MODIFIED:20241103T184950Z
UID:8896-1731265200-1731268800@kino-vrhnika.si
SUMMARY:Bojevita kraljica noči
DESCRIPTION:Bojevita kraljica noči” je dokumentarni film Mateja Vraniča o skrivnostnem življenju največje evropske sove – kozače. Film predstavlja dinamične prizore narave in sledi temu čudovitemu bitju v boju za preživetje ter prikazuje njeno vlogo v ekosistemu. Občinstvo popelje v svet naravnih lepot in poudarja pomen ohranjanja narave.
URL:https://kino-vrhnika.si/predstava/bojevita-kraljica-noci/
ATTACH;FMTTYPE=image/png:https://kino-vrhnika.si/wp-content/uploads/2024/10/bojevita-kraljica-noci-kino.png
END:VEVENT
BEGIN:VEVENT
DTSTART;TZID=Europe/Ljubljana:20241110T170000
DTEND;TZID=Europe/Ljubljana:20241110T180000
DTSTAMP:20260424T011655
CREATED:20241009T220000Z
LAST-MODIFIED:20241103T183832Z
UID:8895-1731258000-1731261600@kino-vrhnika.si
SUMMARY:Jelenček Niko 3
DESCRIPTION:V tretji pustolovščini je jelenček Niko\, že nekoliko starejši in bolj izkušen\, trdno odločen\, da postane član prestižnih Božičkovih letečih sil\, s čimer bi sledil stopinjam svojega očeta. Vendar se mu na poti k tem sanjam pojavi nepričakovana konkurenca – talentirana jelenčica Stela\, ki s svojo energijo in sposobnostmi postavi Nikove ambicije na preizkušnjo. Ko se za to pomembno mesto spopadata v treh preizkusih\, se izkaže\, da je odločilna prav zadnja\, najtežja naloga. Napetost doseže vrhunec\, ko tik pred božičnim večerom skrivnostno izginejo Božičkove sani\, kar ogrozi celoten praznični dogodek. Niko in Stela združita moči v nevarnem iskanju\, polnem humorja in presenetljivih razkritij\, ki neizogibno privede do ključnih spoznanj o zvestobi\, zaupanju in pomembnosti prijateljstva.​
URL:https://kino-vrhnika.si/predstava/jelencek-niko-3-2/
ATTACH;FMTTYPE=image/jpeg:https://kino-vrhnika.si/wp-content/uploads/2024/10/NIKO-3-1080x1080px-OGLASI-20.jpg
END:VEVENT
BEGIN:VEVENT
DTSTART;TZID=Europe/Ljubljana:20241109T190000
DTEND;TZID=Europe/Ljubljana:20241109T210000
DTSTAMP:20260424T011655
CREATED:20241008T220000Z
LAST-MODIFIED:20241103T184654Z
UID:8894-1731178800-1731186000@kino-vrhnika.si
SUMMARY:Dražen
DESCRIPTION:Dražen” je dokumentarni film o življenju Dražena Petrovića\, slovitega hrvaškega košarkarja\, ki je bil izjemno priljubljen in velja za enega najboljših evropskih košarkarjev vseh časov. Film prinaša vpogled v njegovo košarkarsko kariero\, vključno z dosežki v ligi NBA\, ter osebno življenje\, vse do njegove tragične smrti. Poudarek je na njegovi strasti\, predanosti in vplivu na svetovno košarko.
URL:https://kino-vrhnika.si/predstava/drazen/
ATTACH;FMTTYPE=image/png:https://kino-vrhnika.si/wp-content/uploads/2024/10/Drazen_plakat_10801080v1.png
END:VEVENT
BEGIN:VEVENT
DTSTART;TZID=Europe/Ljubljana:20241109T170000
DTEND;TZID=Europe/Ljubljana:20241109T180000
DTSTAMP:20260424T011655
CREATED:20241015T220000Z
LAST-MODIFIED:20241103T183725Z
UID:8897-1731171600-1731175200@kino-vrhnika.si
SUMMARY:Jelenček Niko 3
DESCRIPTION:V tretji pustolovščini je jelenček Niko\, že nekoliko starejši in bolj izkušen\, trdno odločen\, da postane član prestižnih Božičkovih letečih sil\, s čimer bi sledil stopinjam svojega očeta. Vendar se mu na poti k tem sanjam pojavi nepričakovana konkurenca – talentirana jelenčica Stela\, ki s svojo energijo in sposobnostmi postavi Nikove ambicije na preizkušnjo. Ko se za to pomembno mesto spopadata v treh preizkusih\, se izkaže\, da je odločilna prav zadnja\, najtežja naloga. Napetost doseže vrhunec\, ko tik pred božičnim večerom skrivnostno izginejo Božičkove sani\, kar ogrozi celoten praznični dogodek. Niko in Stela združita moči v nevarnem iskanju\, polnem humorja in presenetljivih razkritij\, ki neizogibno privede do ključnih spoznanj o zvestobi\, zaupanju in pomembnosti prijateljstva.​
URL:https://kino-vrhnika.si/predstava/jelencek-niko-3/
ATTACH;FMTTYPE=image/jpeg:https://kino-vrhnika.si/wp-content/uploads/2024/10/NIKO-3-1080x1080px-OGLASI-20.jpg
END:VEVENT
BEGIN:VEVENT
DTSTART;TZID=Europe/Ljubljana:20241108T190000
DTEND;TZID=Europe/Ljubljana:20241108T200000
DTSTAMP:20260424T011655
CREATED:20241007T220000Z
LAST-MODIFIED:20241103T183431Z
UID:8892-1731092400-1731096000@kino-vrhnika.si
SUMMARY:Rdeči
DESCRIPTION:“Rdeči” (izvirni naslov “Red One”) je akcijsko-pustolovska komedija\, ki postavi Dwayna Johnsona in Chrisa Evansa v vlogi nenavadnega tandema na misiji reševanja Božiča. Ko ugrabitvi Božička sledi kaos\, se Johnson\, kot vodja varnosti Severnega tečaja\, združi s svetovno znanim lovcem na glave (Evans)\, da bi našla in rešila ugrabljeno praznično ikono. Film je poln akcijskih prizorov in humorja ter raziskuje prijateljstvo v svetu ekstremnih nalog. Premiera v Sloveniji je načrtovana za november 2023\, v režiji Jakea Kasdana\, glasbo pa je ustvaril Henry Jackman
URL:https://kino-vrhnika.si/predstava/rdeci/
ATTACH;FMTTYPE=image/jpeg:https://kino-vrhnika.si/wp-content/uploads/2024/10/1000x1000_RED_ONE_kino_SLO.jpg
END:VEVENT
BEGIN:VEVENT
DTSTART;TZID=Europe/Ljubljana:20241108T170000
DTEND;TZID=Europe/Ljubljana:20241108T190000
DTSTAMP:20260424T011655
CREATED:20241027T160000Z
LAST-MODIFIED:20241103T171414Z
UID:8900-1731085200-1731092400@kino-vrhnika.si
SUMMARY:Tartinijev ključ
DESCRIPTION:V filmu “Tartinijev ključ” se otroci Mario\, Robert in Barbara spoznajo na Tartinijevem trgu\, kjer prejmejo nenavadno sporočilo\, ki jih usmeri na prvo uganko. Skrivnost vodi trojico po starodavnih piranskih ulicah\, kjer se srečujejo z raznimi liki\, vključno z dvema humoristično upodobljenima banditoma\, ki iščeta isto skrivnost. Ob podpori ekscentričnega brezdomca Ariela se otroci podajo v zapleteno mrežo ugank\, ki jih približa zgodovinskemu bogastvu Pirana in Tartinijevi zapuščini. Film poudarja pomen prijateljstva\, zvestobe in poguma.
URL:https://kino-vrhnika.si/predstava/tartinijev-kljuc/
ATTACH;FMTTYPE=image/jpeg:https://kino-vrhnika.si/wp-content/uploads/2024/10/TARTINIJEV-KLJUC-1080x1080px-OGLASI-20.jpg
END:VEVENT
BEGIN:VEVENT
DTSTART;TZID=Europe/Ljubljana:20241102T190000
DTEND;TZID=Europe/Ljubljana:20241102T223000
DTSTAMP:20260424T011655
CREATED:20241001T220000Z
LAST-MODIFIED:20241031T180231Z
UID:8888-1730574000-1730586600@kino-vrhnika.si
SUMMARY:Venom: Zadnji ples
DESCRIPTION:V drugem delu zgodbe o Venomu\, nenavadnem junaku s sposobnostjo simbiotske povezave\, Eddie Brock in Venom poskušata živeti skupaj v vsakdanjem življenju\, a se pojavijo težave. Ko pa se na prizorišču pojavi Carnage\, zlobni simbiot v telesu morilca Cletusa Kasadyja\, Eddie in Venom združita moči\, da bi zaustavila to nevarno bitje. Ta akcijski triler je napolnjen z napetimi prizori in preobrati\, ki Eddieja in Venoma silijo v odločilne trenutke. Film raziskuje notranji boj med človekom in pošastjo ter poudarja pomen zavezništva in samonadzora
URL:https://kino-vrhnika.si/predstava/venom-zadnji-ples/
END:VEVENT
BEGIN:VEVENT
DTSTART;TZID=Europe/Ljubljana:20241102T170000
DTEND;TZID=Europe/Ljubljana:20241102T190000
DTSTAMP:20260424T011655
CREATED:20241002T150000Z
LAST-MODIFIED:20241031T180111Z
UID:8822-1730566800-1730574000@kino-vrhnika.si
SUMMARY:Divja robotka
DESCRIPTION:“Divja robotka” (2024)\, animirana priredba priljubljene knjige Petra Browna\, spremlja zgodbo Roz\, napredne robotke\, ki po brodolomu pristane na divjem otoku. Roz mora hitro prilagoditi svojo logično naravnanost divjemu okolju in ustvariti nenavadna prijateljstva z lokalnimi živalmi. Ko posvoji osirotelega račjega mladiča\, se nauči čustvene topline in starševske skrbi\, kar jo približa naravi in domačinom. Ko pa podjetje\, ki jo je izdelalo\, želi izkoristiti vire otoka\, Roz sprejme vlogo zaščitnice nove družine in domačega okolja
URL:https://kino-vrhnika.si/predstava/divja-robotka/
ATTACH;FMTTYPE=image/png:https://kino-vrhnika.si/wp-content/uploads/2024/10/Divja-robotka-1.png
END:VEVENT
END:VCALENDAR