BEGIN:VCALENDAR
VERSION:2.0
PRODID:-//Kino Vrhnika - ECPv6.7.1//NONSGML v1.0//EN
CALSCALE:GREGORIAN
METHOD:PUBLISH
X-WR-CALNAME:Kino Vrhnika
X-ORIGINAL-URL:https://kino-vrhnika.si
X-WR-CALDESC:Dogodki za Kino Vrhnika
REFRESH-INTERVAL;VALUE=DURATION:PT1H
X-Robots-Tag:noindex
X-PUBLISHED-TTL:PT1H
BEGIN:VTIMEZONE
TZID:Europe/Ljubljana
BEGIN:DAYLIGHT
TZOFFSETFROM:+0100
TZOFFSETTO:+0200
TZNAME:CEST
DTSTART:20260329T010000
END:DAYLIGHT
BEGIN:STANDARD
TZOFFSETFROM:+0200
TZOFFSETTO:+0100
TZNAME:CET
DTSTART:20261025T010000
END:STANDARD
END:VTIMEZONE
BEGIN:VEVENT
DTSTART;TZID=Europe/Ljubljana:20260419T180000
DTEND;TZID=Europe/Ljubljana:20260419T194000
DTSTAMP:20260421T195051
CREATED:20260322T212106Z
LAST-MODIFIED:20260324T133549Z
UID:13149-1776621600-1776627600@kino-vrhnika.si
SUMMARY:Super Mario: Galaktični film
DESCRIPTION:Super Mario: Galaktični film\n19. 4. 2026 ob 18.00\nRežija: Aaron Horvath\, Michael Jelenic\nIgrajo: animirani film\, sinhronizirano\nDolžina: Navedena dolžina filma ni točna \nPustolovščina enega najvidnejših vodovodarjev pop kulture v zadnjih desetletjih se nadaljuje! Prihaja namreč nadaljevanje izjemne uspešnice iz leta 2023\, ki temelji na Nintendovih igrah\, v kateri zaigra ikonični lik Mario. Potem ko brata vodovodarja Mario in Luigi premagata Bowserja in rešita Brooklyn\, se sedaj soočata z grožnjami Bowserjevega sina\, Bowserja mlajšega\, ki skuša rešiti svojega očeta\, ki se je pomanjšal in ždi v zaporu. Mario mora skupaj s prijatelji ustaviti njegove načrte za prevlado nad svetom.
URL:https://kino-vrhnika.si/predstava/super-mario-galakticni-film-3/
ATTACH;FMTTYPE=image/png:https://kino-vrhnika.si/wp-content/uploads/2026/03/Super-Mario.png
END:VEVENT
BEGIN:VEVENT
DTSTART;TZID=Europe/Ljubljana:20260419T200000
DTEND;TZID=Europe/Ljubljana:20260419T214500
DTSTAMP:20260421T195051
CREATED:20260322T212108Z
LAST-MODIFIED:20260324T133902Z
UID:13150-1776628800-1776635100@kino-vrhnika.si
SUMMARY:Junakinja
DESCRIPTION:Junakinja\n19. 4. 2026 ob 20.00\nRežija: Petra Volpe\nIgrajo: Leonie Benesch\, Sonja Riesen\, Alireza Bayram\, Selma Jamal Aldin\, Urs Bihler\, Margherita Schoch\, Urbain Guiguemdé\, Elisabeth Rolli\, Jürg Plüss\, Lale Yavas\,\nDolžina: Navedena dolžina filma ni točna \nMedicinska sestra Floria začne nočno izmeno na kirurškem oddelku švicarske bolnišnice. Ena od sodelavk je zbolela\, zato morata s kolegico sami poskrbeti za petindvajset pacientov. Floria stresno delovno rutino obvladuje z neomajno predanostjo in profesionalnostjo\, v oskrbo bolnikov pa vnaša človečnost in toplino. Toda naloge se kopičijo\, nujni primeri se stopnjujejo in noč se kmalu sprevrže v neusmiljeno bitko s časom.
URL:https://kino-vrhnika.si/predstava/junakinja/
CATEGORIES:Art
ATTACH;FMTTYPE=image/png:https://kino-vrhnika.si/wp-content/uploads/2026/03/Junakinja.png
END:VEVENT
BEGIN:VEVENT
DTSTART;TZID=Europe/Ljubljana:20260420T200000
DTEND;TZID=Europe/Ljubljana:20260420T210000
DTSTAMP:20260421T195051
CREATED:20260322T212110Z
LAST-MODIFIED:20260324T133938Z
UID:13152-1776715200-1776718800@kino-vrhnika.si
SUMMARY:Exodus 1945: Naša kri
DESCRIPTION:Exodus 1945: Naša kri\n20. 4. 2026 ob 20.00\nRežija: Vid Planinc\nIgrajo: Jernej Kuntner; Matevž Müller; Alenka Tetičkovič; Robert Prebil; Maša Tiselj\nDolžina: Navedena dolžina filma ni točna \nMaja 1945 se dva zdravnika na sanitetnem vlaku\, polnem ranjencev in beguncev\, podata na skrajno nevarno pot iz Ljubljane proti avstrijski Koroški. Napadi\, zamude in negotova politika prežijo na vsakem koraku\, medtem ko skušata ohraniti človečnost v času\, ko se svet okoli njiju podira. Ko sta prisiljena zapustiti vlak\, postane pot še bolj negotova\, saj mora vsak preživeti trenutek pomeniti pogum in preudarnost. Zgodba razkriva\, kako v času vojne preživetje nikoli ni samoumevno in kako lahko izbiranje med življenja vrednimi odločitvami pusti trajne brazgotine.
URL:https://kino-vrhnika.si/predstava/exodus-1945-nasa-kri-2/
CATEGORIES:Art
ATTACH;FMTTYPE=image/png:https://kino-vrhnika.si/wp-content/uploads/2026/02/Exodus-1945_Nasa-kri.png
END:VEVENT
BEGIN:VEVENT
DTSTART;TZID=Europe/Ljubljana:20260424T200000
DTEND;TZID=Europe/Ljubljana:20260424T221000
DTSTAMP:20260421T195051
CREATED:20260322T212113Z
LAST-MODIFIED:20260324T134031Z
UID:13153-1777060800-1777068600@kino-vrhnika.si
SUMMARY:Michael
DESCRIPTION:Michael\n24. 4. 2026 ob 20.00\nRežija: Antoine Fuqua\nIgrajo: Jaafar Jackson\, Juliano Valdi\, Colman Domingo\nDolžina: Navedena dolžina filma ni točna \nNa velika platna prihaja glasbena drama Michael\, filmska upodobitev življenja in zapuščine enega najvplivnejših umetnikov\, kar jih je svet poznal – slavnega zvezdnika Michaela Jacksona. Upodobil ga je njegov nečak Jaafar Jackson\, film pa razkriva zgodbo o življenju zvezdnika onkraj glasbe in sledi njegovi poti od vodje skupine The Jackson 5 do enega največjih pevcev v zgodovini.
URL:https://kino-vrhnika.si/predstava/michael/
CATEGORIES:Art
ATTACH;FMTTYPE=image/png:https://kino-vrhnika.si/wp-content/uploads/2026/03/Michael.png
END:VEVENT
BEGIN:VEVENT
DTSTART;TZID=Europe/Ljubljana:20260425T180000
DTEND;TZID=Europe/Ljubljana:20260425T195000
DTSTAMP:20260421T195051
CREATED:20260322T212115Z
LAST-MODIFIED:20260324T134130Z
UID:13155-1777140000-1777146600@kino-vrhnika.si
SUMMARY:Čarobno drevo
DESCRIPTION:Čarobno drevo\n25. 4. 2026 ob 18.00\nRežija: Ben Gregor\nIgrajo: družinski film\, sinhronizirano\nDolžina: Navedena dolžina filma ni točna \nSodobna družina se mora preseliti na odmaknjeno angleško podeželje. Tam ni ne brezžičnih povezav ne elektrike za polnjenje priljubljenih elektronskih naprav. Starša si želita\, da bi se otroci naučili ceniti čar narave in da bi se spet povezali kot družina. Vendar to vzbudi le upor. Najstnica Beth si želi klepetati s prijateljicami\, Joe ne more živeti brez igric na tablici in Fran\, najmlajša\, skorajda ne spregovori. Potem pa Fran med raziskovanjem okolice odkrije visoko\, čarobno drevo in njegove izjemne\, nenavadne prebivalce.
URL:https://kino-vrhnika.si/predstava/carobno-drevo/
CATEGORIES:Art
ATTACH;FMTTYPE=image/png:https://kino-vrhnika.si/wp-content/uploads/2026/03/Carobno-drevo.png
END:VEVENT
BEGIN:VEVENT
DTSTART;TZID=Europe/Ljubljana:20260425T200000
DTEND;TZID=Europe/Ljubljana:20260425T211000
DTSTAMP:20260421T195051
CREATED:20260322T212117Z
LAST-MODIFIED:20260324T134221Z
UID:13157-1777147200-1777151400@kino-vrhnika.si
SUMMARY:Zemljo krast
DESCRIPTION:Zemljo krast\n25. 4. 2026 ob 20.00\nRežija: Žiga Virc\nIgrajo: Suzana Krevh\, Tines Špik\, Lara Maria Vouk\, Andraž Jug\, Florjan Strehar\nDolžina: Navedena dolžina filma ni točna \nIgrani celovečerec Žige Virca (Houston\, imamo problem!) in scenaristke Ize Strehar (Prasica\, slabšalni izraz za žensko) je duhovita in iskriva družbena satira\, v kateri se starši ne borijo le za boljšo prihodnost svojih otrok\, ampak tudi za svoj ego.
URL:https://kino-vrhnika.si/predstava/zemljo-krast/
CATEGORIES:Art
ATTACH;FMTTYPE=image/png:https://kino-vrhnika.si/wp-content/uploads/2026/03/Zemljo-krast.png
END:VEVENT
BEGIN:VEVENT
DTSTART;TZID=Europe/Ljubljana:20260426T180000
DTEND;TZID=Europe/Ljubljana:20260426T194000
DTSTAMP:20260421T195051
CREATED:20260322T212119Z
LAST-MODIFIED:20260324T134245Z
UID:13158-1777226400-1777232400@kino-vrhnika.si
SUMMARY:Super Mario: Galaktični film
DESCRIPTION:Super Mario: Galaktični film\n26. 4. 2026 ob 18.00\nRežija: Aaron Horvath\, Michael Jelenic\nIgrajo: animirani film\, sinhronizirano\nDolžina: Navedena dolžina filma ni točna \nPustolovščina enega najvidnejših vodovodarjev pop kulture v zadnjih desetletjih se nadaljuje! Prihaja namreč nadaljevanje izjemne uspešnice iz leta 2023\, ki temelji na Nintendovih igrah\, v kateri zaigra ikonični lik Mario. Potem ko brata vodovodarja Mario in Luigi premagata Bowserja in rešita Brooklyn\, se sedaj soočata z grožnjami Bowserjevega sina\, Bowserja mlajšega\, ki skuša rešiti svojega očeta\, ki se je pomanjšal in ždi v zaporu. Mario mora skupaj s prijatelji ustaviti njegove načrte za prevlado nad svetom.
URL:https://kino-vrhnika.si/predstava/super-mario-galakticni-film-4/
ATTACH;FMTTYPE=image/png:https://kino-vrhnika.si/wp-content/uploads/2026/03/Super-Mario.png
END:VEVENT
BEGIN:VEVENT
DTSTART;TZID=Europe/Ljubljana:20260426T200000
DTEND;TZID=Europe/Ljubljana:20260426T220000
DTSTAMP:20260421T195051
CREATED:20260322T212121Z
LAST-MODIFIED:20260324T134401Z
UID:13159-1777233600-1777240800@kino-vrhnika.si
SUMMARY:Dva tožilca
DESCRIPTION:Dva tožilca\n26. 4. 2026 ob 20.00\nRežija: Sergej Loznica\nIgrajo: Aleksander Kuznecov\, Aleksander Filipenko\, Anatolij Beli\, Andris Keišs\, Vytautas Kaniušonis\nDolžina: Navedena dolžina filma ni točna \nFilm ukrajinskega režiserja Sergeja Loznice je kafkovsko popotovanje v srce totalitarnega režima\, prežeto z morečim vzdušjem neizbežnosti in posejano z avtorjevim značilnim grotesknim humorjem. \nNapovednik sledi v kratkem.
URL:https://kino-vrhnika.si/predstava/dva-tozilca/
CATEGORIES:Art
ATTACH;FMTTYPE=image/png:https://kino-vrhnika.si/wp-content/uploads/2026/03/Dva-tozilca.png
END:VEVENT
END:VCALENDAR