BEGIN:VCALENDAR
VERSION:2.0
PRODID:-//Kino Vrhnika - ECPv6.7.1//NONSGML v1.0//EN
CALSCALE:GREGORIAN
METHOD:PUBLISH
X-ORIGINAL-URL:https://kino-vrhnika.si
X-WR-CALDESC:Dogodki za Kino Vrhnika
REFRESH-INTERVAL;VALUE=DURATION:PT1H
X-Robots-Tag:noindex
X-PUBLISHED-TTL:PT1H
BEGIN:VTIMEZONE
TZID:Europe/Ljubljana
BEGIN:DAYLIGHT
TZOFFSETFROM:+0100
TZOFFSETTO:+0200
TZNAME:CEST
DTSTART:20260329T010000
END:DAYLIGHT
BEGIN:STANDARD
TZOFFSETFROM:+0200
TZOFFSETTO:+0100
TZNAME:CET
DTSTART:20261025T010000
END:STANDARD
END:VTIMEZONE
BEGIN:VEVENT
DTSTART;TZID=Europe/Ljubljana:20260420T200000
DTEND;TZID=Europe/Ljubljana:20260420T210000
DTSTAMP:20260421T162010
CREATED:20260322T212110Z
LAST-MODIFIED:20260324T133938Z
UID:13152-1776715200-1776718800@kino-vrhnika.si
SUMMARY:Exodus 1945: Naša kri
DESCRIPTION:Exodus 1945: Naša kri\n20. 4. 2026 ob 20.00\nRežija: Vid Planinc\nIgrajo: Jernej Kuntner; Matevž Müller; Alenka Tetičkovič; Robert Prebil; Maša Tiselj\nDolžina: Navedena dolžina filma ni točna \nMaja 1945 se dva zdravnika na sanitetnem vlaku\, polnem ranjencev in beguncev\, podata na skrajno nevarno pot iz Ljubljane proti avstrijski Koroški. Napadi\, zamude in negotova politika prežijo na vsakem koraku\, medtem ko skušata ohraniti človečnost v času\, ko se svet okoli njiju podira. Ko sta prisiljena zapustiti vlak\, postane pot še bolj negotova\, saj mora vsak preživeti trenutek pomeniti pogum in preudarnost. Zgodba razkriva\, kako v času vojne preživetje nikoli ni samoumevno in kako lahko izbiranje med življenja vrednimi odločitvami pusti trajne brazgotine.
URL:https://kino-vrhnika.si/predstava/exodus-1945-nasa-kri-2/
CATEGORIES:Art
ATTACH;FMTTYPE=image/png:https://kino-vrhnika.si/wp-content/uploads/2026/02/Exodus-1945_Nasa-kri.png
END:VEVENT
END:VCALENDAR