BEGIN:VCALENDAR
VERSION:2.0
PRODID:-//Kino Vrhnika - ECPv6.7.1//NONSGML v1.0//EN
CALSCALE:GREGORIAN
METHOD:PUBLISH
X-WR-CALNAME:Kino Vrhnika
X-ORIGINAL-URL:https://kino-vrhnika.si
X-WR-CALDESC:Dogodki za Kino Vrhnika
REFRESH-INTERVAL;VALUE=DURATION:PT1H
X-Robots-Tag:noindex
X-PUBLISHED-TTL:PT1H
BEGIN:VTIMEZONE
TZID:Europe/Ljubljana
BEGIN:DAYLIGHT
TZOFFSETFROM:+0100
TZOFFSETTO:+0200
TZNAME:CEST
DTSTART:20260329T010000
END:DAYLIGHT
BEGIN:STANDARD
TZOFFSETFROM:+0200
TZOFFSETTO:+0100
TZNAME:CET
DTSTART:20261025T010000
END:STANDARD
END:VTIMEZONE
BEGIN:VEVENT
DTSTART;TZID=Europe/Ljubljana:20260228T190000
DTEND;TZID=Europe/Ljubljana:20260228T204000
DTSTAMP:20260421T180627
CREATED:20250109T230000Z
LAST-MODIFIED:20260126T131511Z
UID:12310-1772305200-1772311200@kino-vrhnika.si
SUMMARY:Vrnitev Žikove dinastije
DESCRIPTION:Vrnitev Žikove dinastije\n28. 2. 2026 ob 19.00\nRežija: Milan Konjević\nIgrajo: Nikola Kojo\, Danijela Dimitrovska\, Nikola Brun\, Gavrilo Ivanković\, Srđan Timarov\, Mladen Sovilj\, Jovo Maksić\, Vesna Čipčić \, Vladimir Petrović \, Gala Videnović\, Slobodan Boda Ninković\nDolžina: Navedena dolžina filma ni točna \nNikola Kojo se po več kot 30 letih vrača v vlogi Miše Pavlovića. V Srbijo k Miši prideta sinova\, ki jih dolgo ni videl\, saj z Natašo živita v Moskvi. In ko prispeta fanta\, ki nosita imeni svojih pradedov – Žika in Milan – se začne novo noro leto\, polno smeha\, pustolovščin in tudi družinskih vrednot.
URL:https://kino-vrhnika.si/predstava/vrnitev-zikove-dinastije/
CATEGORIES:Art
ATTACH;FMTTYPE=image/png:https://kino-vrhnika.si/wp-content/uploads/2025/01/Vrnitev-Zikove-dinastije.png
END:VEVENT
END:VCALENDAR