BEGIN:VCALENDAR
VERSION:2.0
PRODID:-//Kino Vrhnika - ECPv6.7.1//NONSGML v1.0//EN
CALSCALE:GREGORIAN
METHOD:PUBLISH
X-ORIGINAL-URL:https://kino-vrhnika.si
X-WR-CALDESC:Dogodki za Kino Vrhnika
REFRESH-INTERVAL;VALUE=DURATION:PT1H
X-Robots-Tag:noindex
X-PUBLISHED-TTL:PT1H
BEGIN:VTIMEZONE
TZID:Europe/Ljubljana
BEGIN:DAYLIGHT
TZOFFSETFROM:+0100
TZOFFSETTO:+0200
TZNAME:CEST
DTSTART:20260329T010000
END:DAYLIGHT
BEGIN:STANDARD
TZOFFSETFROM:+0200
TZOFFSETTO:+0100
TZNAME:CET
DTSTART:20261025T010000
END:STANDARD
END:VTIMEZONE
BEGIN:VEVENT
DTSTART;TZID=Europe/Ljubljana:20260215T190000
DTEND;TZID=Europe/Ljubljana:20260215T205000
DTSTAMP:20260421T201217
CREATED:20250109T230000Z
LAST-MODIFIED:20260208T200627Z
UID:12298-1771182000-1771188600@kino-vrhnika.si
SUMMARY:Nehvaležna bitja
DESCRIPTION:Nehvaležna bitja\n15. 2. 2026 ob 19.00\nRežija: Olmo Omerzu\nIgrajo: Barry Ward\, Dexter Franc\, Timon Šturbej\, Barbora Bobulová\, Antonín Chmela\nDolžina: Navedena dolžina filma ni točna \nDavid svoja otroka odpelje na počitnice ob Jadranskem morju v upanju\, da mu bo uspelo obdržati skupaj razpadajočo dvojezično družino. Njegova sedemnajstletna hči Klára\, ki se spopada z motnjo hranjenja\, se tam zaljubi v domačina Denisa. Ko Denisa obtožijo umora\, David otroka hitro odpelje nazaj domov na Češko. Klárino stanje se naglo poslabša in nazadnje pristane v bolnišnici. Edino\, kar še povezuje njena odtujena starša\, je želja\, da bi jo rešila. Težki časi zahtevajo težke odločitve …
URL:https://kino-vrhnika.si/predstava/nehvalezna-bitja/
CATEGORIES:Art
ATTACH;FMTTYPE=image/png:https://kino-vrhnika.si/wp-content/uploads/2026/02/Nehvalezna-bitja-1.png
END:VEVENT
END:VCALENDAR