BEGIN:VCALENDAR
VERSION:2.0
PRODID:-//Kino Vrhnika - ECPv6.7.1//NONSGML v1.0//EN
CALSCALE:GREGORIAN
METHOD:PUBLISH
X-ORIGINAL-URL:https://kino-vrhnika.si
X-WR-CALDESC:Dogodki za Kino Vrhnika
REFRESH-INTERVAL;VALUE=DURATION:PT1H
X-Robots-Tag:noindex
X-PUBLISHED-TTL:PT1H
BEGIN:VTIMEZONE
TZID:Europe/Ljubljana
BEGIN:DAYLIGHT
TZOFFSETFROM:+0100
TZOFFSETTO:+0200
TZNAME:CEST
DTSTART:20260329T010000
END:DAYLIGHT
BEGIN:STANDARD
TZOFFSETFROM:+0200
TZOFFSETTO:+0100
TZNAME:CET
DTSTART:20261025T010000
END:STANDARD
END:VTIMEZONE
BEGIN:VEVENT
DTSTART;TZID=Europe/Ljubljana:20260207T170000
DTEND;TZID=Europe/Ljubljana:20260207T182500
DTSTAMP:20260421T201016
CREATED:20250109T230000Z
LAST-MODIFIED:20260126T124749Z
UID:12284-1770483600-1770488700@kino-vrhnika.si
SUMMARY:Mali Alan
DESCRIPTION:Mali Alan\n7. 2. 2026 ob 17.00\nRežija: Amalie Næsby Fick\nIgrajo: sinronizirano\, animirani film\nDolžina: Navedena dolžina filma ni točna \nKo se starša malega Alana ločita in se mora Alan preseliti v povsem novo mesto\, v obupanem iskanju novih prijateljev postane človeška antena za starejšega soseda\, obsedenega z NLP-ji. Ko pa na Zemljo strmoglavi Blažka\, telepatska Nezemljanka\, in ji morata oba pomagati\, da se vrne domov\, Alan z njo splete edinstveno prijateljstvo. Vendar ni edini\, ki ga Blažka zanima. Sledi ji namreč nori zbiralec preparatov\, ki bi rad odgovoril na večno vprašanje: Ali je v vesolju še kakšno življenje in ali se ga da nagačiti? \nMali Alan | Little Allan | Napovednik | V kinu od 15. januarja 2026
URL:https://kino-vrhnika.si/predstava/mali-alan-3/
CATEGORIES:Art
ATTACH;FMTTYPE=image/png:https://kino-vrhnika.si/wp-content/uploads/2025/01/Mali-Alan.png
END:VEVENT
END:VCALENDAR