BEGIN:VCALENDAR
VERSION:2.0
PRODID:-//Kino Vrhnika - ECPv6.7.1//NONSGML v1.0//EN
CALSCALE:GREGORIAN
METHOD:PUBLISH
X-ORIGINAL-URL:https://kino-vrhnika.si
X-WR-CALDESC:Dogodki za Kino Vrhnika
REFRESH-INTERVAL;VALUE=DURATION:PT1H
X-Robots-Tag:noindex
X-PUBLISHED-TTL:PT1H
BEGIN:VTIMEZONE
TZID:Europe/Ljubljana
BEGIN:DAYLIGHT
TZOFFSETFROM:+0100
TZOFFSETTO:+0200
TZNAME:CEST
DTSTART:20260329T010000
END:DAYLIGHT
BEGIN:STANDARD
TZOFFSETFROM:+0200
TZOFFSETTO:+0100
TZNAME:CET
DTSTART:20261025T010000
END:STANDARD
END:VTIMEZONE
BEGIN:VEVENT
DTSTART;TZID=Europe/Ljubljana:20260206T200000
DTEND;TZID=Europe/Ljubljana:20260206T213500
DTSTAMP:20260421T201018
CREATED:20250109T230000Z
LAST-MODIFIED:20260126T124640Z
UID:12282-1770408000-1770413700@kino-vrhnika.si
SUMMARY:Ohcet
DESCRIPTION:Ohcet\n6. 2. 2026 ob 20.00\nRežija: Igor Šeregi\nIgrajo: Rene Bitorajac\, Dragan Bjelogrlić\, Anđelka Stević Žugić\, Dejan Aćimović\, Srđan Žika Todorović\, Linda Begonja\nDolžina: Navedena dolžina filma ni točna \nZgodba spremlja znanega hrvaškega podjetnika Miljenka\, katerega rojstni dan doživi nenaden preobrat — ravno ko družina prihaja s torto in tamburaši\, prispe klic njegove hčere iz Londona: noseča je\, oče otroka pa je sin srbskega ministra. Od tega trenutka se začne popolni kaos — situacija je napeta\, izjemno duhovita in čustveno večplastna\, odnos med obema družinama pa se giblje med toplo družinsko pripovedjo in mednarodnim incidentom. Rezultat? Ohcet\, ki je ne boste pozabili! Premiera je napovedana februarju 2026\, prvi uradni napovednik in plakat pa že nakazujeta\, da bi to lahko postal najbolj gledan regionalni film zadnjih dveh desetletij.
URL:https://kino-vrhnika.si/predstava/ohcet/
CATEGORIES:Art
ATTACH;FMTTYPE=image/png:https://kino-vrhnika.si/wp-content/uploads/2025/01/Ohcet.png
END:VEVENT
END:VCALENDAR