BEGIN:VCALENDAR
VERSION:2.0
PRODID:-//Kino Vrhnika - ECPv6.7.1//NONSGML v1.0//EN
CALSCALE:GREGORIAN
METHOD:PUBLISH
X-WR-CALNAME:Kino Vrhnika
X-ORIGINAL-URL:https://kino-vrhnika.si
X-WR-CALDESC:Dogodki za Kino Vrhnika
REFRESH-INTERVAL;VALUE=DURATION:PT1H
X-Robots-Tag:noindex
X-PUBLISHED-TTL:PT1H
BEGIN:VTIMEZONE
TZID:Europe/Ljubljana
BEGIN:DAYLIGHT
TZOFFSETFROM:+0100
TZOFFSETTO:+0200
TZNAME:CEST
DTSTART:20260329T010000
END:DAYLIGHT
BEGIN:STANDARD
TZOFFSETFROM:+0200
TZOFFSETTO:+0100
TZNAME:CET
DTSTART:20261025T010000
END:STANDARD
END:VTIMEZONE
BEGIN:VEVENT
DTSTART;TZID=Europe/Ljubljana:20260130T200000
DTEND;TZID=Europe/Ljubljana:20260130T223000
DTSTAMP:20260421T200654
CREATED:20250109T230000Z
LAST-MODIFIED:20251224T085700Z
UID:12118-1769803200-1769812200@kino-vrhnika.si
SUMMARY:Veličastni Marty
DESCRIPTION:Veličastni Marty\n30. 1. 2026 ob 20.00\nRežija: Josh Safdie\nIgrajo: Timothée Chalamet\, Odessa A’zion\, Gwyneth Paltrow\nDolžina: Navedena dolžina filma ni točna \nZvezdniška zasedba na čelu s Timothéejem Chalametom in Gwyneth Paltrow pod režijo Josha Safdieja prinaša nepozabno zgodbo o mladeniču\, ki kljub posmehu okolice sledi svojim sanjam – in se zanje bori do zadnjega udarca. Veličastni Marty je navdihnjen z resnično osebo\, legendarnim igralcem namiznega tenisa Martyjem Reismanom\, katerega filmski alter ego Marty Mauser uteleša duh uporništva\, šarma in neuklonljive ambicije. Zgodba je postavljena v glamurozni in hkrati surovi New York petdesetih let\, v čas\, ko je bil Marty na vrhuncu slave. Film\, čeprav ni biografski\, raziskuje njegovo obsedenost s popolnostjo\, moč egocentrične karizme in ceno\, ki jo prinaša slava.
URL:https://kino-vrhnika.si/predstava/velicastni-marty-2/
CATEGORIES:Art
ATTACH;FMTTYPE=image/png:https://kino-vrhnika.si/wp-content/uploads/2025/01/Velicastni-Marty.png
END:VEVENT
END:VCALENDAR