BEGIN:VCALENDAR
VERSION:2.0
PRODID:-//Kino Vrhnika - ECPv6.7.1//NONSGML v1.0//EN
CALSCALE:GREGORIAN
METHOD:PUBLISH
X-WR-CALNAME:Kino Vrhnika
X-ORIGINAL-URL:https://kino-vrhnika.si
X-WR-CALDESC:Dogodki za Kino Vrhnika
REFRESH-INTERVAL;VALUE=DURATION:PT1H
X-Robots-Tag:noindex
X-PUBLISHED-TTL:PT1H
BEGIN:VTIMEZONE
TZID:Europe/Ljubljana
BEGIN:DAYLIGHT
TZOFFSETFROM:+0100
TZOFFSETTO:+0200
TZNAME:CEST
DTSTART:20260329T010000
END:DAYLIGHT
BEGIN:STANDARD
TZOFFSETFROM:+0200
TZOFFSETTO:+0100
TZNAME:CET
DTSTART:20261025T010000
END:STANDARD
END:VTIMEZONE
BEGIN:VEVENT
DTSTART;TZID=Europe/Ljubljana:20260129T100000
DTEND;TZID=Europe/Ljubljana:20260129T114000
DTSTAMP:20260421T200611
CREATED:20250109T230000Z
LAST-MODIFIED:20251224T152943Z
UID:12114-1769680800-1769686800@kino-vrhnika.si
SUMMARY:Noro
DESCRIPTION:Noro\n29. 1. 2026 ob 10.00\nRežija: Paolo Genovese\nIgrajo: Edoardo Leo\, Pilar Fogliati\, Emanuela Fanelli\, Maria Chiara Giannetta\, Claudia Pandolfi\, Vittoria Puccini\, Marco Giallini\, Maurizio Lastrico\, Rocco Papaleo\, Claudio Santamaria\nDolžina: Navedena dolžina filma ni točna \nLara\, stara okoli petintrideset let\, je simpatična\, neorganizirana\, ustvarjalna\, neodvisna in naivna. V življenju je že večkrat ljubila in bila razočarana\, padla je in se spet pobrala. Kdo ve\, morda pa bo Piero tisti … Piero\, nekaj čez štirideset\, ima tako kot vsi mi zapleteno preteklost in negotovo prihodnost – trenutno pa ga spravlja v zadrego dejstvo\, da ga je Lara na prvi zmenek povabila kar k sebi domov. A če se moški zaradi vabila na večerjo odpove ogledu pomembne nogometne tekme\, to morda vendarle nekaj pomeni … Naš um je natrpan kraj – v vsakem izmed nas živi več osebnosti\, ki so v nenehnem konfliktu. Razumne\, romantične\, instinktivne\, včasih nore … Toda katera bo imela zadnjo besedo?
URL:https://kino-vrhnika.si/predstava/noro/
CATEGORIES:Art
ATTACH;FMTTYPE=image/png:https://kino-vrhnika.si/wp-content/uploads/2025/01/Noro.png
END:VEVENT
END:VCALENDAR