BEGIN:VCALENDAR
VERSION:2.0
PRODID:-//Kino Vrhnika - ECPv6.7.1//NONSGML v1.0//EN
CALSCALE:GREGORIAN
METHOD:PUBLISH
X-ORIGINAL-URL:https://kino-vrhnika.si
X-WR-CALDESC:Dogodki za Kino Vrhnika
REFRESH-INTERVAL;VALUE=DURATION:PT1H
X-Robots-Tag:noindex
X-PUBLISHED-TTL:PT1H
BEGIN:VTIMEZONE
TZID:Europe/Ljubljana
BEGIN:DAYLIGHT
TZOFFSETFROM:+0100
TZOFFSETTO:+0200
TZNAME:CEST
DTSTART:20260329T010000
END:DAYLIGHT
BEGIN:STANDARD
TZOFFSETFROM:+0200
TZOFFSETTO:+0100
TZNAME:CET
DTSTART:20261025T010000
END:STANDARD
END:VTIMEZONE
BEGIN:VEVENT
DTSTART;TZID=Europe/Ljubljana:20260125T170000
DTEND;TZID=Europe/Ljubljana:20260125T180000
DTSTAMP:20260421T220754
CREATED:20250109T230000Z
LAST-MODIFIED:20251224T085332Z
UID:12112-1769360400-1769364000@kino-vrhnika.si
SUMMARY:Kokozajec in skrivnost velikega svizca
DESCRIPTION:Kokozajec in skrivnost velikega svizca\n25. 1. 2026 ob 17.00\nRežija: Benjamin Mousquet\nIgrajo: Thomas Solivérès\, Chloé Jouannet\, Nicolas Maury\, Levanna Solomon\, Ingrid Donnadieu\nDolžina: Navedena dolžina filma ni točna \nKokozajec skupaj z Abetom in Meg odrine na novo pustolovščino\, kjer mora poiskati legendarnega svizca\, skritega globoko v gori. Po starodavni legendi ta skrivnostni varuh poseduje moč\, da zavrti čas nazaj – moč\, ki bi lahko rešila Kokozajčevo vrsto pred pogubo.A pot do svizčeve skrivnosti je nevarna in polna preizkušenj. Na vsakem koraku jih čakajo pasti\, zahrbtni tekmeci in nepričakovane ovire. Kmalu postane jasno\, da Kokozajec in njegovi prijatelji niso edini\, ki iščejo to starodavno moč.
URL:https://kino-vrhnika.si/predstava/kokozajec-in-skrivnost-velikega-svizca-4/
CATEGORIES:Art
ATTACH;FMTTYPE=image/png:https://kino-vrhnika.si/wp-content/uploads/2025/01/Kokozajev-in-skrivnost-svizca.png
END:VEVENT
BEGIN:VEVENT
DTSTART;TZID=Europe/Ljubljana:20260125T190000
DTEND;TZID=Europe/Ljubljana:20260125T205000
DTSTAMP:20260421T220754
CREATED:20250109T230000Z
LAST-MODIFIED:20251224T152909Z
UID:12113-1769367600-1769374200@kino-vrhnika.si
SUMMARY:Oče mati sestra brat
DESCRIPTION:Oče mati sestra brat\n25. 1. 2026 ob 19.00\nRežija: Jim Jarmusch\nIgrajo: Adam Driver\, Cate Blanchett\, Charlotte Rampling\, Mayim Bialik\, Tom O’Reilly\, Tom Waits\nDolžina: Navedena dolžina filma ni točna \nTri zgodbe\, včasih smešne\, drugič žalostne\, o odnosu med starši in njihovimi odraslimi otroki. »Antiakcijski film« Jima Jarmuscha je prejel zlatega leva v Benetkah. Brat in sestra obiščeta očeta\, ki živi odmaknjeno življenje na ameriškem podeželju; elegantna\, nekoliko nedostopna mati se v Dublinu pripravlja na obisk svojih dveh hčera; dvojčka se po nenadni smrti staršev vrneta v prazno pariško stanovanje\, kjer sta odraščala. \n \n 
URL:https://kino-vrhnika.si/predstava/oce-mati-sestra-brat/
CATEGORIES:Art
ATTACH;FMTTYPE=image/png:https://kino-vrhnika.si/wp-content/uploads/2025/01/Oce-mati-sestra-brat.png
END:VEVENT
END:VCALENDAR