BEGIN:VCALENDAR
VERSION:2.0
PRODID:-//Kino Vrhnika - ECPv6.7.1//NONSGML v1.0//EN
CALSCALE:GREGORIAN
METHOD:PUBLISH
X-ORIGINAL-URL:https://kino-vrhnika.si
X-WR-CALDESC:Dogodki za Kino Vrhnika
REFRESH-INTERVAL;VALUE=DURATION:PT1H
X-Robots-Tag:noindex
X-PUBLISHED-TTL:PT1H
BEGIN:VTIMEZONE
TZID:Europe/Ljubljana
BEGIN:DAYLIGHT
TZOFFSETFROM:+0100
TZOFFSETTO:+0200
TZNAME:CEST
DTSTART:20260329T010000
END:DAYLIGHT
BEGIN:STANDARD
TZOFFSETFROM:+0200
TZOFFSETTO:+0100
TZNAME:CET
DTSTART:20261025T010000
END:STANDARD
END:VTIMEZONE
BEGIN:VEVENT
DTSTART;TZID=Europe/Ljubljana:20260118T170000
DTEND;TZID=Europe/Ljubljana:20260118T183000
DTSTAMP:20260421T221507
CREATED:20250109T230000Z
LAST-MODIFIED:20251224T084737Z
UID:12107-1768755600-1768761000@kino-vrhnika.si
SUMMARY:Mali Alan
DESCRIPTION:Mali Alan\n18. 1. 2026 ob 17.00\nRežija: Amalie Næsby Fick\nIgrajo: sinronizirano\, animirani film\nDolžina: Navedena dolžina filma ni točna \nKo se starša malega Alana ločita in se mora Alan preseliti v povsem novo mesto\, v obupanem iskanju novih prijateljev postane človeška antena za starejšega soseda\, obsedenega z NLP-ji. Ko pa na Zemljo strmoglavi Blažka\, telepatska Nezemljanka\, in ji morata oba pomagati\, da se vrne domov\, Alan z njo splete edinstveno prijateljstvo. Vendar ni edini\, ki ga Blažka zanima. Sledi ji namreč nori zbiralec preparatov\, ki bi rad odgovoril na večno vprašanje: Ali je v vesolju še kakšno življenje in ali se ga da nagačiti? \n \n 
URL:https://kino-vrhnika.si/predstava/mali-alan/
CATEGORIES:Art
ATTACH;FMTTYPE=image/png:https://kino-vrhnika.si/wp-content/uploads/2025/01/Mali-Alan.png
END:VEVENT
BEGIN:VEVENT
DTSTART;TZID=Europe/Ljubljana:20260118T190000
DTEND;TZID=Europe/Ljubljana:20260118T204500
DTSTAMP:20260421T221507
CREATED:20250109T230000Z
LAST-MODIFIED:20251224T152639Z
UID:12108-1768762800-1768769100@kino-vrhnika.si
SUMMARY:Najemi družino
DESCRIPTION:Najemi družino\n18. 1. 2026 ob 19.00\nRežija: Hikari\nIgrajo: Brendan Fraser\, Takehiro Hira\, Mari Yamamoto\nDolžina: Navedena dolžina filma ni točna \nRežiserka in scenaristka Hikari in z oskarjem nagrajeni Brendan Fraser prihaja topla\, duhovita in ganljiva zgodba o tem\, kako vsi – ne glede na kraj ali kulturo – hrepenimo po povezanosti. Film\, postavljen v živahni Tokio\, sledi ameriškemu igralcu\, ki se po letih neuspehov in notranje praznine znajde na nenavadni življenjski poti. Sprejme delo v japonski agenciji\, ki »izposoja« družinske člane tistim\, ki se počutijo osamljene. Njegove nove vloge? Sin\, mož\, brat – vsem\, ki si želijo občutek bližine in topline. Ko se začne zapletati v njihove resnične zgodbe\, lažni odnosi dobivajo pristno čustveno globino\, meja med igro in resničnostjo pa se počasi briše. Sredi moralnih dilem in lastnih ranljivosti odkrije tisto\, kar je iskal vse življenje – pomen doma\, pripadnosti in človeške povezanosti. \n \n 
URL:https://kino-vrhnika.si/predstava/najemi-druzino/
CATEGORIES:Art
ATTACH;FMTTYPE=image/png:https://kino-vrhnika.si/wp-content/uploads/2025/01/Najemi-druzino.png
END:VEVENT
END:VCALENDAR