BEGIN:VCALENDAR
VERSION:2.0
PRODID:-//Kino Vrhnika - ECPv6.7.1//NONSGML v1.0//EN
CALSCALE:GREGORIAN
METHOD:PUBLISH
X-WR-CALNAME:Kino Vrhnika
X-ORIGINAL-URL:https://kino-vrhnika.si
X-WR-CALDESC:Dogodki za Kino Vrhnika
REFRESH-INTERVAL;VALUE=DURATION:PT1H
X-Robots-Tag:noindex
X-PUBLISHED-TTL:PT1H
BEGIN:VTIMEZONE
TZID:Europe/Ljubljana
BEGIN:DAYLIGHT
TZOFFSETFROM:+0100
TZOFFSETTO:+0200
TZNAME:CEST
DTSTART:20260329T010000
END:DAYLIGHT
BEGIN:STANDARD
TZOFFSETFROM:+0200
TZOFFSETTO:+0100
TZNAME:CET
DTSTART:20261025T010000
END:STANDARD
END:VTIMEZONE
BEGIN:VEVENT
DTSTART;TZID=Europe/Ljubljana:20260111T190000
DTEND;TZID=Europe/Ljubljana:20260111T211500
DTSTAMP:20260421T220513
CREATED:20250109T230000Z
LAST-MODIFIED:20260104T084956Z
UID:12106-1768158000-1768166100@kino-vrhnika.si
SUMMARY:Sentimentalna vrednost
DESCRIPTION:Sentimentalna vrednost\n11. 1. 2026 ob 19.00\nRežija: Joachim Trier\nIgrajo: Renate Reinsve\, Stellan Skarsgård\, Inga Ibsdotter Lilleaas\, Elle Fanning\nDolžina: Navedena dolžina filma ni točna \nJoachim Trier se po uspehu Najbolj groznega človeka na svetu vrača z intimno\, ganljivo zgodbo o družini\, spominih in povezovalni moči umetnosti. Velika nagrada žirije v Cannesu in osem nominacij za zlati globus. Nora je uveljavljena gledališka igralka\, njena mlajša sestra Agnes pa je izbrala družinsko življenje z možem in sinom. Sestri\, ki ju je po odhodu očeta\, slavnega režiserja Gustava Borga\, vzgajala mati\, sta kljub različnosti tesno povezani. Ko skuša Gustav Noro angažirati za svoj novi celovečerec\, za katerega upa\, da se bo z njim vrnil na filmsko prizorišče\, se stare rane znova odprejo… \n \n 
URL:https://kino-vrhnika.si/predstava/sentimentalna-vrednost/
CATEGORIES:Art
ATTACH;FMTTYPE=image/png:https://kino-vrhnika.si/wp-content/uploads/2026/01/Sentimentalna-vrednost-2.png
END:VEVENT
END:VCALENDAR