BEGIN:VCALENDAR
VERSION:2.0
PRODID:-//Kino Vrhnika - ECPv6.7.1//NONSGML v1.0//EN
CALSCALE:GREGORIAN
METHOD:PUBLISH
X-WR-CALNAME:Kino Vrhnika
X-ORIGINAL-URL:https://kino-vrhnika.si
X-WR-CALDESC:Dogodki za Kino Vrhnika
REFRESH-INTERVAL;VALUE=DURATION:PT1H
X-Robots-Tag:noindex
X-PUBLISHED-TTL:PT1H
BEGIN:VTIMEZONE
TZID:Europe/Ljubljana
BEGIN:DAYLIGHT
TZOFFSETFROM:+0100
TZOFFSETTO:+0200
TZNAME:CEST
DTSTART:20260329T010000
END:DAYLIGHT
BEGIN:STANDARD
TZOFFSETFROM:+0200
TZOFFSETTO:+0100
TZNAME:CET
DTSTART:20261025T010000
END:STANDARD
END:VTIMEZONE
BEGIN:VEVENT
DTSTART;TZID=Europe/Ljubljana:20260102T170000
DTEND;TZID=Europe/Ljubljana:20260102T183000
DTSTAMP:20260421T220426
CREATED:20250109T230000Z
LAST-MODIFIED:20251224T084408Z
UID:12099-1767373200-1767378600@kino-vrhnika.si
SUMMARY:Hola\, Frida
DESCRIPTION:Hola\, Frida\n2. 1. 2026 ob 17.00\nRežija: André Kadi\, Karine Vézina\nIgrajo: sinronizirano\, animirani film\nDolžina: Navedena dolžina filma ni točna \nIgriv in barvit film nas popelje v svet deklice\, ki bo nekoč postala znamenita slikarka Frida Kahlo. Radovedna\, domiselna in polna življenja\, Frida vsako preizkušnjo spremeni v pustolovščino. In to s pogumom in divjo domišljijo\, ki ju nikoli ne zmanjka. Mala Frida svoje dneve preživlja na mehiški tržnici\, kjer se brezskrbno potika med stojnicami\, prijateljuje s potepuškim psom in zabava sošolce. A ko ji zdravniki diagnosticirajo otroško paralizo\, se nad njen živahni svet zgrne temen oblak. Zaprta med štirimi stenami svoje sobe postopoma odkrije tolažbo v svoji bogati domišljiji. Ko se njeno telo končno okrepi\, jo prav ta notranji svet domišljije in vztrajnosti vodi skozi prihodnje življenjske preizkušnje. \n \n 
URL:https://kino-vrhnika.si/predstava/hola-frida/
CATEGORIES:Art
ATTACH;FMTTYPE=image/png:https://kino-vrhnika.si/wp-content/uploads/2025/01/Hola-Frida.png
END:VEVENT
BEGIN:VEVENT
DTSTART;TZID=Europe/Ljubljana:20260102T190000
DTEND;TZID=Europe/Ljubljana:20260102T213000
DTSTAMP:20260421T220426
CREATED:20250109T230000Z
LAST-MODIFIED:20251224T084456Z
UID:12100-1767380400-1767389400@kino-vrhnika.si
SUMMARY:Veličastni Marty
DESCRIPTION:Veličastni Marty\n2. 1. 2026 ob 19.00\nRežija: Josh Safdie\nIgrajo: Timothée Chalamet\, Odessa A’zion\, Gwyneth Paltrow\nDolžina: Navedena dolžina filma ni točna \nZvezdniška zasedba na čelu s Timothéejem Chalametom in Gwyneth Paltrow pod režijo Josha Safdieja prinaša nepozabno zgodbo o mladeniču\, ki kljub posmehu okolice sledi svojim sanjam – in se zanje bori do zadnjega udarca. Veličastni Marty je navdihnjen z resnično osebo\, legendarnim igralcem namiznega tenisa Martyjem Reismanom\, katerega filmski alter ego Marty Mauser uteleša duh uporništva\, šarma in neuklonljive ambicije. Zgodba je postavljena v glamurozni in hkrati surovi New York petdesetih let\, v čas\, ko je bil Marty na vrhuncu slave. Film\, čeprav ni biografski\, raziskuje njegovo obsedenost s popolnostjo\, moč egocentrične karizme in ceno\, ki jo prinaša slava. \n \n 
URL:https://kino-vrhnika.si/predstava/velicastni-marty/
CATEGORIES:Art
ATTACH;FMTTYPE=image/png:https://kino-vrhnika.si/wp-content/uploads/2025/01/Velicastni-Marty.png
END:VEVENT
END:VCALENDAR