BEGIN:VCALENDAR
VERSION:2.0
PRODID:-//Kino Vrhnika - ECPv6.7.1//NONSGML v1.0//EN
CALSCALE:GREGORIAN
METHOD:PUBLISH
X-ORIGINAL-URL:https://kino-vrhnika.si
X-WR-CALDESC:Dogodki za Kino Vrhnika
REFRESH-INTERVAL;VALUE=DURATION:PT1H
X-Robots-Tag:noindex
X-PUBLISHED-TTL:PT1H
BEGIN:VTIMEZONE
TZID:Europe/Ljubljana
BEGIN:DAYLIGHT
TZOFFSETFROM:+0100
TZOFFSETTO:+0200
TZNAME:CEST
DTSTART:20250330T010000
END:DAYLIGHT
BEGIN:STANDARD
TZOFFSETFROM:+0200
TZOFFSETTO:+0100
TZNAME:CET
DTSTART:20251026T010000
END:STANDARD
END:VTIMEZONE
BEGIN:VEVENT
DTSTART;TZID=Europe/Ljubljana:20251204T190000
DTEND;TZID=Europe/Ljubljana:20251204T195000
DTSTAMP:20260421T234527
CREATED:20250109T230000Z
LAST-MODIFIED:20251122T110746Z
UID:11877-1764874800-1764877800@kino-vrhnika.si
SUMMARY:Gram srca
DESCRIPTION:Gram srca\n4. 12. 2025 ob 19.00\nRežija:\nIgrajo:\nDolžina: Navedena dolžina filma ni točna \nGram srca je pretresljiva\, a nežno posneta dokumentarna pripoved o odvisnikih z ljubljanskih ulic\, ki jih družba običajno ne vidi ali pa se jim izogne. Režiser Jan Cvitkovič in snemalec Sandi Petrič – ki je sam preživel enajst let na ulici – se brez scenarija in brez senzacionalizma potopita v življenja ljudi\, ki jih zaznamujejo odvisnost\, brezdomstvo in predvsem pomanjkanje ljubezni v otroštvu. Film razkriva intimne portrete posameznikov\, ki kljub boju za preživetje ohranijo človečnost\, humor\, ranljivost in presenetljivo delovno etiko. Cvitkovič ne išče šoka ali tragedije\, temveč lepoto tam\, kjer se zdi\, da je ni: iskreni pogovori\, majhne geste\, trenutki bližine in skupnosti med tistimi\, ki so že dolgo spregledani. Gram srca ni film o drogah\, temveč o človeku – o tem\, kako otroška praznina poganja odrasle rane\, kako se oblikujejo vzorci bolečine\, in kako je tudi v najtemnejših kotičkih mogoče najti sledi upanja. Film je hkrati pretresljiv in nežno razumevajoč\, predvsem pa gledalca povabi\, da se za hip ustavi\, pogleda in vidi. FILMU SLEDI KRATEK POGOVOR Z REŠISERJEM.
URL:https://kino-vrhnika.si/predstava/gram-srca/
CATEGORIES:Art
ATTACH;FMTTYPE=image/png:https://kino-vrhnika.si/wp-content/uploads/2025/01/Gram-srca.png
END:VEVENT
END:VCALENDAR