BEGIN:VCALENDAR
VERSION:2.0
PRODID:-//Kino Vrhnika - ECPv6.7.1//NONSGML v1.0//EN
CALSCALE:GREGORIAN
METHOD:PUBLISH
X-ORIGINAL-URL:https://kino-vrhnika.si
X-WR-CALDESC:Dogodki za Kino Vrhnika
REFRESH-INTERVAL;VALUE=DURATION:PT1H
X-Robots-Tag:noindex
X-PUBLISHED-TTL:PT1H
BEGIN:VTIMEZONE
TZID:Europe/Ljubljana
BEGIN:DAYLIGHT
TZOFFSETFROM:+0100
TZOFFSETTO:+0200
TZNAME:CEST
DTSTART:20250330T010000
END:DAYLIGHT
BEGIN:STANDARD
TZOFFSETFROM:+0200
TZOFFSETTO:+0100
TZNAME:CET
DTSTART:20251026T010000
END:STANDARD
END:VTIMEZONE
BEGIN:VEVENT
DTSTART;TZID=Europe/Ljubljana:20251016T190000
DTEND;TZID=Europe/Ljubljana:20251016T210000
DTSTAMP:20260422T033841
CREATED:20250109T230000Z
LAST-MODIFIED:20250930T070231Z
UID:11584-1760641200-1760648400@kino-vrhnika.si
SUMMARY:Armand
DESCRIPTION:Armand\n16. 10. 2025 ob 19.00\nRežija: Halfdan Ullmann Tøndel\nIgrajo: Renate Reinsve\, Ellen Dorrit Petersen\, Øystein Røger\nDolžina: Navedena dolžina filma ni točna \nKo v šoli pride do incidenta med dvema otrokoma\, so poklicani starši\, da poskušajo razčistiti situacijo. Film Armand raziskuje sive cone med resnico in lažjo\, v katerem igrata Renate Reinsve in Ellen Dorrit Petersen. Norveški režiser Halfdan Ullmann Tøndel je ustvaril film\, ki se giblje med družinsko dramo in psihološkim trilerjem. Ta debitantski celovečerni film\, ki so ga navdihnile izkušnje iz šolskega okolja\, raziskuje kompleksne teme: odgovornost staršev za dejanja njihovih otrok\, generacijske konflikte in težave pri ugotavljanju objektivne resnice. Film gledalce popelje v utesnjujoče okolje zaprtih vrat\, ki se v celoti odvija v šoli. Z napetimi soočanji in izmenjavami\, v katerih se zaznave razhajajo\, film obljublja\, da bo postavil pod vprašaj moralo in zameglil gledalčeve prepričanja.
URL:https://kino-vrhnika.si/predstava/armand/
CATEGORIES:Art
ATTACH;FMTTYPE=image/png:https://kino-vrhnika.si/wp-content/uploads/2025/01/Armand.png
END:VEVENT
END:VCALENDAR