BEGIN:VCALENDAR
VERSION:2.0
PRODID:-//Kino Vrhnika - ECPv6.7.1//NONSGML v1.0//EN
CALSCALE:GREGORIAN
METHOD:PUBLISH
X-ORIGINAL-URL:https://kino-vrhnika.si
X-WR-CALDESC:Dogodki za Kino Vrhnika
REFRESH-INTERVAL;VALUE=DURATION:PT1H
X-Robots-Tag:noindex
X-PUBLISHED-TTL:PT1H
BEGIN:VTIMEZONE
TZID:Europe/Ljubljana
BEGIN:DAYLIGHT
TZOFFSETFROM:+0100
TZOFFSETTO:+0200
TZNAME:CEST
DTSTART:20250330T010000
END:DAYLIGHT
BEGIN:STANDARD
TZOFFSETFROM:+0200
TZOFFSETTO:+0100
TZNAME:CET
DTSTART:20251026T010000
END:STANDARD
END:VTIMEZONE
BEGIN:VEVENT
DTSTART;TZID=Europe/Ljubljana:20251002T190000
DTEND;TZID=Europe/Ljubljana:20251002T205000
DTSTAMP:20260422T033812
CREATED:20250109T230000Z
LAST-MODIFIED:20250930T065657Z
UID:11573-1759431600-1759438200@kino-vrhnika.si
SUMMARY:Živiva v času
DESCRIPTION:Živiva v času\n2. 10. 2025 ob 19.00\nRežija:\nIgrajo: John Crowley; Scenarij: Nick Payne\nDolžina: Navedena dolžina filma ni točna \nŽiviva v času je domiselno strukturirana romanca\, ki išče odgovore na vprašanje\, kako kar najbolje izkoristiti čas na tem svetu. Film prikazuje razvoj odnosa med Almut in Tobiasom skozi različna obdobja njunega življenja\, pri čemer se osredotoča na izzive in radosti\, s katerimi se soočata kot par. Njuna zgodba je prežeta z iskrenimi čustvi in globokimi refleksijami o ljubezni\, izgubi in minljivosti časa
URL:https://kino-vrhnika.si/predstava/ziviva-v-casu-4/
CATEGORIES:Art
ATTACH;FMTTYPE=image/png:https://kino-vrhnika.si/wp-content/uploads/2025/01/Ziviva-v-casu-2.png
END:VEVENT
END:VCALENDAR