BEGIN:VCALENDAR
VERSION:2.0
PRODID:-//Kino Vrhnika - ECPv6.7.1//NONSGML v1.0//EN
CALSCALE:GREGORIAN
METHOD:PUBLISH
X-WR-CALNAME:Kino Vrhnika
X-ORIGINAL-URL:https://kino-vrhnika.si
X-WR-CALDESC:Dogodki za Kino Vrhnika
REFRESH-INTERVAL;VALUE=DURATION:PT1H
X-Robots-Tag:noindex
X-PUBLISHED-TTL:PT1H
BEGIN:VTIMEZONE
TZID:Europe/Ljubljana
BEGIN:DAYLIGHT
TZOFFSETFROM:+0100
TZOFFSETTO:+0200
TZNAME:CEST
DTSTART:20250330T010000
END:DAYLIGHT
BEGIN:STANDARD
TZOFFSETFROM:+0200
TZOFFSETTO:+0100
TZNAME:CET
DTSTART:20251026T010000
END:STANDARD
END:VTIMEZONE
BEGIN:VEVENT
DTSTART;TZID=Europe/Ljubljana:20250921T180000
DTEND;TZID=Europe/Ljubljana:20250921T194000
DTSTAMP:20260422T051527
CREATED:20250109T230000Z
LAST-MODIFIED:20250829T152036Z
UID:11383-1758477600-1758483600@kino-vrhnika.si
SUMMARY:Velika nagrada Evrope
DESCRIPTION:Velika nagrada Evrope\n21. 9. 2025 ob 18.00\nRežija: NP\nIgrajo: Sinhronizirano v slovenski jezik.\nDolžina: Navedena dolžina filma ni točna \nGre za navdihujočo animirano zgodbo o miški Eddi\, ki pred 50. obletnico Velike nagrade Evrope odkrije\, da lahko tudi najmanjša junakinja postane dobitnica velike dirke. Ko njeno mesto na dirkalni stezi ogrozi propad družinskega posla\, jo čaka pravi preizkus poguma in spretnosti. Ob pomoči svojega idola\, legendarnega voznika Eda\, in zvestih prijateljev se Edda poda na dirko\, ki presega zgolj tekmovanje – gre za potovanje osebne rasti in samozavesti. Film z barvitimi liki in dinamično animacijo nagovarja vse generacije\, predvsem pa spodbuja sporočilo\, da je vztrajnost močnejša od ovir. Preplet humorja\, akcije in srčnosti naredi zgodbo šolski primer družinsko prijaznega\, a poglobljenega filmskega doživetja.
URL:https://kino-vrhnika.si/predstava/velika-nagrada-evrope-2/
CATEGORIES:Art
ATTACH;FMTTYPE=image/png:https://kino-vrhnika.si/wp-content/uploads/2025/01/Velika-nagrada-Evrope.png
END:VEVENT
BEGIN:VEVENT
DTSTART;TZID=Europe/Ljubljana:20250921T200000
DTEND;TZID=Europe/Ljubljana:20250921T213000
DTSTAMP:20260422T051527
CREATED:20250109T230000Z
LAST-MODIFIED:20250829T152118Z
UID:11384-1758484800-1758490200@kino-vrhnika.si
SUMMARY:Modrost sreče
DESCRIPTION:Modrost sreče\n21. 9. 2025 ob 20.00\nRežija: Barbara Miller & Philip Delaquis / Barbara Miller & Philip Delaquis\nIgrajo: Tenzin Gyatso (Dalajlama)\nDolžina: Navedena dolžina filma ni točna \nGre za intimni portret Dalajlame\, ki nas nagovarja neposredno\, skoraj kot bi sodelovali v osebnem pogovoru. Film razgrinja njegovo življenjsko modrost o sreči\, sočutju in odgovornosti vsakega posameznika v sodobnem svetu. Ustvarjalci Barbara Miller in Philip Delaquis združujejo estetsko dodelane vizualne prizore s preprostimi\, a globokimi resnicami duhovnega voditelja. Hkrati film reflektira globalne krize – od vojn\, političnih napetosti do podnebnih sprememb – ter opozarja\, da je notranja sprememba posameznika ključ do spremembe družbe. Dokumentarec je posnet s podporo Richarda Gerea\, kar mu daje tudi mednarodno prepoznavnost. Pogovori z Dalajlamo so prepleteni s posnetki njegovega vsakdanjega življenja\, meditacije in srečanj z ljudmi.
URL:https://kino-vrhnika.si/predstava/modrost-srece-3/
CATEGORIES:Art
ATTACH;FMTTYPE=image/png:https://kino-vrhnika.si/wp-content/uploads/2025/01/Modrost-srece.png
END:VEVENT
END:VCALENDAR