BEGIN:VCALENDAR
VERSION:2.0
PRODID:-//Kino Vrhnika - ECPv6.7.1//NONSGML v1.0//EN
CALSCALE:GREGORIAN
METHOD:PUBLISH
X-ORIGINAL-URL:https://kino-vrhnika.si
X-WR-CALDESC:Dogodki za Kino Vrhnika
REFRESH-INTERVAL;VALUE=DURATION:PT1H
X-Robots-Tag:noindex
X-PUBLISHED-TTL:PT1H
BEGIN:VTIMEZONE
TZID:Europe/Ljubljana
BEGIN:DAYLIGHT
TZOFFSETFROM:+0100
TZOFFSETTO:+0200
TZNAME:CEST
DTSTART:20250330T010000
END:DAYLIGHT
BEGIN:STANDARD
TZOFFSETFROM:+0200
TZOFFSETTO:+0100
TZNAME:CET
DTSTART:20251026T010000
END:STANDARD
END:VTIMEZONE
BEGIN:VEVENT
DTSTART;TZID=Europe/Ljubljana:20250914T180000
DTEND;TZID=Europe/Ljubljana:20250914T194000
DTSTAMP:20260422T051911
CREATED:20250109T230000Z
LAST-MODIFIED:20250829T150609Z
UID:11372-1757872800-1757878800@kino-vrhnika.si
SUMMARY:Velika nagrada Evrope
DESCRIPTION:Velika nagrada Evrope\n14. 9. 2025 ob 18.00\nRežija: NP\nIgrajo: Sinhronizirano v slovenski jezik.\nDolžina: Navedena dolžina filma ni točna \nGre za navdihujočo animirano zgodbo o miški Eddi\, ki pred 50. obletnico Velike nagrade Evrope odkrije\, da lahko tudi najmanjša junakinja postane dobitnica velike dirke. Ko njeno mesto na dirkalni stezi ogrozi propad družinskega posla\, jo čaka pravi preizkus poguma in spretnosti. Ob pomoči svojega idola\, legendarnega voznika Eda\, in zvestih prijateljev se Edda poda na dirko\, ki presega zgolj tekmovanje – gre za potovanje osebne rasti in samozavesti. Film z barvitimi liki in dinamično animacijo nagovarja vse generacije\, predvsem pa spodbuja sporočilo\, da je vztrajnost močnejša od ovir. Preplet humorja\, akcije in srčnosti naredi zgodbo šolski primer družinsko prijaznega\, a poglobljenega filmskega doživetja.
URL:https://kino-vrhnika.si/predstava/velika-nagrada-evrope/
CATEGORIES:Art
ATTACH;FMTTYPE=image/png:https://kino-vrhnika.si/wp-content/uploads/2025/01/Velika-nagrada-Evrope.png
END:VEVENT
BEGIN:VEVENT
DTSTART;TZID=Europe/Ljubljana:20250914T200000
DTEND;TZID=Europe/Ljubljana:20250914T220000
DTSTAMP:20260422T051911
CREATED:20250109T230000Z
LAST-MODIFIED:20250829T150946Z
UID:11374-1757880000-1757887200@kino-vrhnika.si
SUMMARY:Downton Abbey: Veliki finale
DESCRIPTION:Downton Abbey: Veliki finale\n14. 9. 2025 ob 20.00\nRežija: Simon Curtis / Julian Fellowes\nIgrajo: Hugh Bonneville\, Michelle Dockery\, Elizabeth McGovern\, Jim Carter\, Paul Giamatti (in drugi)\nDolžina: Navedena dolžina filma ni točna \nTretji in zadnji filmski del serije spremlja družino Crawley\, ko jo pestijo osebni škandali\, finančna negotovost in politične spremembe v 1930‑ih. Lady Mary se znajde v središču družabne drame Londona\, medtem ko gospod in gospa Greatham skrbita za preživetje Downtona. Medtem osebje išče nove poti za prihodnost\, saj se mora generacija\, ki je pozornost osredotočila na preteklost\, umakniti pogumu in novi energiji. Napetost je prepletena s trenutki nostalgije\, v ozadju poklona preminuli Maggie Smith pa film zaznamuje globoko čustveno resonanco. Režiser Simon Curtis in scenarist Julian Fellowes zaključujeta epsko pripoved\, ki slavi dediščino Dustona Abbey.
URL:https://kino-vrhnika.si/predstava/downton-abbey-veliki-finale/
CATEGORIES:Art
ATTACH;FMTTYPE=image/png:https://kino-vrhnika.si/wp-content/uploads/2025/01/Downton-Abbey-Veliki-finale.png
END:VEVENT
END:VCALENDAR