BEGIN:VCALENDAR
VERSION:2.0
PRODID:-//Kino Vrhnika - ECPv6.7.1//NONSGML v1.0//EN
CALSCALE:GREGORIAN
METHOD:PUBLISH
X-WR-CALNAME:Kino Vrhnika
X-ORIGINAL-URL:https://kino-vrhnika.si
X-WR-CALDESC:Dogodki za Kino Vrhnika
REFRESH-INTERVAL;VALUE=DURATION:PT1H
X-Robots-Tag:noindex
X-PUBLISHED-TTL:PT1H
BEGIN:VTIMEZONE
TZID:Europe/Ljubljana
BEGIN:DAYLIGHT
TZOFFSETFROM:+0100
TZOFFSETTO:+0200
TZNAME:CEST
DTSTART:20250330T010000
END:DAYLIGHT
BEGIN:STANDARD
TZOFFSETFROM:+0200
TZOFFSETTO:+0100
TZNAME:CET
DTSTART:20251026T010000
END:STANDARD
END:VTIMEZONE
BEGIN:VEVENT
DTSTART;TZID=Europe/Ljubljana:20250828T200000
DTEND;TZID=Europe/Ljubljana:20250828T213000
DTSTAMP:20260422T075134
CREATED:20250109T230000Z
LAST-MODIFIED:20250727T171632Z
UID:11156-1756411200-1756416600@kino-vrhnika.si
SUMMARY:Simon
DESCRIPTION:Simon\n28. 8. 2025 ob 20.00\nRežija: Federico Luis\nIgrajo: Lorenzo Ferro\, Pehuén Pedre\, Kiara Supini\, Laura Nevole\, Agustín Toscano\, Camila Hirane\nDolžina: Navedena dolžina filma ni točna \nSimón je star enaindvajset let. Predstavi se kot pomočnik pri selitvah. Pravi\, da ne zna kuhati in pomiti kopalnice\, zna pa postlati posteljo. Zdi se\, da je v zadnjem času postal drug človek … Razmislek o pripadnosti in iskanju identitete onkraj tako imenovane normalnosti. Zmagovalec sekcije Teden kritike festivala v Cannesu.
URL:https://kino-vrhnika.si/predstava/simon/
CATEGORIES:Art
ATTACH;FMTTYPE=image/png:https://kino-vrhnika.si/wp-content/uploads/2025/01/Simon.png
END:VEVENT
END:VCALENDAR