BEGIN:VCALENDAR
VERSION:2.0
PRODID:-//Kino Vrhnika - ECPv6.7.1//NONSGML v1.0//EN
CALSCALE:GREGORIAN
METHOD:PUBLISH
X-ORIGINAL-URL:https://kino-vrhnika.si
X-WR-CALDESC:Dogodki za Kino Vrhnika
REFRESH-INTERVAL;VALUE=DURATION:PT1H
X-Robots-Tag:noindex
X-PUBLISHED-TTL:PT1H
BEGIN:VTIMEZONE
TZID:Europe/Ljubljana
BEGIN:DAYLIGHT
TZOFFSETFROM:+0100
TZOFFSETTO:+0200
TZNAME:CEST
DTSTART:20250330T010000
END:DAYLIGHT
BEGIN:STANDARD
TZOFFSETFROM:+0200
TZOFFSETTO:+0100
TZNAME:CET
DTSTART:20251026T010000
END:STANDARD
END:VTIMEZONE
BEGIN:VEVENT
DTSTART;TZID=Europe/Ljubljana:20250824T200000
DTEND;TZID=Europe/Ljubljana:20250824T220000
DTSTAMP:20260422T075556
CREATED:20250109T230000Z
LAST-MODIFIED:20250727T171354Z
UID:11155-1756065600-1756072800@kino-vrhnika.si
SUMMARY:Favoriten
DESCRIPTION:Favoriten\n24. 8. 2025 ob 20.00\nRežija: Ruth Beckermann\nIgrajo: dokumentarni film\nDolžina: Navedena dolžina filma ni točna \nFavoriten je večkulturna delavska četrt na Dunaju. V svojem zadnjem dokumentarnem filmu je Ruth Beckermann tri leta sledila razredu učencev\, starih od sedem do deset let\, in njihovi predani učiteljici na ogromni\, »težavni« osnovni šoli v etnično raznolikem\, tradicionalno delavskem dunajskem okrožju. Spoznali bomo otroke kot posameznike\, ko bomo spremljali njihove vsakodnevne dogodivščine\, težave\, zmage in poraze v tem mikrokozmosu sodobne zahodnoevropske družbe\, družbe\, ki se bori s težavami zaradi identitete in priseljevanja. Predvsem pa je Favoriten slavospev otroštvu in izobraževanju\, ki temelji na prepoznavnem slogu Beckermannove\, ki postavlja odprta\, pomembna vprašanja\, ko opazuje družbo\, in povabi gledalce\, da si sami ustvarijo mnenje o zapletenih temah.
URL:https://kino-vrhnika.si/predstava/favoritten/
CATEGORIES:Art
ATTACH;FMTTYPE=image/png:https://kino-vrhnika.si/wp-content/uploads/2025/01/Favoriten.png
END:VEVENT
END:VCALENDAR