BEGIN:VCALENDAR
VERSION:2.0
PRODID:-//Kino Vrhnika - ECPv6.7.1//NONSGML v1.0//EN
CALSCALE:GREGORIAN
METHOD:PUBLISH
X-ORIGINAL-URL:https://kino-vrhnika.si
X-WR-CALDESC:Dogodki za Kino Vrhnika
REFRESH-INTERVAL;VALUE=DURATION:PT1H
X-Robots-Tag:noindex
X-PUBLISHED-TTL:PT1H
BEGIN:VTIMEZONE
TZID:Europe/Ljubljana
BEGIN:DAYLIGHT
TZOFFSETFROM:+0100
TZOFFSETTO:+0200
TZNAME:CEST
DTSTART:20250330T010000
END:DAYLIGHT
BEGIN:STANDARD
TZOFFSETFROM:+0200
TZOFFSETTO:+0100
TZNAME:CET
DTSTART:20251026T010000
END:STANDARD
END:VTIMEZONE
BEGIN:VEVENT
DTSTART;TZID=Europe/Ljubljana:20250821T200000
DTEND;TZID=Europe/Ljubljana:20250821T220000
DTSTAMP:20260422T075432
CREATED:20250109T230000Z
LAST-MODIFIED:20250729T150116Z
UID:11149-1755806400-1755813600@kino-vrhnika.si
SUMMARY:Pozno poleti
DESCRIPTION:Pozno poleti\n21.8.2025 ob 20.00\nRežija: Danis Tanović\nIgrajo: Anja Matković\, Uliks Fehmiu\, Goran Navojec\, Almir Palata\, Mario Knezović\, Marija Škaričić\, Mirela Brekalo\, Snježana Sinovčić\, Luka Juričić\, Boris Ler\, Ivana Roščić\, Jadranka Matković\nDolžina: Navedena dolžina filma ni točna \nMaja prispe na majhen hrvaški otok z namenom\, da bi dokazala\, da je hči preminulega mornarja Jakše in s tem upravičena do dediščine. Ko ugotovi\, kako dolgo bo trajal zapuščinski postopek\, se odloči ostati na otoku. Zaposli se kot natakarica v baru\, ki je v lasti tamkajšnjega župana Ića\, saj je tako preskrbljena tudi s prenočiščem. Nekega dne spozna Sašo\, starejšega ameriškega priseljenca jugoslovanskih korenin\, ki se je na otok vrnil zaradi nostalgije in želje po pisateljevanju. A njuna romanca je postavljena pred preizkušnjo – ne le zaradi prebivalcev in krhke dinamike malega otoškega mesteca\, temveč tudi zato ker se mora Maja soočiti z lastno preteklostjo.
URL:https://kino-vrhnika.si/predstava/pozno-poleti/
CATEGORIES:Art
ATTACH;FMTTYPE=image/png:https://kino-vrhnika.si/wp-content/uploads/2025/01/Pozno-poleti.png
END:VEVENT
END:VCALENDAR