BEGIN:VCALENDAR
VERSION:2.0
PRODID:-//Kino Vrhnika - ECPv6.7.1//NONSGML v1.0//EN
CALSCALE:GREGORIAN
METHOD:PUBLISH
X-ORIGINAL-URL:https://kino-vrhnika.si
X-WR-CALDESC:Dogodki za Kino Vrhnika
REFRESH-INTERVAL;VALUE=DURATION:PT1H
X-Robots-Tag:noindex
X-PUBLISHED-TTL:PT1H
BEGIN:VTIMEZONE
TZID:Europe/Ljubljana
BEGIN:DAYLIGHT
TZOFFSETFROM:+0100
TZOFFSETTO:+0200
TZNAME:CEST
DTSTART:20250330T010000
END:DAYLIGHT
BEGIN:STANDARD
TZOFFSETFROM:+0200
TZOFFSETTO:+0100
TZNAME:CET
DTSTART:20251026T010000
END:STANDARD
END:VTIMEZONE
BEGIN:VEVENT
DTSTART;TZID=Europe/Ljubljana:20250816T200000
DTEND;TZID=Europe/Ljubljana:20250816T220000
DTSTAMP:20260422T075618
CREATED:20250109T230000Z
LAST-MODIFIED:20250727T170240Z
UID:11146-1755374400-1755381600@kino-vrhnika.si
SUMMARY:Popolna zveza
DESCRIPTION:Popolna zveza\n16. 8. 2025 ob 20.00\nRežija: Celine Song\nIgrajo: Dakota Johnson\, Pedro Pascal\, Chris Evans\nDolžina: Navedena dolžina filma ni točna \nMlada in ambiciozna ženitna posrednica (Dakota Johnson) se znajde razpeta med popolnim moškim (Pedro Pascal) in svojim nepopolnim bivšim (Chris Evans) … Kot bi od režiserke Preteklih življenj lahko pričakovali\, Popolna zveza ni običajna romantična komedija\, temveč pronicljiv in odkrit razmislek o sodobnem trgu ljubezenskih zmenkov in protislovjih\, na katera naletimo pri iskanju življenjskega partnerja. Film je navdihnila režiserkina lastna izkušnja ženitne posrednice na Manhattnu.
URL:https://kino-vrhnika.si/predstava/popolna-zveza/
CATEGORIES:Art
ATTACH;FMTTYPE=image/png:https://kino-vrhnika.si/wp-content/uploads/2025/01/Popolna-zveza.png
END:VEVENT
END:VCALENDAR