BEGIN:VCALENDAR
VERSION:2.0
PRODID:-//Kino Vrhnika - ECPv6.7.1//NONSGML v1.0//EN
CALSCALE:GREGORIAN
METHOD:PUBLISH
X-WR-CALNAME:Kino Vrhnika
X-ORIGINAL-URL:https://kino-vrhnika.si
X-WR-CALDESC:Dogodki za Kino Vrhnika
REFRESH-INTERVAL;VALUE=DURATION:PT1H
X-Robots-Tag:noindex
X-PUBLISHED-TTL:PT1H
BEGIN:VTIMEZONE
TZID:Europe/Ljubljana
BEGIN:DAYLIGHT
TZOFFSETFROM:+0100
TZOFFSETTO:+0200
TZNAME:CEST
DTSTART:20250330T010000
END:DAYLIGHT
BEGIN:STANDARD
TZOFFSETFROM:+0200
TZOFFSETTO:+0100
TZNAME:CET
DTSTART:20251026T010000
END:STANDARD
END:VTIMEZONE
BEGIN:VEVENT
DTSTART;TZID=Europe/Ljubljana:20250810T200000
DTEND;TZID=Europe/Ljubljana:20250810T220000
DTSTAMP:20260422T075134
CREATED:20250109T230000Z
LAST-MODIFIED:20250727T165727Z
UID:11139-1754856000-1754863200@kino-vrhnika.si
SUMMARY:Maria
DESCRIPTION:Maria\n10. 8. 2025 ob 20.00\nRežija: Pablo Larraín\nIgrajo: Angelina Jolie\, Pierfrancesco Favino\, Alba Rohrwacher\, Haluk Bilginer\, Kodi Smit-McPhee\, Stephen Ashfield\, Valeria Golino\nDolžina: Navedena dolžina filma ni točna \nSeptember 1977. Maria Callas ima 53 let in že več kot štiri leta ni nastopila pred občinstvom. Svoje zadnje dni preživlja v razkošnem pariškem stanovanju\, kjer ji družbo delata le zvesta gospodinja Bruna in butler Ferruccio. Tavajoča med preteklostjo in sedanjostjo upa\, da bo znova našla svoj glas in se vrnila na oder. Čilski režiser Pablo Larraín se po filmih o Jacqueline Kennedy (Jackie) in princesi Diani (Spencer) vrača s tretjim delom neuradne trilogije o slavnih\, tragičnih ženskah 20. stoletja. Film si zamišlja zadnji teden v življenju legendarne operne dive\, ko se je spopadala z vse bolj zabrisanimi mejami med čaščeno ‘La Callas’ in ranljivo\, krhko Mario.
URL:https://kino-vrhnika.si/predstava/maria-3/
CATEGORIES:Art
ATTACH;FMTTYPE=image/png:https://kino-vrhnika.si/wp-content/uploads/2025/01/Maria-1.png
END:VEVENT
END:VCALENDAR