BEGIN:VCALENDAR
VERSION:2.0
PRODID:-//Kino Vrhnika - ECPv6.7.1//NONSGML v1.0//EN
CALSCALE:GREGORIAN
METHOD:PUBLISH
X-ORIGINAL-URL:https://kino-vrhnika.si
X-WR-CALDESC:Dogodki za Kino Vrhnika
REFRESH-INTERVAL;VALUE=DURATION:PT1H
X-Robots-Tag:noindex
X-PUBLISHED-TTL:PT1H
BEGIN:VTIMEZONE
TZID:Europe/Ljubljana
BEGIN:DAYLIGHT
TZOFFSETFROM:+0100
TZOFFSETTO:+0200
TZNAME:CEST
DTSTART:20250330T010000
END:DAYLIGHT
BEGIN:STANDARD
TZOFFSETFROM:+0200
TZOFFSETTO:+0100
TZNAME:CET
DTSTART:20251026T010000
END:STANDARD
END:VTIMEZONE
BEGIN:VEVENT
DTSTART;TZID=Europe/Ljubljana:20250809T211500
DTEND;TZID=Europe/Ljubljana:20250809T231500
DTSTAMP:20260422T075714
CREATED:20250109T230000Z
LAST-MODIFIED:20250731T151603Z
UID:11136-1754774100-1754781300@kino-vrhnika.si
SUMMARY:To so Gadi
DESCRIPTION:To so Gadi (Kino pod zvezdami)\n9. 8. 2025 ob 21.15 v parku pred Cankarjevim domom (Tržaška c. 25\, Vrthnika)\nRežija: Jože Bevc\nIgrajo: Bert Sotlar\, Radko Polič\, Dare Valič\, Jože Hrovat\, Andrej Prevc\, Majda Potokar\, Boris Cavazza\, Milada Kalezić\nDolžina: \nPridružite se nam na čarobnem poletnem večeru\, kjer se bomo skupaj z nepozabnimi liki iz ljubljanskega predmestja podali v svet smeha\, zmešnjav in topline vsakdana. Legendarna slovenska komedija To so Gadi\, ki jo je režiral Jože Bevc\, prinaša zgodbo o vdovcu Štebetu in njegovih petih sinovih\, ki s svojimi norčijami nasmejejo generacije gledalcev. Za osvežitev bo poskrbel šank Kluba vrhniških študentov. Dogodek poteka v sklopu festivala Poletje na Vrhniki\, vstop nanj je prost. Organizacija ZIC in KVŠ Vrhnika. \nV primeru dežja bo predvajanje potekalo v kinodvorani.
URL:https://kino-vrhnika.si/predstava/to-so-gadi/
CATEGORIES:Art
ATTACH;FMTTYPE=image/png:https://kino-vrhnika.si/wp-content/uploads/2025/01/To-so-gadi-2.png
END:VEVENT
END:VCALENDAR