BEGIN:VCALENDAR
VERSION:2.0
PRODID:-//Kino Vrhnika - ECPv6.7.1//NONSGML v1.0//EN
CALSCALE:GREGORIAN
METHOD:PUBLISH
X-ORIGINAL-URL:https://kino-vrhnika.si
X-WR-CALDESC:Dogodki za Kino Vrhnika
REFRESH-INTERVAL;VALUE=DURATION:PT1H
X-Robots-Tag:noindex
X-PUBLISHED-TTL:PT1H
BEGIN:VTIMEZONE
TZID:Europe/Ljubljana
BEGIN:DAYLIGHT
TZOFFSETFROM:+0100
TZOFFSETTO:+0200
TZNAME:CEST
DTSTART:20250330T010000
END:DAYLIGHT
BEGIN:STANDARD
TZOFFSETFROM:+0200
TZOFFSETTO:+0100
TZNAME:CET
DTSTART:20251026T010000
END:STANDARD
END:VTIMEZONE
BEGIN:VEVENT
DTSTART;TZID=Europe/Ljubljana:20250807T200000
DTEND;TZID=Europe/Ljubljana:20250807T220000
DTSTAMP:20260422T075530
CREATED:20250109T230000Z
LAST-MODIFIED:20250727T165228Z
UID:11132-1754596800-1754604000@kino-vrhnika.si
SUMMARY:Vincent mora umreti
DESCRIPTION:Vincent mora umreti\n7. 8. 2025 ob 20.00\nRežija: Stéphan Castang\nIgrajo: François Chattot\, Karim Leklou\, Vimala Pons\nDolžina: Navedena dolžina filma ni točna \nVincent je čisto običajen človek\, ki ga začnejo nenadoma in povsem brez razloga napadati naključni neznanci. Preprost pogled v oči je dovolj\, da se miroljuben mimoidoči spremeni v obsedenega morilca. Vincentu ne preostane drugega\, kot da se poda na beg … Film paranoje\, preživetveni triler\, zgodba o zombijih\, družbena satira\, komedija\, romanca … Vincent mora umreti je izviren žanrski koktajl\, ki s črnim humorjem razkriva najmračnejše plati naše družbe. Dobitnik nagrade kritikov za najboljši prvenec in nagrade za najboljšega igralca na festivalu fantastičnega filma v Sitgesu.
URL:https://kino-vrhnika.si/predstava/vincent-mora-umreti/
CATEGORIES:Art
ATTACH;FMTTYPE=image/png:https://kino-vrhnika.si/wp-content/uploads/2025/01/Vincent-mora-umreti.png
END:VEVENT
END:VCALENDAR