BEGIN:VCALENDAR
VERSION:2.0
PRODID:-//Kino Vrhnika - ECPv6.7.1//NONSGML v1.0//EN
CALSCALE:GREGORIAN
METHOD:PUBLISH
X-WR-CALNAME:Kino Vrhnika
X-ORIGINAL-URL:https://kino-vrhnika.si
X-WR-CALDESC:Dogodki za Kino Vrhnika
REFRESH-INTERVAL;VALUE=DURATION:PT1H
X-Robots-Tag:noindex
X-PUBLISHED-TTL:PT1H
BEGIN:VTIMEZONE
TZID:Europe/Ljubljana
BEGIN:DAYLIGHT
TZOFFSETFROM:+0100
TZOFFSETTO:+0200
TZNAME:CEST
DTSTART:20250330T010000
END:DAYLIGHT
BEGIN:STANDARD
TZOFFSETFROM:+0200
TZOFFSETTO:+0100
TZNAME:CET
DTSTART:20251026T010000
END:STANDARD
END:VTIMEZONE
BEGIN:VEVENT
DTSTART;TZID=Europe/Ljubljana:20250803T200000
DTEND;TZID=Europe/Ljubljana:20250803T223000
DTSTAMP:20260422T075258
CREATED:20250109T230000Z
LAST-MODIFIED:20250727T165114Z
UID:11131-1754251200-1754260200@kino-vrhnika.si
SUMMARY:Anora
DESCRIPTION:Anora\n3. 8. 2025 ob 20.00\nRežija: Sean Baker\nIgrajo: Mikey Madison\, Mark Eydelshteyn\, Yura Borisov\, Karren Karagulian\, Vache Tovmasyan\nDolžina: Navedena dolžina filma ni točna \nAnori\, mladi striptizeti iz brooklynske Male Odese\, se odprejo vrata v boljše življenje\, ko spozna Ivana\, razvajenega\, a prikupnega sina ruskega oligarha. Po vrtoglavem tednu divjih zabav in vročega seksa par odleti v Las Vegas\, kjer se na vrat na nos poroči. Toda še preden se pravljica dobro začne\, novica doseže mladeničeve starše … Film je na letošnjih oskarjih odnesel kar tri nagrade; za najboljši film\, Sean Baker za najboljšo režijo ter Mikey Madison za najboljšo glavno žensko vlogo.
URL:https://kino-vrhnika.si/predstava/anora-2/
CATEGORIES:Art
ATTACH;FMTTYPE=image/png:https://kino-vrhnika.si/wp-content/uploads/2025/01/Anora.png
END:VEVENT
END:VCALENDAR