BEGIN:VCALENDAR
VERSION:2.0
PRODID:-//Kino Vrhnika - ECPv6.7.1//NONSGML v1.0//EN
CALSCALE:GREGORIAN
METHOD:PUBLISH
X-ORIGINAL-URL:https://kino-vrhnika.si
X-WR-CALDESC:Dogodki za Kino Vrhnika
REFRESH-INTERVAL;VALUE=DURATION:PT1H
X-Robots-Tag:noindex
X-PUBLISHED-TTL:PT1H
BEGIN:VTIMEZONE
TZID:Europe/Ljubljana
BEGIN:DAYLIGHT
TZOFFSETFROM:+0100
TZOFFSETTO:+0200
TZNAME:CEST
DTSTART:20250330T010000
END:DAYLIGHT
BEGIN:STANDARD
TZOFFSETFROM:+0200
TZOFFSETTO:+0100
TZNAME:CET
DTSTART:20251026T010000
END:STANDARD
END:VTIMEZONE
BEGIN:VEVENT
DTSTART;TZID=Europe/Ljubljana:20250727T180000
DTEND;TZID=Europe/Ljubljana:20250727T193000
DTSTAMP:20260422T094256
CREATED:20250109T230000Z
LAST-MODIFIED:20250630T092056Z
UID:10966-1753639200-1753644600@kino-vrhnika.si
SUMMARY:Divjaki
DESCRIPTION:Divjaki\n27. 7. 2025 ob 18.00\nRežija: Claude Barras\nIgrajo: Sinhronizirano v slovenščino\nDolžina: Navedena dolžina filma ni točna \nV razburljivi animirani avanturi na Borneu se Kéria\, njen mlajši bratranec Selai in ljubki orangutan Oši združijo\, da bi čudoviti tropski gozd zaščitili pred uničenjem. Na svoji srčni misiji odkrijejo\, kako pomembna sta skrb za naravo in medsebojno spoštovanje. Vznemirljiva pot po džungli jih nauči deliti znanje in moči\, pri čemer odkrivajo\, kako dragoceno je prijateljstvo in kako lahko skupaj premagajo še tako velike izzive. Film se dotika tematik\, kot so: odnos med mestom in naravo\, naravni viri\, prijateljstvo in sodelovanje\, o staroselcih in kulturnih koreninah\, o ravnovesju med tehnologijo\, napredkom in tradicijo\, o okoljskem aktivizmu…
URL:https://kino-vrhnika.si/predstava/divjaki/
CATEGORIES:Art
ATTACH;FMTTYPE=image/png:https://kino-vrhnika.si/wp-content/uploads/2025/01/Divjaki.png
END:VEVENT
BEGIN:VEVENT
DTSTART;TZID=Europe/Ljubljana:20250727T200000
DTEND;TZID=Europe/Ljubljana:20250727T220000
DTSTAMP:20260422T094256
CREATED:20250109T230000Z
LAST-MODIFIED:20250630T092157Z
UID:10968-1753646400-1753653600@kino-vrhnika.si
SUMMARY:Vermiglio
DESCRIPTION:Vermiglio\n27. 7. 2025 ob 20.00\nRežija: Maura Delpero\nIgrajo: Martina Scrinzi\, Roberta Rovelli\, Tommaso Ragno\nDolžina: Navedena dolžina filma ni točna \nPred koncem druge svetovne vojne v majhno vas v italijanskih Alpah vkoraka Pietro\, vojak s Sicilije\, ki s seboj pripelje ranjenega prijatelja Attilio\, sicer domačina iz te vasi. Pietro je nemudoma razglašen za junaka in vaščani ga gostoljubno sprejmejo medse. Ker pa je Pietro tujec\, se o njem vseeno veliko govori\, zato se raje drži zase. Vojak pade v oči Lucii\, najstarejši hčerki strogega vaškega učitelja. Fant in dekle se zaljubita\, to pa sproži plaz dogodkov\, ki stresejo ustaljeni red v vasi. Na dan namreč privrejo starodavna občutja mizoginije\, nestrpnosti in ozkoglednosti\, ki ne obetajo srečnega konca.
URL:https://kino-vrhnika.si/predstava/vermiglio/
CATEGORIES:Art
ATTACH;FMTTYPE=image/png:https://kino-vrhnika.si/wp-content/uploads/2025/01/Vermiglio.png
END:VEVENT
END:VCALENDAR