BEGIN:VCALENDAR
VERSION:2.0
PRODID:-//Kino Vrhnika - ECPv6.7.1//NONSGML v1.0//EN
CALSCALE:GREGORIAN
METHOD:PUBLISH
X-WR-CALNAME:Kino Vrhnika
X-ORIGINAL-URL:https://kino-vrhnika.si
X-WR-CALDESC:Dogodki za Kino Vrhnika
REFRESH-INTERVAL;VALUE=DURATION:PT1H
X-Robots-Tag:noindex
X-PUBLISHED-TTL:PT1H
BEGIN:VTIMEZONE
TZID:Europe/Ljubljana
BEGIN:DAYLIGHT
TZOFFSETFROM:+0100
TZOFFSETTO:+0200
TZNAME:CEST
DTSTART:20250330T010000
END:DAYLIGHT
BEGIN:STANDARD
TZOFFSETFROM:+0200
TZOFFSETTO:+0100
TZNAME:CET
DTSTART:20251026T010000
END:STANDARD
END:VTIMEZONE
BEGIN:VEVENT
DTSTART;TZID=Europe/Ljubljana:20250725T200000
DTEND;TZID=Europe/Ljubljana:20250725T213000
DTSTAMP:20260422T093905
CREATED:20250109T230000Z
LAST-MODIFIED:20250630T091818Z
UID:10963-1753473600-1753479000@kino-vrhnika.si
SUMMARY:Nekaj malenkost drugačnega
DESCRIPTION:Nekaj malenkost drugačnega\n25. 7. 2025 ob 20.00\nRežija: Artus\nIgrajo: Victor Artus Solaro\, Clovis Cornillac\, Alice Belaïdi\, …\nDolžina: Navedena dolžina filma ni točna \nDa bi pobegnila pred policijo\, sta roparja\, sin in oče\, prisiljena iskati zatočišče v poletnem taboru za mlade odrasle z duševnimi motnjami\, pri čemer se izdajata za enega izmed varovancev in njegovega specialnega vzgojitelja. To je začetek težav in izjemne življenjske izkušnje\, ki ju bo za vedno spremenila. Film je delno navdahnjen z resničnimi dogodki\, kar mu daje dodaten čustveni pečat in globino. Film se ponaša z edinstveno zasedbo\, saj mnogi igralci\, ki upodabljajo mlade odrasle z duševnimi motnjami\, niso profesionalni igralci\, kar prinaša občutek realnosti in iskrenosti v njihove nastope. Kljub resnim temam film združuje čustveno globino z nepričakovanim humorjem\, kar dela dogodivščine očeta in sina tako srčne kot zabavne.
URL:https://kino-vrhnika.si/predstava/nekaj-malenkost-drugacnega-2/
CATEGORIES:Art
ATTACH;FMTTYPE=image/png:https://kino-vrhnika.si/wp-content/uploads/2025/01/Nekaj-malenkost-drugacnega.png
END:VEVENT
END:VCALENDAR