BEGIN:VCALENDAR
VERSION:2.0
PRODID:-//Kino Vrhnika - ECPv6.7.1//NONSGML v1.0//EN
CALSCALE:GREGORIAN
METHOD:PUBLISH
X-ORIGINAL-URL:https://kino-vrhnika.si
X-WR-CALDESC:Dogodki za Kino Vrhnika
REFRESH-INTERVAL;VALUE=DURATION:PT1H
X-Robots-Tag:noindex
X-PUBLISHED-TTL:PT1H
BEGIN:VTIMEZONE
TZID:Europe/Ljubljana
BEGIN:DAYLIGHT
TZOFFSETFROM:+0100
TZOFFSETTO:+0200
TZNAME:CEST
DTSTART:20250330T010000
END:DAYLIGHT
BEGIN:STANDARD
TZOFFSETFROM:+0200
TZOFFSETTO:+0100
TZNAME:CET
DTSTART:20251026T010000
END:STANDARD
END:VTIMEZONE
BEGIN:VEVENT
DTSTART;TZID=Europe/Ljubljana:20250720T200000
DTEND;TZID=Europe/Ljubljana:20250720T220000
DTSTAMP:20260422T093016
CREATED:20250109T230000Z
LAST-MODIFIED:20250630T091636Z
UID:10961-1753041600-1753048800@kino-vrhnika.si
SUMMARY:Veliko potovanje
DESCRIPTION:Veliko potovanje\n20. 7. 2025 ob 20.00\nRežija: Miguel Gomes\nIgrajo: Cláudio da Silva\, Crista Alfaiate\, Gonçalo Waddington\nDolžina: Navedena dolžina filma ni točna \nPortugalski cineast Miguel Gomes (Tabu\, 1001 noč) nas z razburkano ljubezensko zgodbo\, postavljeno v kolonialno Azijo zgodnjega dvajsetega stoletja\, popelje na sanjsko popotovanje skozi preteklost in sedanjost. Film\, v katerem se prepletata melanholična drama in screwball komedija\, je prejel nagrado za najboljšo režijo v Cannesu. Burma\, 1918. Edward\, uslužbenec britanskega imperija\, v pristanišču čaka zaročenko Molly\, a zagrabi ga panika in skoči na ladjo za Singapur. Na nepričakovani odisejadi po jugovzhodni Aziji ga vse bolj preplavlja melanholija. Razmišlja o praznini svojega obstoja in se sprašuje\, kaj se je zgodilo z Molly … Molly zaročenčevo potezo sprejme z dobro voljo in humorjem. Odločena\, da se bosta poročila\, mu sledi …
URL:https://kino-vrhnika.si/predstava/veliko-potovanje/
CATEGORIES:Art
ATTACH;FMTTYPE=image/png:https://kino-vrhnika.si/wp-content/uploads/2025/01/Veliko-potovanje.png
END:VEVENT
END:VCALENDAR