BEGIN:VCALENDAR
VERSION:2.0
PRODID:-//Kino Vrhnika - ECPv6.7.1//NONSGML v1.0//EN
CALSCALE:GREGORIAN
METHOD:PUBLISH
X-WR-CALNAME:Kino Vrhnika
X-ORIGINAL-URL:https://kino-vrhnika.si
X-WR-CALDESC:Dogodki za Kino Vrhnika
REFRESH-INTERVAL;VALUE=DURATION:PT1H
X-Robots-Tag:noindex
X-PUBLISHED-TTL:PT1H
BEGIN:VTIMEZONE
TZID:Europe/Ljubljana
BEGIN:DAYLIGHT
TZOFFSETFROM:+0100
TZOFFSETTO:+0200
TZNAME:CEST
DTSTART:20250330T010000
END:DAYLIGHT
BEGIN:STANDARD
TZOFFSETFROM:+0200
TZOFFSETTO:+0100
TZNAME:CET
DTSTART:20251026T010000
END:STANDARD
END:VTIMEZONE
BEGIN:VEVENT
DTSTART;TZID=Europe/Ljubljana:20250713T180000
DTEND;TZID=Europe/Ljubljana:20250713T193000
DTSTAMP:20260422T094024
CREATED:20250109T230000Z
LAST-MODIFIED:20250630T090741Z
UID:10951-1752429600-1752435000@kino-vrhnika.si
SUMMARY:Pasji mož
DESCRIPTION:Pasji mož\n13. 7. 2025 ob 18.00\nRežija: Peter Hastings / Dav Pilkey (na podlagi knjižne serije)\nIgrajo: Sinhronizirano v slovenščino\nDolžina: Navedena dolžina filma ni točna \nPasji mož je animirana adaptacija priljubljene serije knjig za otroke\, ki jo je ustvaril Dav Pilkey\, avtor “Kapitana Gatnika”. Film nas popelje v svet Pasjega moža\, pogumnega in iznajdljivega junaka\, ki je po nesreči postal napol pes in napol človek. Kljub svoji nenavadni naravi uspeva reševati težave v mestu\, se spopadati z nepridipravi\, kot sta zlobni maček Petey in drugi\, ter graditi prijateljstva\, ki presegajo vse ovire. Poln smeha\, akcije in toplih trenutkov je “Pasji mož” zabavna pustolovščina za vso družino.
URL:https://kino-vrhnika.si/predstava/pasji-moz-6/
CATEGORIES:Art
ATTACH;FMTTYPE=image/jpeg:https://kino-vrhnika.si/wp-content/uploads/2025/01/pasji-moz-kino-risanka.jpg
END:VEVENT
BEGIN:VEVENT
DTSTART;TZID=Europe/Ljubljana:20250713T200000
DTEND;TZID=Europe/Ljubljana:20250713T223000
DTSTAMP:20260422T094024
CREATED:20250109T230000Z
LAST-MODIFIED:20250630T090906Z
UID:10952-1752436800-1752445800@kino-vrhnika.si
SUMMARY:Parthenope
DESCRIPTION:Parthenope\n13. 7. 2025 ob 20.00\nRežija: Paolo Sorrentino\nIgrajo: Celeste Dalla Porta\, Silvio Orlando\, Daniele Rienzo\, Dario Aita\, Stefania Sandrelli\, Peppe Lanzetta\, Gary Oldman\, Luisa Ranieri\, Isabella Ferrari\nDolžina: Navedena dolžina filma ni točna \nFilm spremlja življenje Partenope od rojstva v 50. letih do danes – žensko epopejo\, prežeto ne z junaštvom\, temveč z neizprosno strastjo do svobode\, Neaplja in različnih obrazov ljubezni. Od iskrene do neizrekljive in boleče\, ki prinaša trpljenje\, a tudi nov začetek. Prikazuje čarobno caprijsko poletje in brezskrbno mladost\, četudi pod obzorjem visi brezup. Obkrožajo jo raznovrstni Neapeljčani – ranjeni\, strastni\, polni življenja – skozi obdobja melanholije in tragične ironije. Življenje\, naj bo običajno ali nepozabno\, je lahko zelo dolgo\, čas pa razkriva paleto čustev. Nad vsem bdi Neapelj – mesto\, ki človeka omreži\, razveseli\, prizadene in nikoli ne izpusti.
URL:https://kino-vrhnika.si/predstava/panthenope/
CATEGORIES:Art
ATTACH;FMTTYPE=image/png:https://kino-vrhnika.si/wp-content/uploads/2025/01/Parthenope.png
END:VEVENT
END:VCALENDAR