BEGIN:VCALENDAR
VERSION:2.0
PRODID:-//Kino Vrhnika - ECPv6.7.1//NONSGML v1.0//EN
CALSCALE:GREGORIAN
METHOD:PUBLISH
X-WR-CALNAME:Kino Vrhnika
X-ORIGINAL-URL:https://kino-vrhnika.si
X-WR-CALDESC:Dogodki za Kino Vrhnika
REFRESH-INTERVAL;VALUE=DURATION:PT1H
X-Robots-Tag:noindex
X-PUBLISHED-TTL:PT1H
BEGIN:VTIMEZONE
TZID:Europe/Ljubljana
BEGIN:DAYLIGHT
TZOFFSETFROM:+0100
TZOFFSETTO:+0200
TZNAME:CEST
DTSTART:20250330T010000
END:DAYLIGHT
BEGIN:STANDARD
TZOFFSETFROM:+0200
TZOFFSETTO:+0100
TZNAME:CET
DTSTART:20251026T010000
END:STANDARD
END:VTIMEZONE
BEGIN:VEVENT
DTSTART;TZID=Europe/Ljubljana:20250712T211500
DTEND;TZID=Europe/Ljubljana:20250712T231500
DTSTAMP:20260422T093905
CREATED:20250109T230000Z
LAST-MODIFIED:20250712T065254Z
UID:10949-1752354900-1752362100@kino-vrhnika.si
SUMMARY:Poletje v školjki 1
DESCRIPTION:Poletje v školjki 1\n12. 7. 2025 ob 21.15\nRežija: Tugo Štiglic\nIgrajo: David Sluga\, Kaja Štiglic\, Boris Kralj\, Marjana Karner\, Dare Valič\, Majda Potokar\nDolžina: Navedena dolžina filma ni točna \nPridružite se nam na čarobnem poletnem večeru pod zvezdami\, kjer bomo skupaj obujali spomine z legendarno slovensko filmsko klasiko Poletje v školjki. Igrajo: David Sluga (Tomaž)\, Kaja Štiglic (Milena)\, Boris Kralj (Luka)\, Marjana Karner (mama)\, Dare Valič (oče)\, Majda Potokar (zdravnica). Sproščeno vzdušje\, dobra družba in nostalgija na prostem! Za osvežitev bo poskrbel šank Kluba vrhniških študentov. Dogodek poteka v sklopu festivala Poletje na Vrhniki\, vstop nanj pa je prost. Organizacija ZIC in KVŠ Vrhnika.
URL:https://kino-vrhnika.si/predstava/poletje-v-skoljki-1/
CATEGORIES:Art
ATTACH;FMTTYPE=image/png:https://kino-vrhnika.si/wp-content/uploads/2025/01/IG-poletje-09.png
END:VEVENT
END:VCALENDAR