BEGIN:VCALENDAR
VERSION:2.0
PRODID:-//Kino Vrhnika - ECPv6.7.1//NONSGML v1.0//EN
CALSCALE:GREGORIAN
METHOD:PUBLISH
X-ORIGINAL-URL:https://kino-vrhnika.si
X-WR-CALDESC:Dogodki za Kino Vrhnika
REFRESH-INTERVAL;VALUE=DURATION:PT1H
X-Robots-Tag:noindex
X-PUBLISHED-TTL:PT1H
BEGIN:VTIMEZONE
TZID:Europe/Ljubljana
BEGIN:DAYLIGHT
TZOFFSETFROM:+0100
TZOFFSETTO:+0200
TZNAME:CEST
DTSTART:20250330T010000
END:DAYLIGHT
BEGIN:STANDARD
TZOFFSETFROM:+0200
TZOFFSETTO:+0100
TZNAME:CET
DTSTART:20251026T010000
END:STANDARD
END:VTIMEZONE
BEGIN:VEVENT
DTSTART;TZID=Europe/Ljubljana:20250706T180000
DTEND;TZID=Europe/Ljubljana:20250706T193000
DTSTAMP:20260422T092939
CREATED:20250109T230000Z
LAST-MODIFIED:20250630T090030Z
UID:10944-1751824800-1751830200@kino-vrhnika.si
SUMMARY:Deset življenj
DESCRIPTION:Deset življenj\n6. 7. 2025 ob 18.00\nRežija: Chris Jenkins / Chris Jenkins\nIgrajo: Sinhronizirano v slovenščino\nDolžina: Navedena dolžina filma ni točna \nDeset življenj je animirana družinska komedija\, ki spremlja zgodbo mačka\, ki je bil vse življenje malce sebičen in nezainteresiran za druge. Ko ugotovi\, da ima na voljo deset življenj\, dobi priložnost\, da skozi svoje dogodivščine popravi svoje napake in pomaga tistim\, ki jih je nekoč zanemaril. Na tej poti spoznava vrednost prijateljstva\, povezanosti in nesebičnosti\, kar prinaša tako zabavne kot ganljive trenutke. Film je vizualno osupljiv in prinaša globoko sporočilo\, ki nagovarja tako otroke kot odrasle.
URL:https://kino-vrhnika.si/predstava/deset-zivljenj-5/
CATEGORIES:Art
ATTACH;FMTTYPE=image/jpeg:https://kino-vrhnika.si/wp-content/uploads/2025/01/deset-zivljenj.jpg
END:VEVENT
BEGIN:VEVENT
DTSTART;TZID=Europe/Ljubljana:20250706T200000
DTEND;TZID=Europe/Ljubljana:20250706T220000
DTSTAMP:20260422T092939
CREATED:20250109T230000Z
LAST-MODIFIED:20250630T090141Z
UID:10945-1751832000-1751839200@kino-vrhnika.si
SUMMARY:Babičin vnuk
DESCRIPTION:Babičin vnuk\n6. 7. 2025 ob 20.00\nRežija: Pat Boonnitipat\nIgrajo: Putthipong Assaratanakul\, Usha Seamkhum\, Sanya Kunakorn\, Sarinrat Thomas\, Pongsatorn Jongwilas\, Tontawan Tantivejakul\nDolžina: Navedena dolžina filma ni točna \nMladi tajski režiser pomembna vprašanja o družini\, medgeneracijskih vezeh in iskanju sreče zapakira v ganljivo dramedijo\, ki je doma porušila vse rekorde gledanosti in prerasla v pravi kulturni fenomen. Pripeljite babico in ne pozabite na robčke! Ko babici Amah postavijo diagnozo neozdravljive bolezni\, mladi M zasluti priložnost: v upanju\, da bo njegova predanost nagrajena\, prevzame skrb zanjo. Toda izkaže se\, da starke ne bo tako lahko zadovoljiti. Za nameček M ni edini\, ki se poteguje za njeno dediščino. Čas pa se izteka …
URL:https://kino-vrhnika.si/predstava/babicin-vnuk-2/
CATEGORIES:Art
ATTACH;FMTTYPE=image/png:https://kino-vrhnika.si/wp-content/uploads/2025/01/Babicin-vnuk-1.png
END:VEVENT
END:VCALENDAR