BEGIN:VCALENDAR
VERSION:2.0
PRODID:-//Kino Vrhnika - ECPv6.7.1//NONSGML v1.0//EN
CALSCALE:GREGORIAN
METHOD:PUBLISH
X-WR-CALNAME:Kino Vrhnika
X-ORIGINAL-URL:https://kino-vrhnika.si
X-WR-CALDESC:Dogodki za Kino Vrhnika
REFRESH-INTERVAL;VALUE=DURATION:PT1H
X-Robots-Tag:noindex
X-PUBLISHED-TTL:PT1H
BEGIN:VTIMEZONE
TZID:Europe/Ljubljana
BEGIN:DAYLIGHT
TZOFFSETFROM:+0100
TZOFFSETTO:+0200
TZNAME:CEST
DTSTART:20250330T010000
END:DAYLIGHT
BEGIN:STANDARD
TZOFFSETFROM:+0200
TZOFFSETTO:+0100
TZNAME:CET
DTSTART:20251026T010000
END:STANDARD
END:VTIMEZONE
BEGIN:VEVENT
DTSTART;TZID=Europe/Ljubljana:20250629T200000
DTEND;TZID=Europe/Ljubljana:20250629T213000
DTSTAMP:20260422T111644
CREATED:20250109T230000Z
LAST-MODIFIED:20250526T142202Z
UID:10830-1751227200-1751232600@kino-vrhnika.si
SUMMARY:Young Hearts
DESCRIPTION:Young Hearts\n29. 6. 2025 ob 20.00\nRežija: Anthony Schatteman\nIgrajo: ou Goossens (Elias)\, Marius De Saeger (Alexander)\, Geert Van Rampelberg (Luk)\, Dirk Van Dijck (Fred)\, Emilie De Roo (Nathalie)\nDolžina: Navedena dolžina filma ni točna \nElias je star štirinajst let in z družino živi v majhnem mestecu na belgijskem podeželju. Po pouku se druži s prijatelji in s punco Valerie\, riše in obiskuje dedka. Občasno na poti spremlja očeta glasbenika. V navidezno lahkotnost in prijetnost dečkovega vsakdana se počasi\, a hkrati močno vrivata občutek zmedenosti in zaskrbljenost. Medtem ko njegov oče na okoliških nastopih prepeva ljubezenski šlager Young Hearts\, Eliasa vse bolj preveva občutek\, da ne ve\, kako je biti zaljubljen\, čeprav kaže\, da vsi okoli njega to že vedo. Ko v zgodbo vstopi Alexander\, novi sošolec in sosed\, Eliasovo življenje pretresejo nova spoznanja glede lastne spolne usmerjenosti. Zdi se\, da prav sam najteže sprejema čustva\, ki ga begajo. Šele počasi pa spoznava\, da se kljub dvomom lahko zanese na podporo dedka\, staršev in nazadnje tudi prijateljev.
URL:https://kino-vrhnika.si/predstava/young-hearts/
CATEGORIES:Art
ATTACH;FMTTYPE=image/png:https://kino-vrhnika.si/wp-content/uploads/2025/01/Young-Hearts.png
END:VEVENT
END:VCALENDAR