BEGIN:VCALENDAR
VERSION:2.0
PRODID:-//Kino Vrhnika - ECPv6.7.1//NONSGML v1.0//EN
CALSCALE:GREGORIAN
METHOD:PUBLISH
X-ORIGINAL-URL:https://kino-vrhnika.si
X-WR-CALDESC:Dogodki za Kino Vrhnika
REFRESH-INTERVAL;VALUE=DURATION:PT1H
X-Robots-Tag:noindex
X-PUBLISHED-TTL:PT1H
BEGIN:VTIMEZONE
TZID:Europe/Ljubljana
BEGIN:DAYLIGHT
TZOFFSETFROM:+0100
TZOFFSETTO:+0200
TZNAME:CEST
DTSTART:20250330T010000
END:DAYLIGHT
BEGIN:STANDARD
TZOFFSETFROM:+0200
TZOFFSETTO:+0100
TZNAME:CET
DTSTART:20251026T010000
END:STANDARD
END:VTIMEZONE
BEGIN:VEVENT
DTSTART;TZID=Europe/Ljubljana:20250622T200000
DTEND;TZID=Europe/Ljubljana:20250622T213000
DTSTAMP:20260422T112347
CREATED:20250109T230000Z
LAST-MODIFIED:20250526T141311Z
UID:10823-1750622400-1750627800@kino-vrhnika.si
SUMMARY:Hollywoodgate
DESCRIPTION:Hollywoodgate\n22. 6. 2025 ob 20.00\nRežija: Ibrahim Nash’at\nIgrajo: Dokumentarni film\nDolžina: Navedena dolžina filma ni točna \nKo so se ZDA umaknile iz svoje »večne vojne«\, ki je trajala dvajset let v Afganistanu\, so Talibani znova prevzeli nadzor nad opustošeno državo in nemudoma našli ameriško bazo\, polno orožja. Hollywoodgate preživi eno leto znotraj Afganistana\, kjer spremlja Talibane pri prevzemu orožja\, ki ga je Amerika pustila za seboj\, medtem ko se spreminjajo iz fundamentalistične milice v močno oborožen vojaški režim. Film se začne v trenutku\, ko je ves svet zapustil to trpečo deželo.
URL:https://kino-vrhnika.si/predstava/hollywoodgate/
CATEGORIES:Art
ATTACH;FMTTYPE=image/png:https://kino-vrhnika.si/wp-content/uploads/2025/01/Hollywoodgate.png
END:VEVENT
END:VCALENDAR