BEGIN:VCALENDAR
VERSION:2.0
PRODID:-//Kino Vrhnika - ECPv6.7.1//NONSGML v1.0//EN
CALSCALE:GREGORIAN
METHOD:PUBLISH
X-ORIGINAL-URL:https://kino-vrhnika.si
X-WR-CALDESC:Dogodki za Kino Vrhnika
REFRESH-INTERVAL;VALUE=DURATION:PT1H
X-Robots-Tag:noindex
X-PUBLISHED-TTL:PT1H
BEGIN:VTIMEZONE
TZID:Europe/Ljubljana
BEGIN:DAYLIGHT
TZOFFSETFROM:+0100
TZOFFSETTO:+0200
TZNAME:CEST
DTSTART:20250330T010000
END:DAYLIGHT
BEGIN:STANDARD
TZOFFSETFROM:+0200
TZOFFSETTO:+0100
TZNAME:CET
DTSTART:20251026T010000
END:STANDARD
END:VTIMEZONE
BEGIN:VEVENT
DTSTART;TZID=Europe/Ljubljana:20250516T180000
DTEND;TZID=Europe/Ljubljana:20250516T193000
DTSTAMP:20260422T131021
CREATED:20250109T230000Z
LAST-MODIFIED:20250418T163929Z
UID:10606-1747418400-1747423800@kino-vrhnika.si
SUMMARY:Valovanje
DESCRIPTION:Valovanje\n16. 5. 2025 ob 18.00\nRežija: Ute von Münchow-Pohl\nIgrajo: Brez dialoga\nDolžina: Navedena dolžina filma ni točna \nZdi se\, da se svet bliža svojemu koncu… na njem pa se bohotijo ostanki človeške prisotnosti. Mačka je samotarska žival\, a ker je njen dom opustošila velika poplava\, poišče zatočišče na ladji\, ki jo naseljujejo različne živalske vrste. Sedaj se bo morala z njimi povezati\, kljub vsem razlikam. Na osamljenem čolnu\, ki pluje skozi mistične poplavljene pokrajine\, premagujejo izzive in nevarnosti\, ki jih prinaša prilagajanje na ta novi svet. Film\, ki živalim ne vsiljuje človeških lastnosti\, temveč jim preprosto pusti\, da so\, kar so: živali.
URL:https://kino-vrhnika.si/predstava/valovanje/
CATEGORIES:Art
ATTACH;FMTTYPE=image/png:https://kino-vrhnika.si/wp-content/uploads/2025/01/Valovanje.png
END:VEVENT
END:VCALENDAR