BEGIN:VCALENDAR
VERSION:2.0
PRODID:-//Kino Vrhnika - ECPv6.7.1//NONSGML v1.0//EN
CALSCALE:GREGORIAN
METHOD:PUBLISH
X-WR-CALNAME:Kino Vrhnika
X-ORIGINAL-URL:https://kino-vrhnika.si
X-WR-CALDESC:Dogodki za Kino Vrhnika
REFRESH-INTERVAL;VALUE=DURATION:PT1H
X-Robots-Tag:noindex
X-PUBLISHED-TTL:PT1H
BEGIN:VTIMEZONE
TZID:Europe/Ljubljana
BEGIN:DAYLIGHT
TZOFFSETFROM:+0100
TZOFFSETTO:+0200
TZNAME:CEST
DTSTART:20250330T010000
END:DAYLIGHT
BEGIN:STANDARD
TZOFFSETFROM:+0200
TZOFFSETTO:+0100
TZNAME:CET
DTSTART:20251026T010000
END:STANDARD
END:VTIMEZONE
BEGIN:VEVENT
DTSTART;TZID=Europe/Ljubljana:20250503T180000
DTEND;TZID=Europe/Ljubljana:20250503T193000
DTSTAMP:20260422T134153
CREATED:20250109T230000Z
LAST-MODIFIED:20250418T162540Z
UID:10596-1746295200-1746300600@kino-vrhnika.si
SUMMARY:Pasji mož
DESCRIPTION:Pasji mož\n3. 5. 2025 ob 18.00\nRežija: Peter Hastings / Dav Pilkey (na podlagi knjižne serije)\nIgrajo: SInhronizirano v slovenščino\nDolžina: Navedena dolžina filma ni točna \nPasji mož je animirana adaptacija priljubljene serije knjig za otroke\, ki jo je ustvaril Dav Pilkey\, avtor “Kapitana Gatnika”. Film nas popelje v svet Pasjega moža\, pogumnega in iznajdljivega junaka\, ki je po nesreči postal napol pes in napol človek. Kljub svoji nenavadni naravi uspeva reševati težave v mestu\, se spopadati z nepridipravi\, kot sta zlobni maček Petey in drugi\, ter graditi prijateljstva\, ki presegajo vse ovire. Poln smeha\, akcije in toplih trenutkov je “Pasji mož” zabavna pustolovščina za vso družino.
URL:https://kino-vrhnika.si/predstava/pasji-moz-5/
CATEGORIES:Art
ATTACH;FMTTYPE=image/jpeg:https://kino-vrhnika.si/wp-content/uploads/2025/01/pasji-moz-kino-risanka.jpg
END:VEVENT
BEGIN:VEVENT
DTSTART;TZID=Europe/Ljubljana:20250503T200000
DTEND;TZID=Europe/Ljubljana:20250503T220000
DTSTAMP:20260422T134153
CREATED:20250109T230000Z
LAST-MODIFIED:20250418T162616Z
UID:10597-1746302400-1746309600@kino-vrhnika.si
SUMMARY:Take majhne stvari
DESCRIPTION:Take majhne stvari\n3. 5. 2025 ob 20.00\nRežija: Tim Mielants / Enda Walsh (po romanu Claire Keegan)\nIgrajo: Cillian Murphy\, Eileen Walsh\, Michelle Fairley\, Emily Watson\, Clare Dunne\nDolžina: Navedena dolžina filma ni točna \nFilm\, posnet po istoimenskem romanu irske avtorice Claire Keegan\, spremlja Billa Furlonga\, predanega očeta in dostavljalca premoga\, ki v predbožičnem času leta 1985 odkrije šokantno resnico o Magdaleninih pralnicah – institucijah\, kjer so bila dolga leta zlorabljena dekleta in mlade ženske. Soočen z resnico\, ki jo večina v mestu raje ignorira\, mora Bill izbrati med varnim molkom ali tveganim dejanjem sočutja. Film obravnava vprašanja družbene pravičnosti\, krivde in moralnega poguma.
URL:https://kino-vrhnika.si/predstava/take-majhne-stvari-2/
CATEGORIES:Art
ATTACH;FMTTYPE=image/png:https://kino-vrhnika.si/wp-content/uploads/2025/02/Take-majhne-stvari.png
END:VEVENT
END:VCALENDAR