BEGIN:VCALENDAR
VERSION:2.0
PRODID:-//Kino Vrhnika - ECPv6.7.1//NONSGML v1.0//EN
CALSCALE:GREGORIAN
METHOD:PUBLISH
X-ORIGINAL-URL:https://kino-vrhnika.si
X-WR-CALDESC:Dogodki za Kino Vrhnika
REFRESH-INTERVAL;VALUE=DURATION:PT1H
X-Robots-Tag:noindex
X-PUBLISHED-TTL:PT1H
BEGIN:VTIMEZONE
TZID:Europe/Ljubljana
BEGIN:DAYLIGHT
TZOFFSETFROM:+0100
TZOFFSETTO:+0200
TZNAME:CEST
DTSTART:20250330T010000
END:DAYLIGHT
BEGIN:STANDARD
TZOFFSETFROM:+0200
TZOFFSETTO:+0100
TZNAME:CET
DTSTART:20251026T010000
END:STANDARD
END:VTIMEZONE
BEGIN:VEVENT
DTSTART;TZID=Europe/Ljubljana:20250420T180000
DTEND;TZID=Europe/Ljubljana:20250420T200000
DTSTAMP:20260422T143956
CREATED:20250109T230000Z
LAST-MODIFIED:20250326T151132Z
UID:10441-1745172000-1745179200@kino-vrhnika.si
SUMMARY:Kralj vseh kraljev
DESCRIPTION:Kralj vseh kraljev\n20. 4. 2025 ob 18.00\nRežija: Seong-ho Jang\nIgrajo: SInhronizirano v slovenščino\nDolžina: Navedena dolžina filma ni točna \nBiblijska zgodba o Jezusu Kristusu\, kot jo je pripovedoval Charles Dickens\, ki jo doživljamo skozi otroške oči ravno v času praznovanja Velike noči. Oče sinu pripoveduje največjo zgodbo vseh časov\, ki se iz preproste pravljice za lahko noč spremeni v življenjsko popotovanje. S pomočjo bujne domišljije deček hodi ob Jezusu\, priča njegovim čudežem\, se sooča z njegovimi preizkušnjami\, da bi razumel njegovo največjo žrtev. Film nas vabi\, da skozi oči otroka ponovno odkrijemo trajno moč upanja\, ljubezni in odrešitve.
URL:https://kino-vrhnika.si/predstava/kralj-vseh-kraljev-2/
CATEGORIES:Art
ATTACH;FMTTYPE=image/png:https://kino-vrhnika.si/wp-content/uploads/2025/01/Kraljv-2.png
END:VEVENT
BEGIN:VEVENT
DTSTART;TZID=Europe/Ljubljana:20250420T200000
DTEND;TZID=Europe/Ljubljana:20250420T213000
DTSTAMP:20260422T143956
CREATED:20250109T230000Z
LAST-MODIFIED:20250326T151324Z
UID:10442-1745179200-1745184600@kino-vrhnika.si
SUMMARY:Novi sošolci
DESCRIPTION:Novi sošolci\n20. 4. 2025 ob 20.00\nRežija: Toni Cahunek\nIgrajo: Suela Gashi\, Floralba Avdullahu\, Ledri Gashi\, Masar Maloku.\nDolžina: Navedena dolžina filma ni točna \nFilm spremlja štiri otroke priseljencev iz Kosova\, ki so se preselili v Slovenijo in se vključili v slovenske šole. Ponuja vpogled v njihove vsakdanje izzive\, kot so jezikovne ovire\, kulturne razlike in prilagajanje na novo okolje. Poleg tega izpostavlja tudi prizadevanja njihovih staršev\, ki se trudijo zagotoviti boljšo prihodnost svojim otrokom.Film vključuje nastope Suela Gashija\, Ledrija Gashija in Masarja Malokuja. Poleg njih so v filmu prisotni tudi Floralba Avdullahu\, Pranvera Lutolli\, Arbnore Avdylaj\, Lea Cahunek\, Mira Grabanica\, Kosovare Fangu in Matjaž Rakovec.
URL:https://kino-vrhnika.si/predstava/novi-sosolci/
CATEGORIES:Art
ATTACH;FMTTYPE=image/png:https://kino-vrhnika.si/wp-content/uploads/2025/01/Novi-sosolci.png
END:VEVENT
END:VCALENDAR