BEGIN:VCALENDAR
VERSION:2.0
PRODID:-//Kino Vrhnika - ECPv6.7.1//NONSGML v1.0//EN
CALSCALE:GREGORIAN
METHOD:PUBLISH
X-ORIGINAL-URL:https://kino-vrhnika.si
X-WR-CALDESC:Dogodki za Kino Vrhnika
REFRESH-INTERVAL;VALUE=DURATION:PT1H
X-Robots-Tag:noindex
X-PUBLISHED-TTL:PT1H
BEGIN:VTIMEZONE
TZID:Europe/Ljubljana
BEGIN:DAYLIGHT
TZOFFSETFROM:+0100
TZOFFSETTO:+0200
TZNAME:CEST
DTSTART:20250330T010000
END:DAYLIGHT
BEGIN:STANDARD
TZOFFSETFROM:+0200
TZOFFSETTO:+0100
TZNAME:CET
DTSTART:20251026T010000
END:STANDARD
END:VTIMEZONE
BEGIN:VEVENT
DTSTART;TZID=Europe/Ljubljana:20250413T180000
DTEND;TZID=Europe/Ljubljana:20250413T193000
DTSTAMP:20260422T144049
CREATED:20250109T230000Z
LAST-MODIFIED:20250325T150316Z
UID:10428-1744567200-1744572600@kino-vrhnika.si
SUMMARY:Bambi: Življenjska pot v gozdu
DESCRIPTION:Bambi: Življenjska pot v gozdu\n13. 4. 2025 ob 18.00\nRežija: Michel Fessler\nIgrajo: V slovenski sinhronizaciji pripoveduje Vesna Pernarčič.\nDolžina: Navedena dolžina filma ni točna \nMladi jelenček Bambi od prvih dni življenja občuduje vse\, kar ga obdaja. Ob njem je ljubeča mama\, ki ga uči osnovnih veščin za preživetje. Med odraščanjem Bambi sklepa prijateljstva z drugimi gozdnimi živalmi in spozna srnico Faline\, ki postane njegova spremljevalka. S prihodom jeseni Bambi ostane brez matere zaradi lovcev. Takrat odkrije\, da nad njim bdi njegov oče\, Princ\, ki ga uči\, kako se zaščititi pred nevarnostmi divjine in kako odrasti.
URL:https://kino-vrhnika.si/predstava/bambi-zivljenjska-pot-v-gozdu/
CATEGORIES:Art
ATTACH;FMTTYPE=image/png:https://kino-vrhnika.si/wp-content/uploads/2025/01/Bambi.png
END:VEVENT
BEGIN:VEVENT
DTSTART;TZID=Europe/Ljubljana:20250413T200000
DTEND;TZID=Europe/Ljubljana:20250413T213000
DTSTAMP:20260422T144049
CREATED:20250109T230000Z
LAST-MODIFIED:20250325T150321Z
UID:10430-1744574400-1744579800@kino-vrhnika.si
SUMMARY:Sveta krava
DESCRIPTION:Sveta krava\n13. 4. 2025 ob 20.00\nRežija: Louise Courvoisier\nIgrajo: Dimitri Baudry\, Maïwene Barthelemy\, Mathis Bernard\, Clément Favreau\, Luna Garret\nDolžina: Navedena dolžina filma ni točna \n“Sveta krava!” je francoska drama-komedija iz leta 2024\, ki jo je režirala Louise Courvoisier. Film pripoveduje zgodbo o Totoneju\, brezskrbnem najstniku\, ki odrašča na francoskem podeželju. Njegovo življenje se spremeni\, ko mora poskrbeti za svojo sedemletno sestrico Claire po smrti očeta. V iskanju zaslužka se odloči sodelovati na lokalnem tekmovanju v izdelavi sira comté\, kjer lahko osvoji denarno nagrado. S pomočjo prijateljev in prijazne sosede Marie-Lise se loti izziva\, vendar se stvari zapletejo\, ko se med njim in Marie-Lise razvijejo čustva. Film je bil premierno prikazan na filmskem festivalu v Cannesu\, kjer je prejel nagrado mladih v sekciji Posebni pogled.
URL:https://kino-vrhnika.si/predstava/sveta-krava/
CATEGORIES:Art
ATTACH;FMTTYPE=image/png:https://kino-vrhnika.si/wp-content/uploads/2025/01/Sveta-krava-2.png
END:VEVENT
END:VCALENDAR