BEGIN:VCALENDAR
VERSION:2.0
PRODID:-//Kino Vrhnika - ECPv6.7.1//NONSGML v1.0//EN
CALSCALE:GREGORIAN
METHOD:PUBLISH
X-ORIGINAL-URL:https://kino-vrhnika.si
X-WR-CALDESC:Dogodki za Kino Vrhnika
REFRESH-INTERVAL;VALUE=DURATION:PT1H
X-Robots-Tag:noindex
X-PUBLISHED-TTL:PT1H
BEGIN:VTIMEZONE
TZID:Europe/Ljubljana
BEGIN:DAYLIGHT
TZOFFSETFROM:+0100
TZOFFSETTO:+0200
TZNAME:CEST
DTSTART:20260329T010000
END:DAYLIGHT
BEGIN:STANDARD
TZOFFSETFROM:+0200
TZOFFSETTO:+0100
TZNAME:CET
DTSTART:20261025T010000
END:STANDARD
END:VTIMEZONE
BEGIN:VEVENT
DTSTART;TZID=Europe/Ljubljana:20260301T170000
DTEND;TZID=Europe/Ljubljana:20260301T183000
DTSTAMP:20260421T164412
CREATED:20260221T001125Z
LAST-MODIFIED:20260222T085714Z
UID:12743-1772384400-1772389800@kino-vrhnika.si
SUMMARY:Elvis Škorc
DESCRIPTION:Elvis Škorc\n1. 3. 2026 ob 17.00\nRežija: Boris Jurjaševič\nIgrajo: Maks Peštaj Zevnik; Iva Krajnc Bagola; Marko Mandić; Matej Puc; Zvezdana Mlakar\nDolžina: Navedena dolžina filma ni točna \nElvis je bister\, radoveden in nekoliko neroden štirinajstletnik\, ki bi najraje preživel dneve ob kemijskih poskusih\, stripih in skrivnih misijah\, povezanih z njegovo simpatijo Hano. Ko se starši ločijo\, se mu svet obrne na glavo: šola postane še bolj kaotična\, doma pa vlada zmeda\, ki jo poskuša razumeti s svojim izumiteljskim pogledom. Med smešnimi spodrsljaji in težkimi trenutki mora Elvis odrasťi hitreje\, kot bi želel\, in ugotoviti\, kaj je tisto\, kar v življenju resnično šteje.
URL:https://kino-vrhnika.si/predstava/elvis-skorc-4/
CATEGORIES:Art
ATTACH;FMTTYPE=image/png:https://kino-vrhnika.si/wp-content/uploads/2026/02/Elvis-Skorc.png
END:VEVENT
BEGIN:VEVENT
DTSTART;TZID=Europe/Ljubljana:20260301T190000
DTEND;TZID=Europe/Ljubljana:20260301T204500
DTSTAMP:20260421T164412
CREATED:20260221T001127Z
LAST-MODIFIED:20260222T085834Z
UID:12744-1772391600-1772397900@kino-vrhnika.si
SUMMARY:Bila je samo nesreča
DESCRIPTION:Bila je samo nesreča\n1. 3. 2026 ob 19.00\nRežija: Jafar Panahi\nIgrajo: Vahid Mobasseri; Mariam Afshari; Ebrahim Azizi; Hadis Pakbaten; Majid Panahi\nDolžina: Navedena dolžina filma ni točna \nNedolžna nočna vožnja se spremeni v trk s potepuškim psom\, dogodek pa sproži verigo posledic\, ki segajo globlje od običajne prometne nesreče. V ozadju poti domov se začne razpletati temačna moralna drama\, v kateri se preteklost in sedanjost boleče prepleteta. Nekdanji zapornik prepozna zvok umetne noge človeka\, ki ga je nekoč mučil\, kar ponovno odpre rane\, ki naj bi bile zakopane. V tihem\, napetem vzdušju se razgrinja zgodba o maščevanju\, dvomu\, človeški krhkosti in težkih odločitvah\, ki vodijo v nepričakovane smeri. \n \n 
URL:https://kino-vrhnika.si/predstava/bila-je-samo-nesreca/
CATEGORIES:Art
ATTACH;FMTTYPE=image/png:https://kino-vrhnika.si/wp-content/uploads/2026/02/Bila-je-samo-nesreca.png
END:VEVENT
BEGIN:VEVENT
DTSTART;TZID=Europe/Ljubljana:20260303T190000
DTEND;TZID=Europe/Ljubljana:20260303T200000
DTSTAMP:20260421T164412
CREATED:20260221T001129Z
LAST-MODIFIED:20260222T085951Z
UID:12745-1772564400-1772568000@kino-vrhnika.si
SUMMARY:Exodus 1945: Naša kri
DESCRIPTION:Exodus 1945: Naša kri\n3. 3. 2026 ob 19.00\nRežija: Vid Planinc\nIgrajo: Jernej Kuntner; Matevž Müller; Alenka Tetičkovič; Robert Prebil; Maša Tiselj\nDolžina: Navedena dolžina filma ni točna \nMaja 1945 se dva zdravnika na sanitetnem vlaku\, polnem ranjencev in beguncev\, podata na skrajno nevarno pot iz Ljubljane proti avstrijski Koroški. Napadi\, zamude in negotova politika prežijo na vsakem koraku\, medtem ko skušata ohraniti človečnost v času\, ko se svet okoli njiju podira. Ko sta prisiljena zapustiti vlak\, postane pot še bolj negotova\, saj mora vsak preživeti trenutek pomeniti pogum in preudarnost. Zgodba razkriva\, kako v času vojne preživetje nikoli ni samoumevno in kako lahko izbiranje med življenja vrednimi odločitvami pusti trajne brazgotine.
URL:https://kino-vrhnika.si/predstava/exodus-1945-nasa-kri/
CATEGORIES:Art
ATTACH;FMTTYPE=image/png:https://kino-vrhnika.si/wp-content/uploads/2026/02/Exodus-1945_Nasa-kri.png
END:VEVENT
BEGIN:VEVENT
DTSTART;TZID=Europe/Ljubljana:20260306T200000
DTEND;TZID=Europe/Ljubljana:20260306T223000
DTSTAMP:20260421T164412
CREATED:20260221T001133Z
LAST-MODIFIED:20260302T072924Z
UID:12747-1772827200-1772836200@kino-vrhnika.si
SUMMARY:Nürnberg
DESCRIPTION:Nürnberg\n6. 3. 2026 ob 20.00\nRežija: James Vanderbilt\nIgrajo: Rami Malek; Russell Crowe; Richard E. Grant\nDolžina: Navedena dolžina filma ni točna \nV povojnem času\, ko se svet sooča z razkritjem nepredstavljivih grozot\, je ameriški psihiater Douglas Kelley zadolžen za ocenjevanje duševnega stanja najvišjih nacističnih voditeljev. V mračnih zapornih hodnikih se znajde iz oči v oči s Hermanom Göringom\, možem\, ki združuje hladno inteligenco\, karizmo in pogled\, ki razgalja globino zla. Med psihološkimi dvoboji se odpira vprašanje\, ali se lahko človek rodi kot pošast ali to postane. Film prinaša napeto\, intimno in pretresljivo raziskovanje odgovornosti\, moči ter krhkosti morale\, ko je zgodovina na tehtnici.
URL:https://kino-vrhnika.si/predstava/nurnberg/
CATEGORIES:Art
ATTACH;FMTTYPE=image/png:https://kino-vrhnika.si/wp-content/uploads/2026/02/Nurnberg.png
END:VEVENT
BEGIN:VEVENT
DTSTART;TZID=Europe/Ljubljana:20260308T190000
DTEND;TZID=Europe/Ljubljana:20260308T203000
DTSTAMP:20260421T164412
CREATED:20260221T001141Z
LAST-MODIFIED:20260222T091248Z
UID:12751-1772996400-1773001800@kino-vrhnika.si
SUMMARY:Glas Hind Radžab
DESCRIPTION:Glas Hind Radžab\n8. 3. 2026 ob 19.00\nRežija: Kaouther Ben Hania\nIgrajo: Saja Kilani; Motaz Malhees; Amer Hlehel; Clara Khoury\nDolžina: Navedena dolžina filma ni točna \nResnični posnetek klica šestletne Hind\, ujete med obstreljevanjem Gaze\, tvori srhljivo jedro zgodbe\, ki se odvija med napetimi trenutki reševalcev\, ujetih v birokratske omejitve in nevarnost na terenu. Dramatizirani prizori prepletajo surovo resničnost z intimnim pogledom v nemoč ljudi\, ki želijo pomagati\, vendar so omejeni z okoliščinami. Vsaka minuta klica razkriva bolečino\, upanje in krhkost življenja pod ognjem. Film postavlja ogledalo svetu\, ki pogosto gleda stran\, ter nas sooči z vprašanjem\, koliko našega odziva je pogojeno z udobjem in oddaljenostjo od tragedije.
URL:https://kino-vrhnika.si/predstava/glas-hind-radzab/
CATEGORIES:Art
ATTACH;FMTTYPE=image/png:https://kino-vrhnika.si/wp-content/uploads/2026/02/Glas-Hind-Radzab.png
END:VEVENT
BEGIN:VEVENT
DTSTART;TZID=Europe/Ljubljana:20260311T190000
DTEND;TZID=Europe/Ljubljana:20260311T204000
DTSTAMP:20260421T164412
CREATED:20260221T001143Z
LAST-MODIFIED:20260222T091404Z
UID:12752-1773255600-1773261600@kino-vrhnika.si
SUMMARY:Ni druge izbire
DESCRIPTION:Ni druge izbire\n11. 3. 2026 ob 19.00\nRežija: Park Chan-wook\nIgrajo: Lee Byung-hun; Son Ye-jin; Park Hee-soon; Lee Sung-min\nDolžina: Navedena dolžina filma ni točna \nMan-su\, dolgoletni strokovnjak za proizvodnjo papirja\, živi popolno življenje – dokler ga nekega dne podjetje ne odpusti. Udarec\, ki ga prejme\, ni le finančen\, temveč identiteten\, saj je svojo vrednost gradil na predanosti delu. Ko išče novo službo in opazuje neusmiljeno konkurenco\, se v njem rodi temačna misel: morda je edini način preživetja ta\, da se znebi tekmecev. V spirali črnega humorja\, kritike kapitalizma in osebnega razpada se Man-su znajde na robu morale. Njegova zgodba nas opozarja\, kako sistem lahko potisne človeka čez mejo sprejemljivega.
URL:https://kino-vrhnika.si/predstava/ni-druge-izbire/
CATEGORIES:Art
ATTACH;FMTTYPE=image/png:https://kino-vrhnika.si/wp-content/uploads/2026/02/Ni-druge-izbire.png
END:VEVENT
BEGIN:VEVENT
DTSTART;TZID=Europe/Ljubljana:20260315T190000
DTEND;TZID=Europe/Ljubljana:20260315T213000
DTSTAMP:20260421T164412
CREATED:20260221T001151Z
LAST-MODIFIED:20260302T072944Z
UID:12756-1773601200-1773610200@kino-vrhnika.si
SUMMARY:Čarovnik iz Kremlja
DESCRIPTION:Čarovnik iz Kremlja\n15. 3. 2026 ob 19.00\nRežija: Olivier Assayas\nIgrajo: Jude Law; Alicia Vikander; Paul Dano; Jeffrey Wright\nDolžina: Navedena dolžina filma ni točna \nVadim Baranov\, nekdanji umetnik in producent\, se v devetdesetih letih znajde v samem središču ruske politike\, ko postane ključni strateški svetovalec ambicioznemu agentu KGB – Vladimirju Putinu. Med oblikovanjem mitologije nove Rusije se znajde razpet med lojalnostjo\, strahom in dvomi\, ki ga preganjajo. V svetu\, kjer resnica in manipulacija hodita z roko v roki\, se Vadim vse bolj zaveda cene moči in tihe odgovornosti\, ki jo nosi. Film razkriva hladen\, natančno zgrajen mehanizem vpliva\, v katerem lahko ena napačna poteza pomeni osebni in politični propad.
URL:https://kino-vrhnika.si/predstava/carovnik-iz-kremlja/
CATEGORIES:Art
ATTACH;FMTTYPE=image/png:https://kino-vrhnika.si/wp-content/uploads/2026/02/Carovnik-iz-Kremlja.png
END:VEVENT
BEGIN:VEVENT
DTSTART;TZID=Europe/Ljubljana:20260320T180000
DTEND;TZID=Europe/Ljubljana:20260320T192000
DTSTAMP:20260421T164412
CREATED:20260221T001153Z
LAST-MODIFIED:20260222T091950Z
UID:12757-1774029600-1774034400@kino-vrhnika.si
SUMMARY:Drugi dnevnik Pauline P.
DESCRIPTION:Drugi dnevnik Pauline P.\n20. 3. 2026 ob 18.00\nRežija: Neven Hitrec\nIgrajo: Katja Matković; Judita Franković Brdar; Igor Kovač; Ksenija Marinković; Jure Henigman\nDolžina: Navedena dolžina filma ni točna \nPaulina\, zdaj enajstletnica\, se znajde v novem šolskem letu\, ki ji prinese strog predmet geografije\, prvega resnega nasilneža in skrb za bolno babico. V želji\, da bi razumela svet okoli sebe\, si izmisli alter ego – detektivko\, ki preučuje skrivnosti življenja z radovednostjo in humorjem. Med prijateljstvi\, preizkušnjami in pogumnimi dejanji spoznava\, da odrasčanje ni le niz uspehov\, temveč pot\, polna napak\, učenja in majhnih zmag. Film nežno prikaže razvoj deklice\, ki se uči sprejemati odgovornost in iskati svetlobo tudi v težkih trenutkih.
URL:https://kino-vrhnika.si/predstava/drugi-dnevnik-pauline-p-2/
CATEGORIES:Art
ATTACH;FMTTYPE=image/png:https://kino-vrhnika.si/wp-content/uploads/2026/02/Drugi-dnevnik-Pauline-P.png
END:VEVENT
BEGIN:VEVENT
DTSTART;TZID=Europe/Ljubljana:20260320T200000
DTEND;TZID=Europe/Ljubljana:20260320T224500
DTSTAMP:20260421T164412
CREATED:20260221T001155Z
LAST-MODIFIED:20260316T083518Z
UID:12758-1774036800-1774046700@kino-vrhnika.si
SUMMARY:ZMAGOVALEC OSKARJEV - ENA BITKA ZA DRUGO
DESCRIPTION:ZMAGOVALEC OSKARJEV – ENA BITKA ZA DRUGO\n20. 3. 2026 ob 20.00\nRežija: Paul Thomas Anderson\nIgrajo: Regina Hall\, Benicio Del Toro\, Leonardo DiCaprio\, Alana Haim\, Sean Penn\, Wood Harris\, Teyana Taylor\nDolžina: Navedena dolžina filma ni točna \nBob\, nekoč član revolucionarne skupine\, znane pod imenom »The French 75«\, je pred šestnajstimi leti pretrgal stike s svetom. Poseda po hiši\, popiva\, kadi travo in gleda stare revolucionarne filme. Toda ko njegova hči izgine\, se mora hitro spraviti k sebi in storiti vse\, da bi jo rešil … \n \n 
URL:https://kino-vrhnika.si/predstava/zmagovalec-oskarjev/
CATEGORIES:Art
ATTACH;FMTTYPE=image/png:https://kino-vrhnika.si/wp-content/uploads/2025/01/Ena-bitka-za-drugo.png
END:VEVENT
BEGIN:VEVENT
DTSTART;TZID=Europe/Ljubljana:20260321T170000
DTEND;TZID=Europe/Ljubljana:20260321T184000
DTSTAMP:20260421T164412
CREATED:20260221T001157Z
LAST-MODIFIED:20260302T073001Z
UID:12759-1774112400-1774118400@kino-vrhnika.si
SUMMARY:David
DESCRIPTION:David\n21. 3. 2026 ob 17.00\nRežija: Phil Cunningham; Brent Dawes\nIgrajo: animirani film\, sinhronizirano\nDolžina: Navedena dolžina filma ni točna \nMlad pastir David živi mirno življenje\, dokler ne stopi pred velikana Goljata in s pogumom ter vero naredi korak\, ki ga za vedno zaznamuje. Njegova pot od zmage do odgovornosti kralja je polna dvomov\, skušnjav in odločitev\, ki zahtevajo trdnost značaja. Animirani film raziskuje notranji boj med ambicijo in ponižnostjo ter poudari pomen vere\, ki vodi človeka tudi v najtemnejših trenutkih. S čustveno glasbo\, bogatim vizualnim svetom in toplim sporočilom film obuja eno najstarejših zgodb človeštva na način\, ki nagovarja vse generacije.
URL:https://kino-vrhnika.si/predstava/david/
CATEGORIES:Art
ATTACH;FMTTYPE=image/png:https://kino-vrhnika.si/wp-content/uploads/2026/02/David.png
END:VEVENT
BEGIN:VEVENT
DTSTART;TZID=Europe/Ljubljana:20260322T190000
DTEND;TZID=Europe/Ljubljana:20260322T203000
DTSTAMP:20260421T164412
CREATED:20260221T001204Z
LAST-MODIFIED:20260302T073026Z
UID:12762-1774206000-1774211400@kino-vrhnika.si
SUMMARY:EPiC: Elvis Presley na koncertu
DESCRIPTION:EPiC: Elvis Presley na koncertu\n22. 3. 2026 ob 19.00\nRežija: Baz Luhrmann\nIgrajo: Elvis Presley (arhivski posnetki)\nDolžina: Navedena dolžina filma ni točna \nSkozi obnovljene\, dolgo izgubljene koncertne posnetke Elvis Presley prvič sam pripoveduje svojo zgodbo na velikem platnu. Film gledalca popelje v živahne dvorane\, med vzklike oboževalcev in trenutke\, ko je Elvis oblikoval glasbeni svet. Združuje intimen vpogled v njegovo umetniško pot z vizualno razkošnimi sekvencami\, ki razkrivajo moč njegove karizme. Gre za doživetje\, ki presega dokumentarec\, saj prikazuje človeka\, ki je postal legenda. Zgodba spoštljivo oživi njegovo energijo\, ranljivost in vpliv\, ki še danes oblikuje sodobno kulturo.
URL:https://kino-vrhnika.si/predstava/epic-elvis-presley-na-koncertu/
CATEGORIES:Art
ATTACH;FMTTYPE=image/png:https://kino-vrhnika.si/wp-content/uploads/2026/02/EPiC_Elvis-Presley-na-koncertu.png
END:VEVENT
BEGIN:VEVENT
DTSTART;TZID=Europe/Ljubljana:20260329T190000
DTEND;TZID=Europe/Ljubljana:20260329T204500
DTSTAMP:20260421T164412
CREATED:20260221T001208Z
LAST-MODIFIED:20260322T153315Z
UID:12764-1774810800-1774817100@kino-vrhnika.si
SUMMARY:Mlade matere
DESCRIPTION:Mlade matere\n29. 3. 2026 ob 19.00\nRežija: Jean-Pierre Dardenne\, Luc Dardenne\nIgrajo: Babette Verbeek\, Elsa Houben\, Janaina Halloy\, Lucie Laruelle\, Samia Hilmi\, Jef Jacobs\, Günter Duret\, Christelle Cornil\, India Hair\, Joely Mbundu\, Claire Bodson\nDolžina: Navedena dolžina filma ni točna \nV Liegu v Belgiji se nahaja dom za mlade matere\, v katerem najstnicam\, ki so pravkar rodile ali pa še bodo\, pomagajo pri učenju in spoznavanju materinskih opravil. Pokažejo jim\, kako je dojenčke treba hraniti in negovati. Če si tega želijo\, jih podučijo\, kako navezati stik z morebitnimi posvojitelji. Srečujejo se tudi z resnejšimi težavami\, kot so odvisnost\, zlorabe\, depresija in brezdomstvo. Dekleta tu tvorijo skupnost v polnem pomenu besede. Samo skozi povezanost in skupno reševanje težav lahko namreč premostijo izzive\, ki jih je življenje postavilo pred njih. \n \n 
URL:https://kino-vrhnika.si/predstava/mlade-matere/
CATEGORIES:Art
ATTACH;FMTTYPE=image/png:https://kino-vrhnika.si/wp-content/uploads/2026/03/Mlade-matere-1.png
END:VEVENT
END:VCALENDAR