BEGIN:VCALENDAR
VERSION:2.0
PRODID:-//Kino Vrhnika - ECPv6.7.1//NONSGML v1.0//EN
CALSCALE:GREGORIAN
METHOD:PUBLISH
X-WR-CALNAME:Kino Vrhnika
X-ORIGINAL-URL:https://kino-vrhnika.si
X-WR-CALDESC:Dogodki za Kino Vrhnika
REFRESH-INTERVAL;VALUE=DURATION:PT1H
X-Robots-Tag:noindex
X-PUBLISHED-TTL:PT1H
BEGIN:VTIMEZONE
TZID:Europe/Ljubljana
BEGIN:DAYLIGHT
TZOFFSETFROM:+0100
TZOFFSETTO:+0200
TZNAME:CEST
DTSTART:20250330T010000
END:DAYLIGHT
BEGIN:STANDARD
TZOFFSETFROM:+0200
TZOFFSETTO:+0100
TZNAME:CET
DTSTART:20251026T010000
END:STANDARD
END:VTIMEZONE
BEGIN:VEVENT
DTSTART;TZID=Europe/Ljubljana:20251102T170000
DTEND;TZID=Europe/Ljubljana:20251102T181000
DTSTAMP:20260421T235508
CREATED:20250109T230000Z
LAST-MODIFIED:20251018T083320Z
UID:11672-1762102800-1762107000@kino-vrhnika.si
SUMMARY:Zgodbe iz čarobnega vrta
DESCRIPTION:Zgodbe iz čarobnega vrta\n2. 11. 2025 ob 17.00\nRežija: Leon Vidmar\, David Súkup\, Patrik Pašš\, Jean-Claude Rozec\nIgrajo: sinhronizirano\nDolžina: Navedena dolžina filma ni točna \nTomi\, Suzana in Darko obiščejo dedka\, prvič po izgubi ljubljene babice. V hiši vlada tišina\, dedek pa je kar nekam odsoten in odtujen. Suzana\, navdihnjena s spomini\, prevzame babičino vlogo pripovedovalke zgodb. S čarobnimi pripovedmi in neizmerno domišljijo poskuša povrniti toplino v dedkov dom in v medsebojne odnose. Potopimo se v magični svet skrivnostne mačke\, na prvi pogled strašne pošasti in drznega letečega gospoda. Zgodbe namreč niso le skrivnostne\, dramatične\, žalostne in smešne\, temveč služijo kot pomoč vsem družinskim članom\, da se lažje spoprimejo z izgubo.
URL:https://kino-vrhnika.si/predstava/zgodbe-iz-carobnega-vrta/
CATEGORIES:Art
ATTACH;FMTTYPE=image/png:https://kino-vrhnika.si/wp-content/uploads/2025/01/Zgodbe-iz-carobnega-vrta.png
END:VEVENT
BEGIN:VEVENT
DTSTART;TZID=Europe/Ljubljana:20251102T190000
DTEND;TZID=Europe/Ljubljana:20251102T205000
DTSTAMP:20260421T235508
CREATED:20250109T230000Z
LAST-MODIFIED:20251018T083456Z
UID:11674-1762110000-1762116600@kino-vrhnika.si
SUMMARY:Oporoka
DESCRIPTION:Oporoka\n2. 11. 2025 ob 19.00\nRežija: Mirza Begovic\nIgrajo: Zlatan Skoljic\, Nusmir Muharemovic\, Faketa Salihbegovic\nDolžina: Navedena dolžina filma ni točna \nFilm Oporoka je humorna in čustvena zgodba\, postavljena v bosansko vas in industrijsko Zenico v začetku devetdesetih let prejšnjega stoletja\, ki na edinstven način prikazuje pomen oporoke in posledice njene odsotnosti v lokalni kulturi. Skozi življenja običajnih ljudi film prinaša vrsto manjših konfliktov in nesporazumov o lastnini\, tradiciji in medosebnih odnosih\, kjer stari običaji trčijo z realnostjo\, polno človeških slabosti – hazarderstva\, ogovarjanja\, ljubezni in drobnih tatvin. Glavni junak Asad se mora po izgubi očetove dediščine znajti v svetu industrijske Zenice\, gostilne in vsakdanjih težav\, pri čemer mu pomaga njegov najboljši prijatelj Dževad\, šarmanten lik\, ki se sooča z lastnimi težavami in vedno išče bližnjico do rešitve.
URL:https://kino-vrhnika.si/predstava/testament/
CATEGORIES:Art
ATTACH;FMTTYPE=image/png:https://kino-vrhnika.si/wp-content/uploads/2025/01/Testament.png
END:VEVENT
BEGIN:VEVENT
DTSTART;TZID=Europe/Ljubljana:20251108T170000
DTEND;TZID=Europe/Ljubljana:20251108T183000
DTSTAMP:20260421T235508
CREATED:20250109T230000Z
LAST-MODIFIED:20251018T084714Z
UID:11676-1762621200-1762626600@kino-vrhnika.si
SUMMARY:Božična mišelovka
DESCRIPTION:Božična mišelovka\n8. 11. 2025 ob 17.00\nRežija: Henrik Martin Dahlsbakken\nIgrajo: Sara Khorami\, Pål Sverre Hagen\, Flo Fagerli\, Vegard Strand Eide\, Jon Øigarden\, Catrin Gundersen\, Martin Sundland\nDolžina: Navedena dolžina filma ni točna \nBožič je tik pred vrati\, majhna mišja družina pa se pripravlja na velike praznike. Ata in sestrica sta nabirala oreščke in prinesla božično drevo\, babica in mama se kot vedno pričkata o tem\, katere božične tradicije so najpomembnejše\, medtem pa je veliki brat v svojem mehurčku in mu ni mar za nič. Vsi pa imajo nekaj skupnega: veselijo se še enega varnega\, zdravega in brezskrbnega božiča v prazni hiši! Nenadoma pa vso hišo osvetlita zaslepljujoči luči\, veliki kot NLP. Nevarnost! Prihajajo ljudje. Vse sledi bo treba odstraniti. In miške so se za takšno situacijo izurile… V hišo vstopi štiričlanska družina. Z vrečkami\, polnimi okraskov in daril\, so pripravljeni na prijetne božične praznike na podeželju. Kmalu pa odkrijejo\, da niso sami. Okoli njih se začnejo dogajati nepojasnjene stvari – utripajoče luči in škripajoči zvoki\, ki prihajajo iz notranjosti sten. Kakšen kraj je to\, se sprašujejo. Malih škodljivcev se skušajo hitro znebiti. Vendar se ne zavedajo\, da to niso le navadne hišne miši – ta druščina ima zelo posebne lastnosti in boj bo veliko težji\, kot si lahko kdorkoli predstavlja.
URL:https://kino-vrhnika.si/predstava/bozicna-miselovka/
CATEGORIES:Art
ATTACH;FMTTYPE=image/png:https://kino-vrhnika.si/wp-content/uploads/2025/01/Bozicna-miselovka.png
END:VEVENT
BEGIN:VEVENT
DTSTART;TZID=Europe/Ljubljana:20251116T170000
DTEND;TZID=Europe/Ljubljana:20251116T183000
DTSTAMP:20260421T235508
CREATED:20250109T230000Z
LAST-MODIFIED:20251018T085058Z
UID:11683-1763312400-1763317800@kino-vrhnika.si
SUMMARY:Elvis Škorc
DESCRIPTION:Elvis Škorc\n16. 11. 2025 ob 17.00\nRežija: Boris Jurjaševič\nIgrajo: Maks Peštaj Zevnik\, Kiara Kenig\, Frida Bratuš\, Iva Krajnc Bagola\, Marko Mandić\, Matej Puc\, Zvezdana Mlakar\, Gojmir Lešnjak Gojc\, Hana Majdič\, Tilen Kolbe\, Arne Duhovnik\, Til Pučko\, Emil Kulović\, Manca Dorrer\nDolžina: Navedena dolžina filma ni točna \nMladinski film Elvis Škorc govori o fantu Elvisu (14)\, ki ga svet ne razume\, prisega pa na kemijo\, stripe in Hano\, najlepše dekle na šoli. Njegovo življenje se popolnoma spremeni\, ko se starši ločijo in si dom deli le z mamo\, mlajšo sestro in babico. Nepričakovani družinski cunami doseže vrhunec z materino novico\, da je noseča. V smešni\, zabavni in dinamični najstniški odisejadi Elvisu nekako uspe razrešiti vse težave in zaplete\, zlepiti koščke svojega razbitega življenja in ostati zvest sebi. Film je posnet po istoimenski knjižni uspešnici “Elvis Škorc\, genialni štor” o sodobnem slovenskem Jadranu Krtu\, za katero je Janja Vidmar prejela številne nagrade. Celovečerni mladinsko-družinski film ELVIS ŠKORC na duhovit način predstavlja zamotan svet štirinajstletnika\, ki že od malega ve\, da bo izumitelj. Elvis Škorc išče svoje mesto doma v ločeni družini in v šoli\, kjer je tarča razrednih nasilnežev. Elvis počasi dozoreva in spoznava\, kaj je zares pomembno v življenju.
URL:https://kino-vrhnika.si/predstava/elvis-skorc-3/
CATEGORIES:Art
ATTACH;FMTTYPE=image/png:https://kino-vrhnika.si/wp-content/uploads/2025/01/Elvis-Skorc-2.png
END:VEVENT
BEGIN:VEVENT
DTSTART;TZID=Europe/Ljubljana:20251116T190000
DTEND;TZID=Europe/Ljubljana:20251116T204500
DTSTAMP:20260421T235508
CREATED:20251019T181329Z
LAST-MODIFIED:20251020T065748Z
UID:11762-1763319600-1763325900@kino-vrhnika.si
SUMMARY:Tri kilometre do konca sveta
DESCRIPTION:Tri kilometre do konca sveta\n16. 11. 2025 ob 19.00\nRežija: Emanuel Parvu\nIgrajo: Bogdan Dumitrache\, Ciprian Chiujdea\, Laura Vasiliu\, Valeriu Andriuta\nDolžina: Navedena dolžina filma ni točna \nRomunska drama razkriva pretresljivo zgodbo 17-letnika\, ki se po homofobnem napadu v konservativni vasi bori za sprejetost in ljubezen. Adi\, homoseksualen najstnik\, poletje preživlja v domači vasi v delti Donave. Po brutalnem nočnem napadu se mu naslednji dan svet obrne na glavo. Njegovi straši ga gledajo drugače\, kot so ga prej\, in navidezni mir v vasi začne razpadati. \nZmagovalni film na letošnjem 30. sarajevskem filmskem festivalu.
URL:https://kino-vrhnika.si/predstava/tri-kilometri-do-konca-sveta/
CATEGORIES:Art
ATTACH;FMTTYPE=image/png:https://kino-vrhnika.si/wp-content/uploads/2025/10/Tri-kilometre-do-konca-sveta.png
END:VEVENT
BEGIN:VEVENT
DTSTART;TZID=Europe/Ljubljana:20251120T190000
DTEND;TZID=Europe/Ljubljana:20251120T212000
DTSTAMP:20260421T235508
CREATED:20250109T230000Z
LAST-MODIFIED:20251018T085200Z
UID:11687-1763665200-1763673600@kino-vrhnika.si
SUMMARY:Belo se pere na devetdeset
DESCRIPTION:Belo se pere na devetdeset\n20. 11. 2025 ob 19.00\nRežija: Marko Nabersnik\nIgrajo: Lea Cok\, Vladimir Tintor\, Iva Krajnc Bagola\, Anica Dobra\, Jurij Zrnec\, Tjaša Železnik\, Polona Juh\, Saša Tabaković\nDolžina: Navedena dolžina filma ni točna \nGanljiv\, humoren in navdihujoč film o soočanju z boleznijo. Zgodba spremlja Bronjo skozi različna obdobja njenega življenja. Potem ko v otroštvu zaradi raka izgubi mamo\, se mora v mladosti s to zahrbtno boleznijo soočiti še sama. Kljub številnim in skoraj nepremostljivim izzivom se Bronja z njimi spoprijema z mešanico solz\, smeha in neomajnega optimizma. Film temelji na resnični zgodbi in avtobiografskem romanu z istim naslovom. Doživel je že devet ponatisov. V vlogi Bronjinega očeta nastopa Jurij Zrnec\, v glavni vlogi igra Lea Cok\, ki je upodobila starejšo Bronjo\, mlajšo verzijo pisateljice pa je zaigrala Mei Rabič. Mlajšega brata Roka je upodobil Jaka Mehle\, starejšega pa Žiga Šorli. V vlogi Bronjine mame nastopa Tjaša Železnik\, babica je Anica Dobra. Kot ožja sorodnika se v filmu pojavita še Saša Tabaković in Iva Krajnc Bagola.
URL:https://kino-vrhnika.si/predstava/belo-se-pere-na-devetdeset/
CATEGORIES:Art
ATTACH;FMTTYPE=image/png:https://kino-vrhnika.si/wp-content/uploads/2025/01/Belo-se-pere-na-devetdeset.png
END:VEVENT
BEGIN:VEVENT
DTSTART;TZID=Europe/Ljubljana:20251123T170000
DTEND;TZID=Europe/Ljubljana:20251123T183000
DTSTAMP:20260421T235508
CREATED:20250109T230000Z
LAST-MODIFIED:20251018T085236Z
UID:11689-1763917200-1763922600@kino-vrhnika.si
SUMMARY:Božična mišelovka
DESCRIPTION:Božična mišelovka\n23. 11. 2025 ob 17.00\nRežija: Henrik Martin Dahlsbakken\nIgrajo: Sara Khorami\, Pål Sverre Hagen\, Flo Fagerli\, Vegard Strand Eide\, Jon Øigarden\, Catrin Gundersen\, Martin Sundland\nDolžina: Navedena dolžina filma ni točna \nBožič je tik pred vrati\, majhna mišja družina pa se pripravlja na velike praznike. Ata in sestrica sta nabirala oreščke in prinesla božično drevo\, babica in mama se kot vedno pričkata o tem\, katere božične tradicije so najpomembnejše\, medtem pa je veliki brat v svojem mehurčku in mu ni mar za nič. Vsi pa imajo nekaj skupnega: veselijo se še enega varnega\, zdravega in brezskrbnega božiča v prazni hiši! Nenadoma pa vso hišo osvetlita zaslepljujoči luči\, veliki kot NLP. Nevarnost! Prihajajo ljudje. Vse sledi bo treba odstraniti. In miške so se za takšno situacijo izurile… V hišo vstopi štiričlanska družina. Z vrečkami\, polnimi okraskov in daril\, so pripravljeni na prijetne božične praznike na podeželju. Kmalu pa odkrijejo\, da niso sami. Okoli njih se začnejo dogajati nepojasnjene stvari – utripajoče luči in škripajoči zvoki\, ki prihajajo iz notranjosti sten. Kakšen kraj je to\, se sprašujejo. Malih škodljivcev se skušajo hitro znebiti. Vendar se ne zavedajo\, da to niso le navadne hišne miši – ta druščina ima zelo posebne lastnosti in boj bo veliko težji\, kot si lahko kdorkoli predstavlja.
URL:https://kino-vrhnika.si/predstava/bozicna-miselovka-2/
CATEGORIES:Art
ATTACH;FMTTYPE=image/png:https://kino-vrhnika.si/wp-content/uploads/2025/01/Bozicna-miselovka.png
END:VEVENT
BEGIN:VEVENT
DTSTART;TZID=Europe/Ljubljana:20251123T190000
DTEND;TZID=Europe/Ljubljana:20251123T212000
DTSTAMP:20260421T235508
CREATED:20250109T230000Z
LAST-MODIFIED:20251018T085312Z
UID:11690-1763924400-1763932800@kino-vrhnika.si
SUMMARY:Belo se pere na devetdeset
DESCRIPTION:Belo se pere na devetdeset\n23. 11. 2025 ob 19.00\nRežija: Marko Nabersnik\nIgrajo: Lea Cok\, Vladimir Tintor\, Iva Krajnc Bagola\, Anica Dobra\, Jurij Zrnec\, Tjaša Železnik\, Polona Juh\, Saša Tabaković\nDolžina: Navedena dolžina filma ni točna \nGanljiv\, humoren in navdihujoč film o soočanju z boleznijo. Zgodba spremlja Bronjo skozi različna obdobja njenega življenja. Potem ko v otroštvu zaradi raka izgubi mamo\, se mora v mladosti s to zahrbtno boleznijo soočiti še sama. Kljub številnim in skoraj nepremostljivim izzivom se Bronja z njimi spoprijema z mešanico solz\, smeha in neomajnega optimizma. Film temelji na resnični zgodbi in avtobiografskem romanu z istim naslovom. Doživel je že devet ponatisov. V vlogi Bronjinega očeta nastopa Jurij Zrnec\, v glavni vlogi igra Lea Cok\, ki je upodobila starejšo Bronjo\, mlajšo verzijo pisateljice pa je zaigrala Mei Rabič. Mlajšega brata Roka je upodobil Jaka Mehle\, starejšega pa Žiga Šorli. V vlogi Bronjine mame nastopa Tjaša Železnik\, babica je Anica Dobra. Kot ožja sorodnika se v filmu pojavita še Saša Tabaković in Iva Krajnc Bagola.
URL:https://kino-vrhnika.si/predstava/belo-se-pere-na-devetdeset-2/
CATEGORIES:Art
ATTACH;FMTTYPE=image/png:https://kino-vrhnika.si/wp-content/uploads/2025/01/Belo-se-pere-na-devetdeset.png
END:VEVENT
BEGIN:VEVENT
DTSTART;TZID=Europe/Ljubljana:20251127T100000
DTEND;TZID=Europe/Ljubljana:20251127T113000
DTSTAMP:20260421T235508
CREATED:20250109T230000Z
LAST-MODIFIED:20251018T085406Z
UID:11691-1764237600-1764243000@kino-vrhnika.si
SUMMARY:Zrcala\, št. 3
DESCRIPTION:Zrcala\, št. 3\n27. 11. 2025 ob 10.00\nRežija: Christian Petzold\nIgrajo: Paula Beer\, Barbara Auer\, Matthias Brandt\, Enno Trebs\, Philip Froissan\nDolžina: Navedena dolžina filma ni točna \nMed vikend izletom na podeželje Laura\, študentka klavirja iz Berlina\, čudežno preživi prometno nesrečo. Nepoškodovano\, toda globoko pretreseno\, jo k sebi vzame domačinka\, ki je videla nesrečo\, in zanjo skrbi z materinsko predanostjo. Njen mož in odrasli sin sta do Laure sprva zadržana\, toda vsi štirje vzpostavijo nekakšno družinsko rutino in preživijo nekaj srečnih dni. Toda kmalu ne morejo več bežati pred svojo preteklostjo in Laura se mora spopasti s svojim življenjem.
URL:https://kino-vrhnika.si/predstava/zrcala-st-3/
CATEGORIES:Art
ATTACH;FMTTYPE=image/png:https://kino-vrhnika.si/wp-content/uploads/2025/01/Zrcala-st.-3.png
END:VEVENT
BEGIN:VEVENT
DTSTART;TZID=Europe/Ljubljana:20251130T190000
DTEND;TZID=Europe/Ljubljana:20251130T210000
DTSTAMP:20260421T235508
CREATED:20250109T230000Z
LAST-MODIFIED:20251018T085650Z
UID:11698-1764529200-1764536400@kino-vrhnika.si
SUMMARY:Bugonija
DESCRIPTION:Bugonija\n30. 11. 2025 ob 19.00\nRežija: Yorgos Lanthimos\nIgrajo: Emma Stone\, Jesse Plemons\, Aidan Delbis\, Stavros Halkias in Alicia Silverstone\nDolžina: Navedena dolžina filma ni točna \nNovembra letos bomo v kinematografih spremljali zgodbo dveh moških\, ki ugrabita direktorico\, misleč\, da je Nezemljanka\, v znanstvenofantastični komediji Bugonija. Film je režiral Yorgos Lanthimos (režiser filmov Nesrečna bitja in Ljubljena)\, scenarij je napisal Will Tracy\, v glavnih vlogah pa igrajo Emma Stone\, Jesse Plemons\, Aidan Delbis\, Stavros Halkias in Alicia Silverstone. Mladeniča\, ki sta obsedena z zarotami\, ugrabita vplivno direktorico velikega podjetja\, saj sta prepričana\, da je Nezemljanka\, ki namerava uničiti planet Zemljo.
URL:https://kino-vrhnika.si/predstava/bugonija/
CATEGORIES:Art
ATTACH;FMTTYPE=image/png:https://kino-vrhnika.si/wp-content/uploads/2025/01/Bugonija.png
END:VEVENT
END:VCALENDAR