BEGIN:VCALENDAR
VERSION:2.0
PRODID:-//Kino Vrhnika - ECPv6.7.1//NONSGML v1.0//EN
CALSCALE:GREGORIAN
METHOD:PUBLISH
X-ORIGINAL-URL:https://kino-vrhnika.si
X-WR-CALDESC:Dogodki za Kino Vrhnika
REFRESH-INTERVAL;VALUE=DURATION:PT1H
X-Robots-Tag:noindex
X-PUBLISHED-TTL:PT1H
BEGIN:VTIMEZONE
TZID:Europe/Ljubljana
BEGIN:DAYLIGHT
TZOFFSETFROM:+0100
TZOFFSETTO:+0200
TZNAME:CEST
DTSTART:20250330T010000
END:DAYLIGHT
BEGIN:STANDARD
TZOFFSETFROM:+0200
TZOFFSETTO:+0100
TZNAME:CET
DTSTART:20251026T010000
END:STANDARD
END:VTIMEZONE
BEGIN:VEVENT
DTSTART;TZID=Europe/Ljubljana:20250904T200000
DTEND;TZID=Europe/Ljubljana:20250904T213000
DTSTAMP:20260422T033702
CREATED:20250109T230000Z
LAST-MODIFIED:20250829T143243Z
UID:11355-1757016000-1757021400@kino-vrhnika.si
SUMMARY:Modrost sreče
DESCRIPTION:Modrost sreče\n4. 9. 2025 ob 20.00\nRežija: Barbara Miller & Philip Delaquis / Barbara Miller & Philip Delaquis\nIgrajo: Tenzin Gyatso (Dalajlama)\nDolžina: Navedena dolžina filma ni točna \nGre za intimni portret Dalajlame\, ki nas nagovarja neposredno\, skoraj kot bi sodelovali v osebnem pogovoru. Film razgrinja njegovo življenjsko modrost o sreči\, sočutju in odgovornosti vsakega posameznika v sodobnem svetu. Ustvarjalci Barbara Miller in Philip Delaquis združujejo estetsko dodelane vizualne prizore s preprostimi\, a globokimi resnicami duhovnega voditelja. Hkrati film reflektira globalne krize – od vojn\, političnih napetosti do podnebnih sprememb – ter opozarja\, da je notranja sprememba posameznika ključ do spremembe družbe. Dokumentarec je posnet s podporo Richarda Gerea\, kar mu daje tudi mednarodno prepoznavnost. Pogovori z Dalajlamo so prepleteni s posnetki njegovega vsakdanjega življenja\, meditacije in srečanj z ljudmi.
URL:https://kino-vrhnika.si/predstava/modrost-srece/
CATEGORIES:Art
ATTACH;FMTTYPE=image/png:https://kino-vrhnika.si/wp-content/uploads/2025/01/Modrost-srece.png
END:VEVENT
BEGIN:VEVENT
DTSTART;TZID=Europe/Ljubljana:20250906T120000
DTEND;TZID=Europe/Ljubljana:20250906T130000
DTSTAMP:20260422T033702
CREATED:20250109T230000Z
LAST-MODIFIED:20250830T183812Z
UID:11360-1757160000-1757163600@kino-vrhnika.si
SUMMARY:La Fortaleza: Film o kavi (prost vstop - 3 termini)
DESCRIPTION:La Fortaleza: FIlm o kavi (vstop prost)\n6. 9. 2025 ob 12.00\n6. 9. 2025 ob 15.00\n6. 9. 2025 ob 18.00 \nRežija:\nIgrajo: \nVabljeni na Festival kave Vrhnika – edinstven dogodek\, kjer se bodo zbrali ljubitelji kave\, mojstri praženja in umetniki priprave kavnih napitkov! Letos bo festival še posebej sladek in mamljiv – prvič bomo kavo povezali s čokolado! Čaka vas doživetje\, polno arom\, okusov in pristnega druženja na enem mestu. Obiščite najbolj kavni dogodek daleč naokoli! Dogajanje bo v parku pred Cankarjevim domom na Vrhniki. Na dogodku bomo prisotni tudi s filmom v dvorani z naslovom La Fortaleza\, ki govori o zgodbi kave\, od zrna – do skodelice. Na sporedu ob 12.00\, 15.00 in ob 18.00 v veliki dvorani. Vstop na dogodek je prost. Vabljeni.
URL:https://kino-vrhnika.si/predstava/la-fortaleza-film-o-kavi/
CATEGORIES:Art
ATTACH;FMTTYPE=image/png:https://kino-vrhnika.si/wp-content/uploads/2025/01/La-Fortaleza.png
END:VEVENT
BEGIN:VEVENT
DTSTART;TZID=Europe/Ljubljana:20250907T180000
DTEND;TZID=Europe/Ljubljana:20250907T192000
DTSTAMP:20260422T033702
CREATED:20250109T230000Z
LAST-MODIFIED:20250829T152726Z
UID:11363-1757268000-1757272800@kino-vrhnika.si
SUMMARY:Super Čarli
DESCRIPTION:Super Čarli\n7. 9. 2025 ob 18.00\nRežija: Jon Holmberg\nIgrajo: Sinhronizirano v slovenski jezik.\nDolžina: Navedena dolžina filma ni točna \nSuper Čarli je barvita animirana pustolovščina o bratski povezavi\, kjer čustveno rivalstvo preraste v sodelovanje. Wille\, navdušen nad idejo\, da bi postal superheroj\, je razočaran\, ko se izkaže\, da ima dojenček Charlie resnične supermoči. Ob soočenju s superzlobnežem in zlobnimi eksperimenti morata bratca preseči tekmovalnost in delovati kot ekipa. Režiser Jon Holmberg združuje akcijo\, humor in srčnost v živahen animirani svet. Camilla Läckberg je kot izvirna avtorica in producentka pripomogla h globini pripovedi. Animacija ponuja estetsko privlačnost\, dinamičen tempo in nostalgične motive\, primerne za družine. Sporočilo filma nagovarja empatijo\, sprejemanje in moč bratstva v vsakodnevnih junakih
URL:https://kino-vrhnika.si/predstava/super-carli/
CATEGORIES:Art
ATTACH;FMTTYPE=image/png:https://kino-vrhnika.si/wp-content/uploads/2025/01/Super-Carli.png
END:VEVENT
BEGIN:VEVENT
DTSTART;TZID=Europe/Ljubljana:20250911T200000
DTEND;TZID=Europe/Ljubljana:20250911T211500
DTSTAMP:20260422T033702
CREATED:20250109T230000Z
LAST-MODIFIED:20250829T145923Z
UID:11367-1757620800-1757625300@kino-vrhnika.si
SUMMARY:Prisiljena
DESCRIPTION:Prisiljena\n11. 9. 2025 ob 20.00\nRežija: Sharon Bar-Ziv\nIgrajo: Nina Rakovec\, Mia Skrbinac\nDolžina: Navedena dolžina filma ni točna \nPrisiljena izpisuje temelji na resničnem kriminalnem dogodku z močno psihološko težo\, kjer detektivka preiskuje uspešnega odvetnika osumljenega omame in zlorabe. Film je posnet v Sloveniji\, igrata pa tudi slovenski igralki Nina Rakovec in Mia Skrbinac. Rezultat je napeta psihološka drama\, ki ne razmišlja samo o primeru\, ampak tudi o družbeni percepciji molka žrtve. Sharon Bar‑Ziv režira zgodbo s premišljeno strukturo in držo\, ki gledalca vodi skozi močna čustvena stanja. Zgodba odpira razpravo o zaupanju v pravosodni sistem in moč posameznice v boju za resnico. Film posluži kot družbeni komentar in izziv gledalčevi empatiji.
URL:https://kino-vrhnika.si/predstava/prisiljena/
CATEGORIES:Art
ATTACH;FMTTYPE=image/png:https://kino-vrhnika.si/wp-content/uploads/2025/01/Prisiljena.png
END:VEVENT
BEGIN:VEVENT
DTSTART;TZID=Europe/Ljubljana:20250912T180000
DTEND;TZID=Europe/Ljubljana:20250912T193000
DTSTAMP:20260422T033702
CREATED:20250109T230000Z
LAST-MODIFIED:20250829T150016Z
UID:11369-1757700000-1757705400@kino-vrhnika.si
SUMMARY:Ozi: Glas gozda
DESCRIPTION:Ozi: Glas gozda\n12. 9. 2025 ob 18.00\nRežija: Tim Harper\nIgrajo: sinhronizirano\nDolžina: Navedena dolžina filma ni točna \nKo njeni družini uničijo dom\, se Ozi poda na drzno odpravo\, da bi jih ponovno združila\, pri tem pa se sooča z nevarnimi izzivi in ​​na poti splete malo nevsakdanja prijateljstva. Na svojem potovanju Ozi odkrije pravo moč svojega glasu in izjemen vpliv besed\, v katere verjame. Z vztrajnostjo in novim smislom Ozi sproži globalno gibanje za zaščito našega sveta. V očarljivi zgodbi o pogumu\, upanju in neomajnem človeškem duhu Ozi navdihuje gledalce\, da se pridružijo boju za trajnostno prihodnost in izkoristijo svoj potencial\, da v svetu naredijo spremembo.
URL:https://kino-vrhnika.si/predstava/ozi-glas-gozda-3/
CATEGORIES:Art
ATTACH;FMTTYPE=image/png:https://kino-vrhnika.si/wp-content/uploads/2025/01/Ozi.png
END:VEVENT
BEGIN:VEVENT
DTSTART;TZID=Europe/Ljubljana:20250914T180000
DTEND;TZID=Europe/Ljubljana:20250914T194000
DTSTAMP:20260422T033702
CREATED:20250109T230000Z
LAST-MODIFIED:20250829T150609Z
UID:11372-1757872800-1757878800@kino-vrhnika.si
SUMMARY:Velika nagrada Evrope
DESCRIPTION:Velika nagrada Evrope\n14. 9. 2025 ob 18.00\nRežija: NP\nIgrajo: Sinhronizirano v slovenski jezik.\nDolžina: Navedena dolžina filma ni točna \nGre za navdihujočo animirano zgodbo o miški Eddi\, ki pred 50. obletnico Velike nagrade Evrope odkrije\, da lahko tudi najmanjša junakinja postane dobitnica velike dirke. Ko njeno mesto na dirkalni stezi ogrozi propad družinskega posla\, jo čaka pravi preizkus poguma in spretnosti. Ob pomoči svojega idola\, legendarnega voznika Eda\, in zvestih prijateljev se Edda poda na dirko\, ki presega zgolj tekmovanje – gre za potovanje osebne rasti in samozavesti. Film z barvitimi liki in dinamično animacijo nagovarja vse generacije\, predvsem pa spodbuja sporočilo\, da je vztrajnost močnejša od ovir. Preplet humorja\, akcije in srčnosti naredi zgodbo šolski primer družinsko prijaznega\, a poglobljenega filmskega doživetja.
URL:https://kino-vrhnika.si/predstava/velika-nagrada-evrope/
CATEGORIES:Art
ATTACH;FMTTYPE=image/png:https://kino-vrhnika.si/wp-content/uploads/2025/01/Velika-nagrada-Evrope.png
END:VEVENT
BEGIN:VEVENT
DTSTART;TZID=Europe/Ljubljana:20250914T200000
DTEND;TZID=Europe/Ljubljana:20250914T220000
DTSTAMP:20260422T033702
CREATED:20250109T230000Z
LAST-MODIFIED:20250829T150946Z
UID:11374-1757880000-1757887200@kino-vrhnika.si
SUMMARY:Downton Abbey: Veliki finale
DESCRIPTION:Downton Abbey: Veliki finale\n14. 9. 2025 ob 20.00\nRežija: Simon Curtis / Julian Fellowes\nIgrajo: Hugh Bonneville\, Michelle Dockery\, Elizabeth McGovern\, Jim Carter\, Paul Giamatti (in drugi)\nDolžina: Navedena dolžina filma ni točna \nTretji in zadnji filmski del serije spremlja družino Crawley\, ko jo pestijo osebni škandali\, finančna negotovost in politične spremembe v 1930‑ih. Lady Mary se znajde v središču družabne drame Londona\, medtem ko gospod in gospa Greatham skrbita za preživetje Downtona. Medtem osebje išče nove poti za prihodnost\, saj se mora generacija\, ki je pozornost osredotočila na preteklost\, umakniti pogumu in novi energiji. Napetost je prepletena s trenutki nostalgije\, v ozadju poklona preminuli Maggie Smith pa film zaznamuje globoko čustveno resonanco. Režiser Simon Curtis in scenarist Julian Fellowes zaključujeta epsko pripoved\, ki slavi dediščino Dustona Abbey.
URL:https://kino-vrhnika.si/predstava/downton-abbey-veliki-finale/
CATEGORIES:Art
ATTACH;FMTTYPE=image/png:https://kino-vrhnika.si/wp-content/uploads/2025/01/Downton-Abbey-Veliki-finale.png
END:VEVENT
BEGIN:VEVENT
DTSTART;TZID=Europe/Ljubljana:20250918T200000
DTEND;TZID=Europe/Ljubljana:20250918T213000
DTSTAMP:20260422T033702
CREATED:20250109T230000Z
LAST-MODIFIED:20250829T151409Z
UID:11376-1758225600-1758231000@kino-vrhnika.si
SUMMARY:Modrost sreče
DESCRIPTION:Modrost sreče\n18. 9. 2025 ob 20.00\nRežija: Barbara Miller & Philip Delaquis / Barbara Miller & Philip Delaquis\nIgrajo: Tenzin Gyatso (Dalajlama)\nDolžina: Navedena dolžina filma ni točna \nGre za intimni portret Dalajlame\, ki nas nagovarja neposredno\, skoraj kot bi sodelovali v osebnem pogovoru. Film razgrinja njegovo življenjsko modrost o sreči\, sočutju in odgovornosti vsakega posameznika v sodobnem svetu. Ustvarjalci Barbara Miller in Philip Delaquis združujejo estetsko dodelane vizualne prizore s preprostimi\, a globokimi resnicami duhovnega voditelja. Hkrati film reflektira globalne krize – od vojn\, političnih napetosti do podnebnih sprememb – ter opozarja\, da je notranja sprememba posameznika ključ do spremembe družbe. Dokumentarec je posnet s podporo Richarda Gerea\, kar mu daje tudi mednarodno prepoznavnost. Pogovori z Dalajlamo so prepleteni s posnetki njegovega vsakdanjega življenja\, meditacije in srečanj z ljudmi.
URL:https://kino-vrhnika.si/predstava/modrost-srece-2/
CATEGORIES:Art
ATTACH;FMTTYPE=image/png:https://kino-vrhnika.si/wp-content/uploads/2025/01/Modrost-srece.png
END:VEVENT
BEGIN:VEVENT
DTSTART;TZID=Europe/Ljubljana:20250919T200000
DTEND;TZID=Europe/Ljubljana:20250919T215000
DTSTAMP:20260422T033702
CREATED:20250109T230000Z
LAST-MODIFIED:20250829T151325Z
UID:11377-1758312000-1758318600@kino-vrhnika.si
SUMMARY:Chuckovo življenje
DESCRIPTION:Chuckovo življenje\n19. 9. 2025 ob 20.00\nRežija: Mike Flanagan / Mike Flanagan (po zgodbi Stephena Kinga)\nIgrajo: Tom Hiddleston\, Chiwetel Ejiofor\, Karen Gillan\, Jacob Tremblay\, Mark Hamill\nDolžina: Navedena dolžina filma ni točna \nGre za čustveno bogato in žanrsko drzno pripoved\, ki sega od konca vesolja do čarobnih trenutkov otroštva. Film začne z zadnjo nočjo Chuckovega življenja\, ko nekdanji svetovni red izgine skupaj z izginotjem vesolja. Nato se premaknemo nazaj k dogodivščinam\, kot so spontano plesanje in prijazna ulična glasba\, ki razkrivajo\, kako se navdih in povezanost pojavljata v najbolj vsakdanjih trenutkih. Mike Flanagan in Stephen King upesnjujeta človeško naravo skozi nostalgične in vizualno čutne prizore. Režiser ustvari film\, ki slavi čudovitost življenja\, ki navdihuje empatijo in hvaležnost za nevidni vpliv posameznika. Je filmska izkušnja\, ki pretopi vsakdanje trenutke v nekaj epskega\, čustveno globokega in univerzalno znanega.
URL:https://kino-vrhnika.si/predstava/chuckovo-zivljenje/
CATEGORIES:Art
ATTACH;FMTTYPE=image/png:https://kino-vrhnika.si/wp-content/uploads/2025/01/Chuckovo-zivljenje.png
END:VEVENT
BEGIN:VEVENT
DTSTART;TZID=Europe/Ljubljana:20250920T200000
DTEND;TZID=Europe/Ljubljana:20250920T214000
DTSTAMP:20260422T033702
CREATED:20250109T230000Z
LAST-MODIFIED:20250829T151943Z
UID:11381-1758398400-1758404400@kino-vrhnika.si
SUMMARY:Razhod
DESCRIPTION:Razhod\n20. 9. 2025 ob 20.00\nRežija: Michael Angelo Covino / Michael Angelo Covino & Kyle Marvin\nIgrajo: Dakota Johnson\, Adria Arjona\, Kyle Marvin\, Michael Angelo Covino\, Nicholas Braun\, David Castañeda\, O‑T Fagbenle\, Charlie Gillespie\, Simon Webster\nDolžina: Navedena dolžina filma ni točna \nRazhod (Splitsville) je duhovita in divja komedija o tem\, kako hitro se prijateljstva in zveze prelijejo v kaos. Carey je razočaran nad ločitvenim sporočilom svoje žene in zato išče uteho pri svojima prijateljema\, ki živita v odprti zvezi. Toda ko Carey in Julie začneta čustveno potovanje\, se situacija izmakne nadzoru. Film z amaterskimi – a drzno izvedenimi – akcijskimi prizori\, kot so avtomobilski nesreči in drzni padci skozi steklo\, krepi gledališko absurdnost situacije. Covino in Marvin – ki sta že sodelovala pri dramediji The Climb – ustvarjata duhovito satiro z globoko človeško toplino. Film se ne izogiba čustvom\, prav nasprotno: humorne eskapade razkrijejo ranljivost in iskrenost\, ki ji težko rečeš ne.
URL:https://kino-vrhnika.si/predstava/razhod/
CATEGORIES:Art
ATTACH;FMTTYPE=image/png:https://kino-vrhnika.si/wp-content/uploads/2025/01/Razhod.png
END:VEVENT
BEGIN:VEVENT
DTSTART;TZID=Europe/Ljubljana:20250921T180000
DTEND;TZID=Europe/Ljubljana:20250921T194000
DTSTAMP:20260422T033702
CREATED:20250109T230000Z
LAST-MODIFIED:20250829T152036Z
UID:11383-1758477600-1758483600@kino-vrhnika.si
SUMMARY:Velika nagrada Evrope
DESCRIPTION:Velika nagrada Evrope\n21. 9. 2025 ob 18.00\nRežija: NP\nIgrajo: Sinhronizirano v slovenski jezik.\nDolžina: Navedena dolžina filma ni točna \nGre za navdihujočo animirano zgodbo o miški Eddi\, ki pred 50. obletnico Velike nagrade Evrope odkrije\, da lahko tudi najmanjša junakinja postane dobitnica velike dirke. Ko njeno mesto na dirkalni stezi ogrozi propad družinskega posla\, jo čaka pravi preizkus poguma in spretnosti. Ob pomoči svojega idola\, legendarnega voznika Eda\, in zvestih prijateljev se Edda poda na dirko\, ki presega zgolj tekmovanje – gre za potovanje osebne rasti in samozavesti. Film z barvitimi liki in dinamično animacijo nagovarja vse generacije\, predvsem pa spodbuja sporočilo\, da je vztrajnost močnejša od ovir. Preplet humorja\, akcije in srčnosti naredi zgodbo šolski primer družinsko prijaznega\, a poglobljenega filmskega doživetja.
URL:https://kino-vrhnika.si/predstava/velika-nagrada-evrope-2/
CATEGORIES:Art
ATTACH;FMTTYPE=image/png:https://kino-vrhnika.si/wp-content/uploads/2025/01/Velika-nagrada-Evrope.png
END:VEVENT
BEGIN:VEVENT
DTSTART;TZID=Europe/Ljubljana:20250921T200000
DTEND;TZID=Europe/Ljubljana:20250921T213000
DTSTAMP:20260422T033702
CREATED:20250109T230000Z
LAST-MODIFIED:20250829T152118Z
UID:11384-1758484800-1758490200@kino-vrhnika.si
SUMMARY:Modrost sreče
DESCRIPTION:Modrost sreče\n21. 9. 2025 ob 20.00\nRežija: Barbara Miller & Philip Delaquis / Barbara Miller & Philip Delaquis\nIgrajo: Tenzin Gyatso (Dalajlama)\nDolžina: Navedena dolžina filma ni točna \nGre za intimni portret Dalajlame\, ki nas nagovarja neposredno\, skoraj kot bi sodelovali v osebnem pogovoru. Film razgrinja njegovo življenjsko modrost o sreči\, sočutju in odgovornosti vsakega posameznika v sodobnem svetu. Ustvarjalci Barbara Miller in Philip Delaquis združujejo estetsko dodelane vizualne prizore s preprostimi\, a globokimi resnicami duhovnega voditelja. Hkrati film reflektira globalne krize – od vojn\, političnih napetosti do podnebnih sprememb – ter opozarja\, da je notranja sprememba posameznika ključ do spremembe družbe. Dokumentarec je posnet s podporo Richarda Gerea\, kar mu daje tudi mednarodno prepoznavnost. Pogovori z Dalajlamo so prepleteni s posnetki njegovega vsakdanjega življenja\, meditacije in srečanj z ljudmi.
URL:https://kino-vrhnika.si/predstava/modrost-srece-3/
CATEGORIES:Art
ATTACH;FMTTYPE=image/png:https://kino-vrhnika.si/wp-content/uploads/2025/01/Modrost-srece.png
END:VEVENT
BEGIN:VEVENT
DTSTART;TZID=Europe/Ljubljana:20250925T200000
DTEND;TZID=Europe/Ljubljana:20250925T220000
DTSTAMP:20260422T033702
CREATED:20250109T230000Z
LAST-MODIFIED:20250829T152300Z
UID:11385-1758830400-1758837600@kino-vrhnika.si
SUMMARY:Ljubezen
DESCRIPTION:Ljubezen\n25. 9. 2025 ob 20.00\nRežija: Dag Johan Haugerud\nIgrajo: Andrea Bræin Hovig\, Marte Engebrigtsen\, Tayo Cittadella\nDolžina: Navedena dolžina filma ni točna \nSodobna saga “Ljubezen” v šestih stavkih prikaže suhoparno vsakdanjost in nežno romantiko v življenja dveh protagonistov. Marianne in Tor se med nepričakovanim srečanjem soočita z lastnimi željami\, ranljivostjo in iskanjem nečesa več kot le ravnodušnega vsakdana. Režiser Dag Johan Haugerud gradi intimno dramaturgijo\, ki prepleta nežne emocionalne odnose s tiho življenjsko filozofijo. Film skozi subtilne dialoge in premišljeno vizualno estetiko raziskuje\, kako ljubezen in sanje vplivajo na identiteto posameznika. Vzporedno sprašuje\, ali so odnosi prava pot do osebne rasti ali le beg pred samoto. Čutna kamera in tih spremljevalni ton omogočata gledalcu\, da občuti vsak odtenek dveh življenjskih zgodb.
URL:https://kino-vrhnika.si/predstava/ljubezen/
CATEGORIES:Art
ATTACH;FMTTYPE=image/png:https://kino-vrhnika.si/wp-content/uploads/2025/01/Ljubezen.png
END:VEVENT
BEGIN:VEVENT
DTSTART;TZID=Europe/Ljubljana:20250927T180000
DTEND;TZID=Europe/Ljubljana:20250927T192000
DTSTAMP:20260422T033702
CREATED:20250109T230000Z
LAST-MODIFIED:20250829T152708Z
UID:11390-1758996000-1759000800@kino-vrhnika.si
SUMMARY:Super Čarli
DESCRIPTION:Super Čarli\n27. 9. 2025 ob 18.00\nRežija:\nIgrajo: Sinhronizirano v slovenski jezik.\nDolžina: Navedena dolžina filma ni točna \nSuper Čarli je barvita animirana pustolovščina o bratski povezavi\, kjer čustveno rivalstvo preraste v sodelovanje. Wille\, navdušen nad idejo\, da bi postal superheroj\, je razočaran\, ko se izkaže\, da ima dojenček Charlie resnične supermoči. Ob soočenju s superzlobnežem in zlobnimi eksperimenti morata bratca preseči tekmovalnost in delovati kot ekipa. Režiser Jon Holmberg združuje akcijo\, humor in srčnost v živahen animirani svet. Camilla Läckberg je kot izvirna avtorica in producentka pripomogla h globini pripovedi. Animacija ponuja estetsko privlačnost\, dinamičen tempo in nostalgične motive\, primerne za družine. Sporočilo filma nagovarja empatijo\, sprejemanje in moč bratstva v vsakodnevnih junakih.
URL:https://kino-vrhnika.si/predstava/super-carli-2/
CATEGORIES:Art
ATTACH;FMTTYPE=image/png:https://kino-vrhnika.si/wp-content/uploads/2025/01/Super-Carli.png
END:VEVENT
BEGIN:VEVENT
DTSTART;TZID=Europe/Ljubljana:20250928T200000
DTEND;TZID=Europe/Ljubljana:20250928T220000
DTSTAMP:20260422T033702
CREATED:20250109T230000Z
LAST-MODIFIED:20250829T153959Z
UID:11394-1759089600-1759096800@kino-vrhnika.si
SUMMARY:Downton Abbey: Veliki finale
DESCRIPTION:Downton Abbey: Veliki finale\n28. 9. 2025 ob 20.00\nRežija: Simon Curtis / Julian Fellowes\nIgrajo: Hugh Bonneville\, Michelle Dockery\, Elizabeth McGovern\, Jim Carter\, Paul Giamatti (in drugi)\nDolžina: Navedena dolžina filma ni točna \nTretji in zadnji filmski del serije spremlja družino Crawley\, ko jo pestijo osebni škandali\, finančna negotovost in politične spremembe v 1930‑ih. Lady Mary se znajde v središču družabne drame Londona\, medtem ko gospod in gospa Greatham skrbita za preživetje Downtona. Medtem osebje išče nove poti za prihodnost\, saj se mora generacija\, ki je pozornost osredotočila na preteklost\, umakniti pogumu in novi energiji. Napetost je prepletena s trenutki nostalgije\, v ozadju poklona preminuli Maggie Smith pa film zaznamuje globoko čustveno resonanco. Režiser Simon Curtis in scenarist Julian Fellowes zaključujeta epsko pripoved\, ki slavi dediščino Dustona Abbey.
URL:https://kino-vrhnika.si/predstava/downton-abbey-veliki-finale-2/
CATEGORIES:Art
ATTACH;FMTTYPE=image/png:https://kino-vrhnika.si/wp-content/uploads/2025/01/Downton-Abbey-Veliki-finale.png
END:VEVENT
END:VCALENDAR