BEGIN:VCALENDAR
VERSION:2.0
PRODID:-//Kino Vrhnika - ECPv6.7.1//NONSGML v1.0//EN
CALSCALE:GREGORIAN
METHOD:PUBLISH
X-ORIGINAL-URL:https://kino-vrhnika.si
X-WR-CALDESC:Dogodki za Kino Vrhnika
REFRESH-INTERVAL;VALUE=DURATION:PT1H
X-Robots-Tag:noindex
X-PUBLISHED-TTL:PT1H
BEGIN:VTIMEZONE
TZID:Europe/Ljubljana
BEGIN:DAYLIGHT
TZOFFSETFROM:+0100
TZOFFSETTO:+0200
TZNAME:CEST
DTSTART:20250330T010000
END:DAYLIGHT
BEGIN:STANDARD
TZOFFSETFROM:+0200
TZOFFSETTO:+0100
TZNAME:CET
DTSTART:20251026T010000
END:STANDARD
END:VTIMEZONE
BEGIN:VEVENT
DTSTART;TZID=Europe/Ljubljana:20250503T180000
DTEND;TZID=Europe/Ljubljana:20250503T193000
DTSTAMP:20260422T111927
CREATED:20250109T230000Z
LAST-MODIFIED:20250418T162540Z
UID:10596-1746295200-1746300600@kino-vrhnika.si
SUMMARY:Pasji mož
DESCRIPTION:Pasji mož\n3. 5. 2025 ob 18.00\nRežija: Peter Hastings / Dav Pilkey (na podlagi knjižne serije)\nIgrajo: SInhronizirano v slovenščino\nDolžina: Navedena dolžina filma ni točna \nPasji mož je animirana adaptacija priljubljene serije knjig za otroke\, ki jo je ustvaril Dav Pilkey\, avtor “Kapitana Gatnika”. Film nas popelje v svet Pasjega moža\, pogumnega in iznajdljivega junaka\, ki je po nesreči postal napol pes in napol človek. Kljub svoji nenavadni naravi uspeva reševati težave v mestu\, se spopadati z nepridipravi\, kot sta zlobni maček Petey in drugi\, ter graditi prijateljstva\, ki presegajo vse ovire. Poln smeha\, akcije in toplih trenutkov je “Pasji mož” zabavna pustolovščina za vso družino.
URL:https://kino-vrhnika.si/predstava/pasji-moz-5/
CATEGORIES:Art
ATTACH;FMTTYPE=image/jpeg:https://kino-vrhnika.si/wp-content/uploads/2025/01/pasji-moz-kino-risanka.jpg
END:VEVENT
BEGIN:VEVENT
DTSTART;TZID=Europe/Ljubljana:20250503T200000
DTEND;TZID=Europe/Ljubljana:20250503T220000
DTSTAMP:20260422T111927
CREATED:20250109T230000Z
LAST-MODIFIED:20250418T162616Z
UID:10597-1746302400-1746309600@kino-vrhnika.si
SUMMARY:Take majhne stvari
DESCRIPTION:Take majhne stvari\n3. 5. 2025 ob 20.00\nRežija: Tim Mielants / Enda Walsh (po romanu Claire Keegan)\nIgrajo: Cillian Murphy\, Eileen Walsh\, Michelle Fairley\, Emily Watson\, Clare Dunne\nDolžina: Navedena dolžina filma ni točna \nFilm\, posnet po istoimenskem romanu irske avtorice Claire Keegan\, spremlja Billa Furlonga\, predanega očeta in dostavljalca premoga\, ki v predbožičnem času leta 1985 odkrije šokantno resnico o Magdaleninih pralnicah – institucijah\, kjer so bila dolga leta zlorabljena dekleta in mlade ženske. Soočen z resnico\, ki jo večina v mestu raje ignorira\, mora Bill izbrati med varnim molkom ali tveganim dejanjem sočutja. Film obravnava vprašanja družbene pravičnosti\, krivde in moralnega poguma.
URL:https://kino-vrhnika.si/predstava/take-majhne-stvari-2/
CATEGORIES:Art
ATTACH;FMTTYPE=image/png:https://kino-vrhnika.si/wp-content/uploads/2025/02/Take-majhne-stvari.png
END:VEVENT
BEGIN:VEVENT
DTSTART;TZID=Europe/Ljubljana:20250504T180000
DTEND;TZID=Europe/Ljubljana:20250504T193000
DTSTAMP:20260422T111927
CREATED:20250109T230000Z
LAST-MODIFIED:20250418T162925Z
UID:10598-1746381600-1746387000@kino-vrhnika.si
SUMMARY:Diplodok
DESCRIPTION:Diplodok\n4. 5. 2025 ob 18.00\nRežija: Wojtek Wawszczyk / Wojtek Wawszczyk\nIgrajo: Sinhronizirano: Asja Kahrimanovič\, Damjana Černe\, Gašper Jarni\, Gašper Malnar\, Iztok Luzar\, Maša Derganc\, Matej Recer\, PRIMOŽ PIRNAT\, Teja Bitenc\, Vesna Pernarčič\, Zvone Hribar\nDolžina: Navedena dolžina filma ni točna \nDiplodok temelji na priljubljenem poljskem stripu iz 80. let in pripoveduje zgodbo o majhnem\, prijaznem dinozavru\, ki nenadoma oživi iz stripa in vstopi v resnični svet. Njegov ustvarjalec\, stripar\, trpi zaradi ustvarjalne blokade\, Diplodok pa postane most med svetom domišljije in realnostjo. Medtem ko raziskuje svet in skuša pomagati svojim prijateljem\, se Diplodok znajde v vrtincu humornih in ganljivih dogodkov. Film združuje klasično animacijo z modernimi tehnikami in je namenjen tako otrokom kot odraslim\, ki cenijo nostalgične pustolovščine.
URL:https://kino-vrhnika.si/predstava/diplodok/
CATEGORIES:Art
ATTACH;FMTTYPE=image/png:https://kino-vrhnika.si/wp-content/uploads/2025/01/Diplodok.png
END:VEVENT
BEGIN:VEVENT
DTSTART;TZID=Europe/Ljubljana:20250504T200000
DTEND;TZID=Europe/Ljubljana:20250504T213000
DTSTAMP:20260422T111927
CREATED:20250109T230000Z
LAST-MODIFIED:20250428T194518Z
UID:10600-1746388800-1746394200@kino-vrhnika.si
SUMMARY:Požgana zemlja
DESCRIPTION:Požgana zemlja\n4. 5. 2025 ob 20.00\nRežija: Thomas Arslan\nIgrajo: Alexander Fehling\, Marie Leuenberger\, Mišel Matičević\nDolžina: Navedena dolžina filma ni točna \nDvanajst let po begu se kriminalec Trojan vrne v Berlin. V mestu naj bi ukradli dragoceno sliko. Toda natančno načrtovan rop kmalu uide nadzoru. \n\n\nTrojan je brez denarja in nujno potrebuje novo službo\, zato se dvanajst let po begu iz Berlina vrne v nemško prestolnico. Mesto se je v tem času spremenilo in njegovi stari prijatelji mu niso več kaj dosti v pomoč. Izkušenemu kriminalcu\, vajenemu “poslovanja” z gotovino\, predstavlja dodaten problem tudi digitalizirani svet. Posrednica mu priskrbi mamljiv posel: krajo dragocene slike iz muzeja. Na videz preprost podvig pa se po zaslugi skrivnostne stranke iz ozadja spremeni v boj za preživetje. \n“Trojan je lik\, ki želi delovati čim bolj neodvisno\, in ne za organizirani kriminal\, predvsem ker gre tam za ustaljene okvire\, v katerih je človek bolj ali manj ujet. /…/ Ne moremo ga opisati kot gangsterja v klasičnem smislu\, saj dela neodvisno kot svobodnjak. To se mi zdi zlasti zanimivo – nekdo\, ki svoje delo jemlje zelo resno in ga poskuša opravljati nadvse profesionalno\, se takoj ob vstopu drugih soigralcev znajde pred lastnimi omejitvami. Drugi ljudje so vedno potencialni dejavniki\, ki jih ne moreš popolnoma nadzorovati.” (Thomas Arslan)
URL:https://kino-vrhnika.si/predstava/pozganazemlja/
CATEGORIES:Art
ATTACH;FMTTYPE=image/png:https://kino-vrhnika.si/wp-content/uploads/2025/01/Pozgana-zemlja.png
END:VEVENT
BEGIN:VEVENT
DTSTART;TZID=Europe/Ljubljana:20250511T180000
DTEND;TZID=Europe/Ljubljana:20250511T193000
DTSTAMP:20260422T111927
CREATED:20250109T230000Z
LAST-MODIFIED:20250418T163443Z
UID:10602-1746986400-1746991800@kino-vrhnika.si
SUMMARY:Super škratki: Novi klobuki\, nova misija
DESCRIPTION:Super škratki: Novi klobuki\, nova misija\n11. 5. 2025 ob 18.00\nRežija: Ute von Münchow-Pohl\nIgrajo: Sinhronizirano\nDolžina: Navedena dolžina filma ni točna \nElfiein svet se obrne na glavo\, ko odkrije obstoj tehnično bolj napredne tolpe Elfkin\, ki je v popolnem nasprotju z lastnim klanom Elfie \,ko gre za zabavo in iskanje vznemirjenja. Ali lahko Helvijevo prijateljstvo z Bojem\, najmlajšim članom tolpe\, po več kot 250 letih spravi oba klana Elfkin skupaj?
URL:https://kino-vrhnika.si/predstava/super-skratki-novi-klobuki-nova-misija/
CATEGORIES:Art
ATTACH;FMTTYPE=image/png:https://kino-vrhnika.si/wp-content/uploads/2025/01/Superskratki.png
END:VEVENT
BEGIN:VEVENT
DTSTART;TZID=Europe/Ljubljana:20250511T200000
DTEND;TZID=Europe/Ljubljana:20250511T223000
DTSTAMP:20260422T111927
CREATED:20250109T230000Z
LAST-MODIFIED:20250418T163638Z
UID:10604-1746993600-1747002600@kino-vrhnika.si
SUMMARY:Konec
DESCRIPTION:Konec\n11. 5. 2025 ob 20.00\nRežija:\nIgrajo: George MacKay\, Michael Shannon\, Tilda Swinton\nDolžina: Navedena dolžina filma ni točna \nV stilu zlate dobe muzikalov posneta zgodba o edini preživeli družini na zemeljski obli\, katere navidezno idilo v razkošnem podzemnem bunkerju skali prihod neznanke. Zaradi okoljske katastrofe je Zemlja opustošena. Zdi se\, da je preživela le tričlanska družina\, skrita v prostornem bunkerju nekje globoko v rudniku soli. George je naiven dvajsetletni mladenič\, ki zunanji svet pozna samo iz pripovedovanja. Z očetom\, nekdanjim energetskim tajkunom\, pišeta knjigo\, medtem ko mama skrbi za številne neprecenljive umetnine\, ki krasijo stene njihovega podzemnega domovanja. A ko se pred njihovimi vrati znajde neznanka\, ki išče zatočišče\, se družinska dinamika začne krhati. George podvomi o idilični eksistenci lastne družine in se sprašuje\, ali onstran meja podzemnega sveta res ni ničesar drugega.
URL:https://kino-vrhnika.si/predstava/konec/
CATEGORIES:Art
ATTACH;FMTTYPE=image/png:https://kino-vrhnika.si/wp-content/uploads/2025/01/Konec.png
END:VEVENT
BEGIN:VEVENT
DTSTART;TZID=Europe/Ljubljana:20250516T180000
DTEND;TZID=Europe/Ljubljana:20250516T193000
DTSTAMP:20260422T111927
CREATED:20250109T230000Z
LAST-MODIFIED:20250418T163929Z
UID:10606-1747418400-1747423800@kino-vrhnika.si
SUMMARY:Valovanje
DESCRIPTION:Valovanje\n16. 5. 2025 ob 18.00\nRežija: Ute von Münchow-Pohl\nIgrajo: Brez dialoga\nDolžina: Navedena dolžina filma ni točna \nZdi se\, da se svet bliža svojemu koncu… na njem pa se bohotijo ostanki človeške prisotnosti. Mačka je samotarska žival\, a ker je njen dom opustošila velika poplava\, poišče zatočišče na ladji\, ki jo naseljujejo različne živalske vrste. Sedaj se bo morala z njimi povezati\, kljub vsem razlikam. Na osamljenem čolnu\, ki pluje skozi mistične poplavljene pokrajine\, premagujejo izzive in nevarnosti\, ki jih prinaša prilagajanje na ta novi svet. Film\, ki živalim ne vsiljuje človeških lastnosti\, temveč jim preprosto pusti\, da so\, kar so: živali.
URL:https://kino-vrhnika.si/predstava/valovanje/
CATEGORIES:Art
ATTACH;FMTTYPE=image/png:https://kino-vrhnika.si/wp-content/uploads/2025/01/Valovanje.png
END:VEVENT
BEGIN:VEVENT
DTSTART;TZID=Europe/Ljubljana:20250517T180000
DTEND;TZID=Europe/Ljubljana:20250517T193000
DTSTAMP:20260422T111927
CREATED:20250109T230000Z
LAST-MODIFIED:20250418T164413Z
UID:10610-1747504800-1747510200@kino-vrhnika.si
SUMMARY:Diplodok
DESCRIPTION:Diplodok\n17. 5. 2025 ob 18.00\nRežija: Wojtek Wawszczyk / Wojtek Wawszczyk\nIgrajo: Sinhronizirano: Asja Kahrimanovič\, Damjana Černe\, Gašper Jarni\, Gašper Malnar\, Iztok Luzar\, Maša Derganc\, Matej Recer\, PRIMOŽ PIRNAT\, Teja Bitenc\, Vesna Pernarčič\, Zvone Hribar\nDolžina: Navedena dolžina filma ni točna \nDiplodok temelji na priljubljenem poljskem stripu iz 80. let in pripoveduje zgodbo o majhnem\, prijaznem dinozavru\, ki nenadoma oživi iz stripa in vstopi v resnični svet. Njegov ustvarjalec\, stripar\, trpi zaradi ustvarjalne blokade\, Diplodok pa postane most med svetom domišljije in realnostjo. Medtem ko raziskuje svet in skuša pomagati svojim prijateljem\, se Diplodok znajde v vrtincu humornih in ganljivih dogodkov. Film združuje klasično animacijo z modernimi tehnikami in je namenjen tako otrokom kot odraslim\, ki cenijo nostalgične pustolovščine.
URL:https://kino-vrhnika.si/predstava/diplodok-2/
CATEGORIES:Art
ATTACH;FMTTYPE=image/png:https://kino-vrhnika.si/wp-content/uploads/2025/01/Diplodok.png
END:VEVENT
BEGIN:VEVENT
DTSTART;TZID=Europe/Ljubljana:20250518T180000
DTEND;TZID=Europe/Ljubljana:20250518T193000
DTSTAMP:20260422T111927
CREATED:20250109T230000Z
LAST-MODIFIED:20250418T171623Z
UID:10613-1747591200-1747596600@kino-vrhnika.si
SUMMARY:Super škratki: Novi klobuki\, nova misija
DESCRIPTION:Super škratki: Novi klobuki\, nova misija\n18. 5. 2025 ob 18.00\nRežija: Ute von Münchow-Pohl\nIgrajo: Sinhronizirano\nDolžina: Navedena dolžina filma ni točna \nElfiein svet se obrne na glavo\, ko odkrije obstoj tehnično bolj napredne tolpe Elfkin\, ki je v popolnem nasprotju z lastnim klanom Elfie \,ko gre za zabavo in iskanje vznemirjenja. Ali lahko Helvijevo prijateljstvo z Bojem\, najmlajšim članom tolpe\, po več kot 250 letih spravi oba klana Elfkin skupaj?
URL:https://kino-vrhnika.si/predstava/super-skratki-novi-klobuki-nova-misija-2/
CATEGORIES:Art
ATTACH;FMTTYPE=image/png:https://kino-vrhnika.si/wp-content/uploads/2025/01/Superskratki.png
END:VEVENT
BEGIN:VEVENT
DTSTART;TZID=Europe/Ljubljana:20250518T200000
DTEND;TZID=Europe/Ljubljana:20250518T220000
DTSTAMP:20260422T111927
CREATED:20250109T230000Z
LAST-MODIFIED:20250418T171859Z
UID:10614-1747598400-1747605600@kino-vrhnika.si
SUMMARY:April
DESCRIPTION:April\n18. 5. 2025 ob 20.00\nRežija: Dea Kulumbegashvili\nIgrajo: Ia Sukhitashvili\, Kakha Kintsurashvili\, Merab Ninidze\nDolžina: Navedena dolžina filma ni točna \nZdravnica Nina se po smrti novorojenčka med porodom sooča z obtožbami. Njeno življenje je med preiskavo pod drobnogledom. Vztraja pri svojih zdravniških dolžnostih\, odločena\, da bo kljub tveganju nudila oskrbo\, ki jo drugi ne želijo opraviti. Družbenokritična zgodba o delu predani ginekologinji v gruzijskem mestecu\, ki se mora soočiti z obtožbo zaradi neodgovornega dejanja\, ko pod njenim nadzorom umre novorojenček. Nina dela kot ginekologinja v majhni bolnišnici\, edini v provincialnem mestecu. Je samska in niti ne išče trajne veze\, zato pa je brezpogojno predana svojemu delu in Hipokratovi prisegi. Ko nekega dne pod njenim nadzorom le nekaj sekund po porodu umre novorojenček\, je obtožena neodgovornega dejanja. Preiskava\, ki sledi\, vzame pod drobnogled vse podrobnosti Nininega osebnega in poklicnega življenja. Kljub tveganju in obtožbam ostaja predana svojim dolžnostim in poslanstvu. Predvsem zato ker je trdno odločena\, da bo še naprej pomagala dekletom v stiski in opravljala to\, česar ne želi nihče drug.“Nina ob asketskem življenjskem slogu zdravnice z opravljanjem nezakonitih splavov lastno usodo postavlja na kocko. Ženske srečuje v njihovih najbolj intimnih trenutkih\, bodisi kot matere v krču porodnih bolečin bodisi ob mučnih in tajnih splavih\, zamolčanih njihovim družinam. Nina je lik\, ki ljubi vse\, a nikogar posebej. Zmožna je brezmejne empatije\, obenem pa zavrta pri navezovanju osebnih vezi.” (Dea Kulumbegashvili)
URL:https://kino-vrhnika.si/predstava/april/
CATEGORIES:Art
ATTACH;FMTTYPE=image/png:https://kino-vrhnika.si/wp-content/uploads/2025/01/April.png
END:VEVENT
BEGIN:VEVENT
DTSTART;TZID=Europe/Ljubljana:20250525T200000
DTEND;TZID=Europe/Ljubljana:20250525T220000
DTSTAMP:20260422T111927
CREATED:20250109T230000Z
LAST-MODIFIED:20250418T172733Z
UID:10621-1748203200-1748210400@kino-vrhnika.si
SUMMARY:Pingvinove lekcije
DESCRIPTION:Pingvinove lekcije\n25. 5. 2025 ob 20.00\nRežija: Peter Cattaneo\nIgrajo: V glavni vlogi britanskega učitelja Michella igra Steve Coogan\, v drami pa igrajo še Vivian El Jaber\, Björn Gustafsson\, Alfonsina Carrocio\, David Herrero in Jonathan Pryce.\nDolžina: Navedena dolžina filma ni točna \nJuan Salvador je pingvin\, ki ga pred razlitjem nafte s plaže v Urugvaju reši profesor Tom tik pred uveljavitvijo novega režima. Razočarani profesor doživlja notranji nemir\, ko v polarizirani državi naleti na razred nemogočih učencev. Gre za eno najbolj kataklizmičnih obdobij v argentinski zgodovini\, profesor pa pingvina prinese k pouku\, kjer se vsi naučijo\, kako se spopadati s spremembami\, na katere ne moremo vplivati v politično dvomljivih časih.Zgodba je dobila navdih po resnični zgodbi razočaranega Angleža\, ki se je leta 1976 zaposlil v šoli v Argentini. Tom Michell je pričakoval\, da ga čaka lahka pot\, a je v državi naletel na razdeljen narod in razred neučljivih učencev. Vendar se mu je\, potem ko je rešil pingvina z onesnažene plaže\, življenje obrnilo na glavo. Pingvina je prinesel k pouku\, kjer so se učenci postopoma učili\, kako se spopadati s spremembami. V glavni vlogi britanskega učitelja Michella igra Steve Coogan\, v drami pa igrajo še Vivian El Jaber\, Björn Gustafsson\, Alfonsina Carrocio\, David Herrero in Jonathan Pryce.
URL:https://kino-vrhnika.si/predstava/pingvinove-lekcije/
CATEGORIES:Art
ATTACH;FMTTYPE=image/png:https://kino-vrhnika.si/wp-content/uploads/2025/01/Pingvinove-lekcije.png
END:VEVENT
BEGIN:VEVENT
DTSTART;TZID=Europe/Ljubljana:20250531T180000
DTEND;TZID=Europe/Ljubljana:20250531T193000
DTSTAMP:20260422T111927
CREATED:20250109T230000Z
LAST-MODIFIED:20250418T173047Z
UID:10627-1748714400-1748719800@kino-vrhnika.si
SUMMARY:Super škratki: Novi klobuki\, nova misija
DESCRIPTION:Super škratki: Novi klobuki\, nova misija\n31. 5. 2025 ob 18.00\nRežija: Ute von Münchow-Pohl\nIgrajo: Sinhronizirano\nDolžina: Navedena dolžina filma ni točna \nElfiein svet se obrne na glavo\, ko odkrije obstoj tehnično bolj napredne tolpe Elfkin\, ki je v popolnem nasprotju z lastnim klanom Elfie \,ko gre za zabavo in iskanje vznemirjenja. Ali lahko Helvijevo prijateljstvo z Bojem\, najmlajšim članom tolpe\, po več kot 250 letih spravi oba klana Elfkin skupaj?
URL:https://kino-vrhnika.si/predstava/super-skratki-novi-klobuki-nova-misija-3/
CATEGORIES:Art
ATTACH;FMTTYPE=image/png:https://kino-vrhnika.si/wp-content/uploads/2025/01/Superskratki.png
END:VEVENT
END:VCALENDAR