BEGIN:VCALENDAR
VERSION:2.0
PRODID:-//Kino Vrhnika - ECPv6.7.1//NONSGML v1.0//EN
CALSCALE:GREGORIAN
METHOD:PUBLISH
X-WR-CALNAME:Kino Vrhnika
X-ORIGINAL-URL:https://kino-vrhnika.si
X-WR-CALDESC:Dogodki za Kino Vrhnika
REFRESH-INTERVAL;VALUE=DURATION:PT1H
X-Robots-Tag:noindex
X-PUBLISHED-TTL:PT1H
BEGIN:VTIMEZONE
TZID:Europe/Ljubljana
BEGIN:DAYLIGHT
TZOFFSETFROM:+0100
TZOFFSETTO:+0200
TZNAME:CEST
DTSTART:20250330T010000
END:DAYLIGHT
BEGIN:STANDARD
TZOFFSETFROM:+0200
TZOFFSETTO:+0100
TZNAME:CET
DTSTART:20251026T010000
END:STANDARD
END:VTIMEZONE
BEGIN:VEVENT
DTSTART;TZID=Europe/Ljubljana:20250403T190000
DTEND;TZID=Europe/Ljubljana:20250403T203000
DTSTAMP:20260422T130305
CREATED:20250109T230000Z
LAST-MODIFIED:20250325T150306Z
UID:10423-1743706800-1743712200@kino-vrhnika.si
SUMMARY:Kaj ti je deklica
DESCRIPTION:Kaj ti je deklica\n3. 4. 2025 ob 19.00\nRežija: Urška Djukić\nIgrajo: Jara Sofija Ostan kot Lucija\, Mina Švajger kot Ana-Marija\, Saša Tabaković kot zborovodja\, Nataša Burger kot Helena\, Staša Popović kot Klara\, Mateja Strle kot Uršula\, Saša Pavček kot sestra Magda\, Matia Casson kot delavec.\nDolžina: Navedena dolžina filma ni točna \nSramežljiva in občutljiva 16-letna Lucija (Jara Sofija Ostan) obiskuje katoliško šolo\, kjer se pridruži dekliškemu pevskemu zboru. Tam se spoprijatelji s priljubljeno in spogledljivo tretješolko Ano-Marijo (Mina Švajger). Ko zbor odpotuje na podeželski samostan za vikend intenzivnih vaj\, Lucijino zanimanje za temnookega restavratorja (Matia Casson) postavi na preizkušnjo njeno prijateljstvo z Ano-Marijo in drugimi dekleti. V neznanem okolju in ob prebujajoči se spolnosti Lucija začne dvomiti o svojih prepričanjih in vrednotah\, kar zmoti harmonijo v zboru.
URL:https://kino-vrhnika.si/predstava/kaj-ti-je-deklica/
CATEGORIES:Art
ATTACH;FMTTYPE=image/png:https://kino-vrhnika.si/wp-content/uploads/2025/01/Kaj-ti-je-deklica.png
END:VEVENT
BEGIN:VEVENT
DTSTART;TZID=Europe/Ljubljana:20250406T200000
DTEND;TZID=Europe/Ljubljana:20250406T213000
DTSTAMP:20260422T130305
CREATED:20250109T230000Z
LAST-MODIFIED:20250325T150313Z
UID:10427-1743969600-1743975000@kino-vrhnika.si
SUMMARY:Kaj ti je deklica
DESCRIPTION:Kaj ti je deklica\n6. 4. 2025 ob 20.00\nRežija: Urška Djukić\nIgrajo: Jara Sofija Ostan kot Lucija\, Mina Švajger kot Ana-Marija\, Saša Tabaković kot zborovodja\, Nataša Burger kot Helena\, Staša Popović kot Klara\, Mateja Strle kot Uršula\, Saša Pavček kot sestra Magda\, Matia Casson kot delavec.\nDolžina: Navedena dolžina filma ni točna \nSramežljiva in občutljiva 16-letna Lucija (Jara Sofija Ostan) obiskuje katoliško šolo\, kjer se pridruži dekliškemu pevskemu zboru. Tam se spoprijatelji s priljubljeno in spogledljivo tretješolko Ano-Marijo (Mina Švajger). Ko zbor odpotuje na podeželski samostan za vikend intenzivnih vaj\, Lucijino zanimanje za temnookega restavratorja (Matia Casson) postavi na preizkušnjo njeno prijateljstvo z Ano-Marijo in drugimi dekleti. V neznanem okolju in ob prebujajoči se spolnosti Lucija začne dvomiti o svojih prepričanjih in vrednotah\, kar zmoti harmonijo v zboru.
URL:https://kino-vrhnika.si/predstava/kaj-ti-je-deklica-2/
CATEGORIES:Art
ATTACH;FMTTYPE=image/png:https://kino-vrhnika.si/wp-content/uploads/2025/01/Kaj-ti-je-deklica.png
END:VEVENT
BEGIN:VEVENT
DTSTART;TZID=Europe/Ljubljana:20250413T180000
DTEND;TZID=Europe/Ljubljana:20250413T193000
DTSTAMP:20260422T130305
CREATED:20250109T230000Z
LAST-MODIFIED:20250325T150316Z
UID:10428-1744567200-1744572600@kino-vrhnika.si
SUMMARY:Bambi: Življenjska pot v gozdu
DESCRIPTION:Bambi: Življenjska pot v gozdu\n13. 4. 2025 ob 18.00\nRežija: Michel Fessler\nIgrajo: V slovenski sinhronizaciji pripoveduje Vesna Pernarčič.\nDolžina: Navedena dolžina filma ni točna \nMladi jelenček Bambi od prvih dni življenja občuduje vse\, kar ga obdaja. Ob njem je ljubeča mama\, ki ga uči osnovnih veščin za preživetje. Med odraščanjem Bambi sklepa prijateljstva z drugimi gozdnimi živalmi in spozna srnico Faline\, ki postane njegova spremljevalka. S prihodom jeseni Bambi ostane brez matere zaradi lovcev. Takrat odkrije\, da nad njim bdi njegov oče\, Princ\, ki ga uči\, kako se zaščititi pred nevarnostmi divjine in kako odrasti.
URL:https://kino-vrhnika.si/predstava/bambi-zivljenjska-pot-v-gozdu/
CATEGORIES:Art
ATTACH;FMTTYPE=image/png:https://kino-vrhnika.si/wp-content/uploads/2025/01/Bambi.png
END:VEVENT
BEGIN:VEVENT
DTSTART;TZID=Europe/Ljubljana:20250413T200000
DTEND;TZID=Europe/Ljubljana:20250413T213000
DTSTAMP:20260422T130305
CREATED:20250109T230000Z
LAST-MODIFIED:20250325T150321Z
UID:10430-1744574400-1744579800@kino-vrhnika.si
SUMMARY:Sveta krava
DESCRIPTION:Sveta krava\n13. 4. 2025 ob 20.00\nRežija: Louise Courvoisier\nIgrajo: Dimitri Baudry\, Maïwene Barthelemy\, Mathis Bernard\, Clément Favreau\, Luna Garret\nDolžina: Navedena dolžina filma ni točna \n“Sveta krava!” je francoska drama-komedija iz leta 2024\, ki jo je režirala Louise Courvoisier. Film pripoveduje zgodbo o Totoneju\, brezskrbnem najstniku\, ki odrašča na francoskem podeželju. Njegovo življenje se spremeni\, ko mora poskrbeti za svojo sedemletno sestrico Claire po smrti očeta. V iskanju zaslužka se odloči sodelovati na lokalnem tekmovanju v izdelavi sira comté\, kjer lahko osvoji denarno nagrado. S pomočjo prijateljev in prijazne sosede Marie-Lise se loti izziva\, vendar se stvari zapletejo\, ko se med njim in Marie-Lise razvijejo čustva. Film je bil premierno prikazan na filmskem festivalu v Cannesu\, kjer je prejel nagrado mladih v sekciji Posebni pogled.
URL:https://kino-vrhnika.si/predstava/sveta-krava/
CATEGORIES:Art
ATTACH;FMTTYPE=image/png:https://kino-vrhnika.si/wp-content/uploads/2025/01/Sveta-krava-2.png
END:VEVENT
BEGIN:VEVENT
DTSTART;TZID=Europe/Ljubljana:20250417T190000
DTEND;TZID=Europe/Ljubljana:20250417T203000
DTSTAMP:20260422T130305
CREATED:20250109T230000Z
LAST-MODIFIED:20250325T150325Z
UID:10432-1744916400-1744921800@kino-vrhnika.si
SUMMARY:Edina zemlja
DESCRIPTION:Edina zemlja\n17. 4. 2025 ob 19.00\nRežija: Basel Adra\nIgrajo: /\nDolžina: Navedena dolžina filma ni točna \nPalestinski aktivist Basel Adra že več let snema\, kako izraelski okupatorji uničujejo vasi v njegovi domači regiji Masafer Yatta. Med bojem za ohranitev svoje skupnosti splete nepričakovano zavezništvo z izraelskim novinarjem Yuvalom Abrahamom … Festivali\, nagrade Berlinale (nagrada občinstva v sekciji Panorama\, nagrada za najboljši dokumentarec); evropska filmska nagrada za najboljši dokumentarec; oskar za najboljši celovečerni dokumentarec; IDFA (nagrada občinstva); CPH:DOX (nagrada občinstva); Visions du Réel (nagrada občinstva); najboljši nefikcijski film po izboru ameriškega Nacionalnega združenja filmskih kritikov; Chicago (nagrada za najboljši dokumentarec); nagrada gotham za najboljši dokumentarec; Palm Springs (nagrada za najboljši dokumentarec); Vancouver (nagrada občinstva); Atene (nagrada za najboljši dokumentarec); Sarajevo (nagrada občinstva za najbolje dokumentarec); FDF Ljubljana
URL:https://kino-vrhnika.si/predstava/edina-zemlja/
CATEGORIES:Art
ATTACH;FMTTYPE=image/png:https://kino-vrhnika.si/wp-content/uploads/2025/01/Edina-zemlja.png
END:VEVENT
BEGIN:VEVENT
DTSTART;TZID=Europe/Ljubljana:20250418T180000
DTEND;TZID=Europe/Ljubljana:20250418T200000
DTSTAMP:20260422T130305
CREATED:20250109T230000Z
LAST-MODIFIED:20250325T150329Z
UID:10434-1744999200-1745006400@kino-vrhnika.si
SUMMARY:Kralj vseh kraljev
DESCRIPTION:Kralj vseh kraljev\n18. 4. 2025 ob 18.00\nRežija: Seong-ho Jang\nIgrajo: SInhronizirano v slovenščino\nDolžina: Navedena dolžina filma ni točna \nBiblijska zgodba o Jezusu Kristusu\, kot jo je pripovedoval Charles Dickens\, ki jo doživljamo skozi otroške oči ravno v času praznovanja Velike noči. Oče sinu pripoveduje največjo zgodbo vseh časov\, ki se iz preproste pravljice za lahko noč spremeni v življenjsko popotovanje. S pomočjo bujne domišljije deček hodi ob Jezusu\, priča njegovim čudežem\, se sooča z njegovimi preizkušnjami\, da bi razumel njegovo največjo žrtev. Film nas vabi\, da skozi oči otroka ponovno odkrijemo trajno moč upanja\, ljubezni in odrešitve.
URL:https://kino-vrhnika.si/predstava/kralj-vseh-kraljev/
CATEGORIES:Art
ATTACH;FMTTYPE=image/png:https://kino-vrhnika.si/wp-content/uploads/2025/01/Kraljv-2.png
END:VEVENT
BEGIN:VEVENT
DTSTART;TZID=Europe/Ljubljana:20250419T200000
DTEND;TZID=Europe/Ljubljana:20250419T220000
DTSTAMP:20260422T130305
CREATED:20250109T230000Z
LAST-MODIFIED:20250325T150335Z
UID:10439-1745092800-1745100000@kino-vrhnika.si
SUMMARY:Ravno obratno
DESCRIPTION:Ravno obratno\n19. 4. 2025 ob 20.00\nRežija: Jonás Trueba\nIgrajo: Itsaso Arana\, Vito Sanz\, Fernando Trueba\, Andrés Gertrúdix\, Francesco Carril.\nDolžina: Navedena dolžina filma ni točna \nAle (Itsaso Arana)\, filmska režiserka\, in Alex (Vito Sanz)\, igralec\, se po štirinajstih letih skupnega življenja odločita\, da bosta šla vsak svojo pot. Navdihnjena z idejo Aleinega očeta\, ki je nekoč dejal\, da bi bilo treba praznovati razhode namesto zakonov\, se odločita prirediti veliko ločitveno zabavo. Ta nenavadna odločitev pritegne različne goste\, vključno z družinskimi člani\, prijatelji in celo neznanci\, kar vodi v številne zabavne in nepričakovane situacije.Film raziskuje tematiko razhoda skozi igriv in duhovit pristop ter ponuja svež pogled na klasično komedijo ponovne poroke.
URL:https://kino-vrhnika.si/predstava/ravno-obratno/
CATEGORIES:Art
ATTACH;FMTTYPE=image/png:https://kino-vrhnika.si/wp-content/uploads/2025/01/Ravno-obratno.png
END:VEVENT
BEGIN:VEVENT
DTSTART;TZID=Europe/Ljubljana:20250420T180000
DTEND;TZID=Europe/Ljubljana:20250420T200000
DTSTAMP:20260422T130305
CREATED:20250109T230000Z
LAST-MODIFIED:20250326T151132Z
UID:10441-1745172000-1745179200@kino-vrhnika.si
SUMMARY:Kralj vseh kraljev
DESCRIPTION:Kralj vseh kraljev\n20. 4. 2025 ob 18.00\nRežija: Seong-ho Jang\nIgrajo: SInhronizirano v slovenščino\nDolžina: Navedena dolžina filma ni točna \nBiblijska zgodba o Jezusu Kristusu\, kot jo je pripovedoval Charles Dickens\, ki jo doživljamo skozi otroške oči ravno v času praznovanja Velike noči. Oče sinu pripoveduje največjo zgodbo vseh časov\, ki se iz preproste pravljice za lahko noč spremeni v življenjsko popotovanje. S pomočjo bujne domišljije deček hodi ob Jezusu\, priča njegovim čudežem\, se sooča z njegovimi preizkušnjami\, da bi razumel njegovo največjo žrtev. Film nas vabi\, da skozi oči otroka ponovno odkrijemo trajno moč upanja\, ljubezni in odrešitve.
URL:https://kino-vrhnika.si/predstava/kralj-vseh-kraljev-2/
CATEGORIES:Art
ATTACH;FMTTYPE=image/png:https://kino-vrhnika.si/wp-content/uploads/2025/01/Kraljv-2.png
END:VEVENT
BEGIN:VEVENT
DTSTART;TZID=Europe/Ljubljana:20250420T200000
DTEND;TZID=Europe/Ljubljana:20250420T213000
DTSTAMP:20260422T130305
CREATED:20250109T230000Z
LAST-MODIFIED:20250326T151324Z
UID:10442-1745179200-1745184600@kino-vrhnika.si
SUMMARY:Novi sošolci
DESCRIPTION:Novi sošolci\n20. 4. 2025 ob 20.00\nRežija: Toni Cahunek\nIgrajo: Suela Gashi\, Floralba Avdullahu\, Ledri Gashi\, Masar Maloku.\nDolžina: Navedena dolžina filma ni točna \nFilm spremlja štiri otroke priseljencev iz Kosova\, ki so se preselili v Slovenijo in se vključili v slovenske šole. Ponuja vpogled v njihove vsakdanje izzive\, kot so jezikovne ovire\, kulturne razlike in prilagajanje na novo okolje. Poleg tega izpostavlja tudi prizadevanja njihovih staršev\, ki se trudijo zagotoviti boljšo prihodnost svojim otrokom.Film vključuje nastope Suela Gashija\, Ledrija Gashija in Masarja Malokuja. Poleg njih so v filmu prisotni tudi Floralba Avdullahu\, Pranvera Lutolli\, Arbnore Avdylaj\, Lea Cahunek\, Mira Grabanica\, Kosovare Fangu in Matjaž Rakovec.
URL:https://kino-vrhnika.si/predstava/novi-sosolci/
CATEGORIES:Art
ATTACH;FMTTYPE=image/png:https://kino-vrhnika.si/wp-content/uploads/2025/01/Novi-sosolci.png
END:VEVENT
BEGIN:VEVENT
DTSTART;TZID=Europe/Ljubljana:20250427T170000
DTEND;TZID=Europe/Ljubljana:20250427T183000
DTSTAMP:20260422T130305
CREATED:20250109T230000Z
LAST-MODIFIED:20250326T151423Z
UID:10447-1745773200-1745778600@kino-vrhnika.si
SUMMARY:Bambi: Življenjska pot v gozdu
DESCRIPTION:Bambi: Življenjska pot v gozdu\n27. 4. 2025 ob 17.00\nRežija: Michel Fessler\nIgrajo: V slovenski sinhronizaciji pripoveduje Vesna Pernarčič.\nDolžina: Navedena dolžina filma ni točna \nMladi jelenček Bambi od prvih dni življenja občuduje vse\, kar ga obdaja. Ob njem je ljubeča mama\, ki ga uči osnovnih veščin za preživetje. Med odraščanjem Bambi sklepa prijateljstva z drugimi gozdnimi živalmi in spozna srnico Faline\, ki postane njegova spremljevalka. S prihodom jeseni Bambi ostane brez matere zaradi lovcev. Takrat odkrije\, da nad njim bdi njegov oče\, Princ\, ki ga uči\, kako se zaščititi pred nevarnostmi divjine in kako odrasti.
URL:https://kino-vrhnika.si/predstava/bambi-zivljenjska-pot-v-gozdu-2/
CATEGORIES:Art
ATTACH;FMTTYPE=image/png:https://kino-vrhnika.si/wp-content/uploads/2025/01/Bambi.png
END:VEVENT
BEGIN:VEVENT
DTSTART;TZID=Europe/Ljubljana:20250427T183000
DTEND;TZID=Europe/Ljubljana:20250427T200000
DTSTAMP:20260422T130305
CREATED:20250109T230000Z
LAST-MODIFIED:20250326T151454Z
UID:10448-1745778600-1745784000@kino-vrhnika.si
SUMMARY:Deset življenj
DESCRIPTION:Deset življenj\n27. 4. 2025 ob 18.30\nRežija: Chris Jenkins / Chris Jenkins\nIgrajo: SInhronizirano v slovenščino\nDolžina: Navedena dolžina filma ni točna \nDeset življenj je animirana družinska komedija\, ki spremlja zgodbo mačka\, ki je bil vse življenje malce sebičen in nezainteresiran za druge. Ko ugotovi\, da ima na voljo deset življenj\, dobi priložnost\, da skozi svoje dogodivščine popravi svoje napake in pomaga tistim\, ki jih je nekoč zanemaril. Na tej poti spoznava vrednost prijateljstva\, povezanosti in nesebičnosti\, kar prinaša tako zabavne kot ganljive trenutke. Film je vizualno osupljiv in prinaša globoko sporočilo\, ki nagovarja tako otroke kot odrasle.
URL:https://kino-vrhnika.si/predstava/deset-zivljenj-4/
CATEGORIES:Art
ATTACH;FMTTYPE=image/jpeg:https://kino-vrhnika.si/wp-content/uploads/2025/01/deset-zivljenj.jpg
END:VEVENT
BEGIN:VEVENT
DTSTART;TZID=Europe/Ljubljana:20250427T200000
DTEND;TZID=Europe/Ljubljana:20250427T220000
DTSTAMP:20260422T130305
CREATED:20250109T230000Z
LAST-MODIFIED:20250329T105324Z
UID:10449-1745784000-1745791200@kino-vrhnika.si
SUMMARY:Babičin vnuk
DESCRIPTION:Babičin vnuk\n27. 4. 2025 ob 20.00\nRežija: Pat Boonnitipat\nIgrajo: Putthipong Assaratanakul\, Usha Seamkhum\, Sanya Kunakorn\, Sarinrat Thomas\, Pongsatorn Jongwilas\, Tontawan Tantivejakul\nDolžina: Navedena dolžina filma ni točna \nMladi tajski režiser pomembna vprašanja o družini\, medgeneracijskih vezeh in iskanju sreče zapakira v ganljivo dramedijo\, ki je doma porušila vse rekorde gledanosti in prerasla v pravi kulturni fenomen. Pripeljite babico in ne pozabite na robčke! Ko babici Amah postavijo diagnozo neozdravljive bolezni\, mladi M zasluti priložnost: v upanju\, da bo njegova predanost nagrajena\, prevzame skrb zanjo. Toda izkaže se\, da starke ne bo tako lahko zadovoljiti. Za nameček M ni edini\, ki se poteguje za njeno dediščino. Čas pa se izteka …
URL:https://kino-vrhnika.si/predstava/babicin-vnuk/
CATEGORIES:Art
ATTACH;FMTTYPE=image/png:https://kino-vrhnika.si/wp-content/uploads/2025/01/Babicin-vnuk-1.png
END:VEVENT
BEGIN:VEVENT
DTSTART;TZID=Europe/Ljubljana:20250429T100000
DTEND;TZID=Europe/Ljubljana:20250429T120000
DTSTAMP:20260422T130305
CREATED:20250109T230000Z
LAST-MODIFIED:20250326T151529Z
UID:10451-1745920800-1745928000@kino-vrhnika.si
SUMMARY:Houria
DESCRIPTION:Houria\n29. 4. 2025 ob 10.00\nRežija: Mounia Meddour\nIgrajo: Lyna Khoudri kot Houria Rachida Brakni Marwan Fares Amira Hilda Douaouda Nadia Kaci\nDolžina: Navedena dolžina filma ni točna \n»Houria« je alžirsko-francosko-belgijska drama iz leta 2022\, ki jo je režirala Mounia Meddour. Film spremlja zgodbo mlade in nadarjene balerine Hourie (Lyna Khoudri)\, ki živi v Alžiru. Čez dan dela kot čistilka\, ponoči pa se udeležuje tajnih stav. Po eni od zmag v podzemnem bojišču jo napade moški po imenu Ali\, kar vodi v hudo poškodbo. Po prebuditvi v bolnišnici izve\, da ne more govoriti in verjetno nikoli več ne bo mogla plesati. Kljub temu se odloči\, da bo nadaljevala s fizično rehabilitacijo in skušala ponovno najti smisel v življenju.
URL:https://kino-vrhnika.si/predstava/houria/
CATEGORIES:Art
ATTACH;FMTTYPE=image/png:https://kino-vrhnika.si/wp-content/uploads/2025/01/Houria.png
END:VEVENT
END:VCALENDAR