BEGIN:VCALENDAR
VERSION:2.0
PRODID:-//Kino Vrhnika - ECPv6.7.1//NONSGML v1.0//EN
CALSCALE:GREGORIAN
METHOD:PUBLISH
X-ORIGINAL-URL:https://kino-vrhnika.si
X-WR-CALDESC:Dogodki za Kino Vrhnika
REFRESH-INTERVAL;VALUE=DURATION:PT1H
X-Robots-Tag:noindex
X-PUBLISHED-TTL:PT1H
BEGIN:VTIMEZONE
TZID:Europe/Ljubljana
BEGIN:DAYLIGHT
TZOFFSETFROM:+0100
TZOFFSETTO:+0200
TZNAME:CEST
DTSTART:20250330T010000
END:DAYLIGHT
BEGIN:STANDARD
TZOFFSETFROM:+0200
TZOFFSETTO:+0100
TZNAME:CET
DTSTART:20251026T010000
END:STANDARD
END:VTIMEZONE
BEGIN:VEVENT
DTSTART;TZID=Europe/Ljubljana:20250327T100000
DTEND;TZID=Europe/Ljubljana:20250327T113000
DTSTAMP:20260422T143832
CREATED:20250211T230000Z
LAST-MODIFIED:20250325T150144Z
UID:10179-1743069600-1743075000@kino-vrhnika.si
SUMMARY:Samota
DESCRIPTION:Samota\n27. 3. 2025 ob 10.00\nRežija: Ninna Pálmadóttir\nIgrajo: Þhröstur Leó Gunnarsson\, Hermann Samúelsson\, Anna Gunndís Guðmundsdóttir\, Hjörtur Jóhann Jónsson\, Jóel Sæmundsson\nDolžina: Navedena dolžina filma ni točna \nStari Gunnar živi mirno in preprosto življenje na samotni kmetiji na islandskem podeželju. Nekega dne pa ga obišče možakar s kravato\, ki ga obvesti\, da bo moral zaradi gradnje jezu zapustiti svoj dom. Gunnar stoično sprejme odškodnino\, proda svoje konje in se preseli v mesto. Tam spozna desetletnega Arija\, ki po soseski raznaša časopise …
URL:https://kino-vrhnika.si/predstava/samota/
CATEGORIES:Art
ATTACH;FMTTYPE=image/png:https://kino-vrhnika.si/wp-content/uploads/2025/02/Samota-1.png
END:VEVENT
BEGIN:VEVENT
DTSTART;TZID=Europe/Ljubljana:20250329T170000
DTEND;TZID=Europe/Ljubljana:20250329T183000
DTSTAMP:20260422T143832
CREATED:20250211T230000Z
LAST-MODIFIED:20250325T220155Z
UID:10181-1743267600-1743273000@kino-vrhnika.si
SUMMARY:Ponisrček
DESCRIPTION:Ponisrček\n(podnaslovljeno) ** Film je podnaslovjen in ne sinhroniziran.\n29. 3. 2025 ob 17.00\nRežija: Markus Dietrich\nIgrajo: Nilam Farooq\, Dieter Hallervorden\, Sophie Lutz\, Christoph Letkowski\, Anna Schudt\, Peter Lohmeyer\, Martha Haberlandt\, Franz Krause\, Amelie Trinks\, Felizia Trub. Pripovedovanje v slovenščini.\nDolžina: Navedena dolžina filma ni točna \nEnajstletna Anni se ob selitvi iz mesta na podeželje težko znajde. Starša imata veliko dela\, paziti mora mlajšega bratca\, nove sošolke pa so prave nadloge. Še sreča\, da je v razredu tudi Lorenz\, ki ima doma konje. Anni ugotovi\, da se z njimi odlično razume\, morda celo bolje kot z ljudmi. Naleti na neukročenega konja Ponisrčka\, s katerim čuti čarobno povezanost. Toda kmalu zatem je njuno prijateljstvo ogroženo\, saj se nekaj neusmiljenih konjskih tatov loti Ponisrčkove črede. Anne v dogodivščini najde sebe\, nove prijatelje in svoje poslanstvo.
URL:https://kino-vrhnika.si/predstava/ponisrcek/
CATEGORIES:Art
ATTACH;FMTTYPE=image/png:https://kino-vrhnika.si/wp-content/uploads/2025/02/Ponisrcek.png
END:VEVENT
BEGIN:VEVENT
DTSTART;TZID=Europe/Ljubljana:20250330T190000
DTEND;TZID=Europe/Ljubljana:20250330T210000
DTSTAMP:20260422T143832
CREATED:20250211T230000Z
LAST-MODIFIED:20250325T145952Z
UID:10186-1743361200-1743368400@kino-vrhnika.si
SUMMARY:Praslovan
DESCRIPTION:Praslovan\n30. 3. 2025 ob 19.00\nRežija: Slobodan Maksimović\nIgrajo: Zoran Predin kot on sam\, Barbara Lapajne-Predin kot ona sama\, Đorđe Balašević kot on sam\, Gabi Novak kot ona sama\, Robert Pešut – Magnifico kot on sam\, Branko Đurić kot on sam\, Boris Dežulović kot on sam\, Petar ‘Peca’ Popović kot on sam\, Miljenko Jergović kot on sam.\nDolžina: Navedena dolžina filma ni točna \nFilm sledi Predinovi poti od mladosti v delavskem Mariboru\, kjer je začel svojo glasbeno pot\, do vrhunca slave z bendom Lačni Franz in njegove uspešne solo kariere\, ki ga je utrdila kot ikono glasbene scene. Prikazuje skrite zgodbe iz njegovega življenja in dela\, nekatere zabavne\, druge zelo osebne\, pa tudi žalostne ali celo tragične. Ker je Zoranova narava nagajiva\, je takšen tudi dokumentarec.”Praslovan” je celovečerni dokumentarni film iz leta 2024\, ki ga je režiral Slobodan Maksimović. Film predstavlja čustveno in navdihujočo biografsko dramo o življenju in karieri Zorana Predina\, enega najpomembnejših kantavtorjev nekdanje Jugoslavije. Na Festivalu slovenskega filma 2024 je prejel nagrado Vesna za najboljši film po izboru občinstva.
URL:https://kino-vrhnika.si/predstava/praslovan/
CATEGORIES:Art
ATTACH;FMTTYPE=image/png:https://kino-vrhnika.si/wp-content/uploads/2025/02/Praslovan.png
END:VEVENT
END:VCALENDAR