BEGIN:VCALENDAR
VERSION:2.0
PRODID:-//Kino Vrhnika - ECPv6.7.1//NONSGML v1.0//EN
CALSCALE:GREGORIAN
METHOD:PUBLISH
X-WR-CALNAME:Kino Vrhnika
X-ORIGINAL-URL:https://kino-vrhnika.si
X-WR-CALDESC:Dogodki za Kino Vrhnika
REFRESH-INTERVAL;VALUE=DURATION:PT1H
X-Robots-Tag:noindex
X-PUBLISHED-TTL:PT1H
BEGIN:VTIMEZONE
TZID:Europe/Ljubljana
BEGIN:DAYLIGHT
TZOFFSETFROM:+0100
TZOFFSETTO:+0200
TZNAME:CEST
DTSTART:20260329T010000
END:DAYLIGHT
BEGIN:STANDARD
TZOFFSETFROM:+0200
TZOFFSETTO:+0100
TZNAME:CET
DTSTART:20261025T010000
END:STANDARD
END:VTIMEZONE
BEGIN:VEVENT
DTSTART;TZID=Europe/Ljubljana:20260412T180000
DTEND;TZID=Europe/Ljubljana:20260412T194000
DTSTAMP:20260421T145623
CREATED:20260322T212102Z
LAST-MODIFIED:20260324T133405Z
UID:13146-1776016800-1776022800@kino-vrhnika.si
SUMMARY:Super Mario: Galaktični film
DESCRIPTION:Super Mario: Galaktični film\n12. 4. 2026 ob 18.00\nRežija: Aaron Horvath\, Michael Jelenic\nIgrajo: animirani film\, sinhronizirano\nDolžina: Navedena dolžina filma ni točna \nPustolovščina enega najvidnejših vodovodarjev pop kulture v zadnjih desetletjih se nadaljuje! Prihaja namreč nadaljevanje izjemne uspešnice iz leta 2023\, ki temelji na Nintendovih igrah\, v kateri zaigra ikonični lik Mario. Potem ko brata vodovodarja Mario in Luigi premagata Bowserja in rešita Brooklyn\, se sedaj soočata z grožnjami Bowserjevega sina\, Bowserja mlajšega\, ki skuša rešiti svojega očeta\, ki se je pomanjšal in ždi v zaporu. Mario mora skupaj s prijatelji ustaviti njegove načrte za prevlado nad svetom.
URL:https://kino-vrhnika.si/predstava/super-mario-galakticni-film-2/
ATTACH;FMTTYPE=image/png:https://kino-vrhnika.si/wp-content/uploads/2026/03/Super-Mario.png
END:VEVENT
BEGIN:VEVENT
DTSTART;TZID=Europe/Ljubljana:20260412T200000
DTEND;TZID=Europe/Ljubljana:20260412T214500
DTSTAMP:20260421T145623
CREATED:20260322T212104Z
LAST-MODIFIED:20260324T133450Z
UID:13147-1776024000-1776030300@kino-vrhnika.si
SUMMARY:Drama
DESCRIPTION:Drama\n12. 4. 2026 ob 20.00\nRežija: Kristoffer Borgli\nIgrajo: Zendaya\, Robert Pattinson\, Alana Haim\nDolžina: Navedena dolžina filma ni točna \nFilm spremlja zaročenca\, ki se v tednu pred poroko znajdeta sredi nepričakovanega čustvenega pretresa. Popolni načrti se začnejo krhati\, ko ju preplavijo dvomi\, neizrečene zamere in pritiski okolice. Med pripravami\, obdarjenimi z humorjem\, nelagodjem in nežnimi trenutki\, se razkrivajo razpoke v njuni idealizirani zvezi. Film z izjemnima igralskima vlogama in natančno režijo raziskuje ranljivost sodobnih odnosov ter izpostavi\, kako hitro romantična idila podleže realnosti.
URL:https://kino-vrhnika.si/predstava/drama/
ATTACH;FMTTYPE=image/png:https://kino-vrhnika.si/wp-content/uploads/2026/03/Drama.png
END:VEVENT
END:VCALENDAR